BEGIN:VCALENDAR
VERSION:2.0
PRODID:-//Arsha Vidya Gurukulam - ECPv6.15.16//NONSGML v1.0//EN
CALSCALE:GREGORIAN
METHOD:PUBLISH
X-WR-CALNAME:Arsha Vidya Gurukulam
X-ORIGINAL-URL:https://arshavidya.org
X-WR-CALDESC:Events for Arsha Vidya Gurukulam
REFRESH-INTERVAL;VALUE=DURATION:PT1H
X-Robots-Tag:noindex
X-PUBLISHED-TTL:PT1H
BEGIN:VTIMEZONE
TZID:America/New_York
BEGIN:DAYLIGHT
TZOFFSETFROM:-0500
TZOFFSETTO:-0400
TZNAME:EDT
DTSTART:20250309T070000
END:DAYLIGHT
BEGIN:STANDARD
TZOFFSETFROM:-0400
TZOFFSETTO:-0500
TZNAME:EST
DTSTART:20251102T060000
END:STANDARD
BEGIN:DAYLIGHT
TZOFFSETFROM:-0500
TZOFFSETTO:-0400
TZNAME:EDT
DTSTART:20260308T070000
END:DAYLIGHT
BEGIN:STANDARD
TZOFFSETFROM:-0400
TZOFFSETTO:-0500
TZNAME:EST
DTSTART:20261101T060000
END:STANDARD
BEGIN:DAYLIGHT
TZOFFSETFROM:-0500
TZOFFSETTO:-0400
TZNAME:EDT
DTSTART:20270314T070000
END:DAYLIGHT
BEGIN:STANDARD
TZOFFSETFROM:-0400
TZOFFSETTO:-0500
TZNAME:EST
DTSTART:20271107T060000
END:STANDARD
END:VTIMEZONE
BEGIN:VEVENT
DTSTART;TZID=America/New_York:20260403T193000
DTEND;TZID=America/New_York:20260405T120000
DTSTAMP:20260420T095319
CREATED:20260209T181615Z
LAST-MODIFIED:20260403T005547Z
UID:37455-1775244600-1775390400@arshavidya.org
SUMMARY:2026 Easter Weekend Vedanta Course with Swami Muktatmananda
DESCRIPTION:In-Person and Online \nTOPIC: Silence In Spite of Thoughts \nTEACHER: Swami Muktatmananda \nREGISTRATION (for In-Person participation):\nOnline Registration\nor\nContact Karthik R at avg.karthikr@gmail.com \nVIEW ON YOUTUBE (free) \nDESCRIPTION:\nThe normal process of thinking is a chain of many and varied thoughts. We get carried away on the thoughts and find ourselves caught in a superficial\, reactive\, and mechanical form of thinking. Our scriptures discuss a way in which you can have many thoughts but\, at the same time\, discover the silence between the thoughts. \nIn this retreat\, Swamiji will lead sessions that combine meditation\, teaching\, and practice time to enable attendees to develop the knack of being with yourself\, the silence in spite of thoughts. \nSCHEDULE:\nAll Times are Eastern Time (ET\, UTC-4) \nFriday\, 3rd April\n7:30 pm to 8:30 pm ET –> Orientation and Satsang (Q&A) at the Temple Hall\n\nSaturday 4th April\n7:00am to 7:30am –> Guided Meditation\n9:00am to 10:00am –> Class 1 (at Temple Hall)\n11:00am to 12:00 noon –> Class 2\n4:00pm to 5:00pm –> Class 3\n7:30pm to 8:30pm –> Satsang (Q & A Session)\n\nSunday\, 5th April\n\n7:00am to 7:30am –> Guided Meditation\n9:00am to 10:00am –> Class 1 (Silence in Spite of Thoughts)\n\n10:00am to 10:30am –> Gurudakshina\n11:00am to 12:00pm –> Bhagavad Gita class (Chapter 11)
URL:https://arshavidya.org/event/2026-easter-weekend-vedanta-course-with-swami-muktatmananda/
LOCATION:Arsha Vidya Gurukulam\, 651 Route 115\, Saylorsburg\, PA\, 18353\, United States
CATEGORIES:Retreats
ATTACH;FMTTYPE=image/png:https://arshavidya.org/wp-content/uploads/SwM2021_Still4.png
GEO:40.8876814;-75.3129654
X-APPLE-STRUCTURED-LOCATION;VALUE=URI;X-ADDRESS=Arsha Vidya Gurukulam 651 Route 115 Saylorsburg PA 18353 United States;X-APPLE-RADIUS=500;X-TITLE=651 Route 115:geo:-75.3129654,40.8876814
END:VEVENT
END:VCALENDAR