BEGIN:VCALENDAR
VERSION:2.0
PRODID:-//Arsha Vidya Gurukulam - ECPv6.15.16//NONSGML v1.0//EN
CALSCALE:GREGORIAN
METHOD:PUBLISH
X-WR-CALNAME:Arsha Vidya Gurukulam
X-ORIGINAL-URL:https://arshavidya.org
X-WR-CALDESC:Events for Arsha Vidya Gurukulam
REFRESH-INTERVAL;VALUE=DURATION:PT1H
X-Robots-Tag:noindex
X-PUBLISHED-TTL:PT1H
BEGIN:VTIMEZONE
TZID:America/New_York
BEGIN:DAYLIGHT
TZOFFSETFROM:-0500
TZOFFSETTO:-0400
TZNAME:EDT
DTSTART:20230312T070000
END:DAYLIGHT
BEGIN:STANDARD
TZOFFSETFROM:-0400
TZOFFSETTO:-0500
TZNAME:EST
DTSTART:20231105T060000
END:STANDARD
BEGIN:DAYLIGHT
TZOFFSETFROM:-0500
TZOFFSETTO:-0400
TZNAME:EDT
DTSTART:20240310T070000
END:DAYLIGHT
BEGIN:STANDARD
TZOFFSETFROM:-0400
TZOFFSETTO:-0500
TZNAME:EST
DTSTART:20241103T060000
END:STANDARD
BEGIN:DAYLIGHT
TZOFFSETFROM:-0500
TZOFFSETTO:-0400
TZNAME:EDT
DTSTART:20250309T070000
END:DAYLIGHT
BEGIN:STANDARD
TZOFFSETFROM:-0400
TZOFFSETTO:-0500
TZNAME:EST
DTSTART:20251102T060000
END:STANDARD
END:VTIMEZONE
BEGIN:VEVENT
DTSTART;TZID=America/New_York:20241022T193000
DTEND;TZID=America/New_York:20241022T203000
DTSTAMP:20260421T213337
CREATED:20241018T213723Z
LAST-MODIFIED:20241018T213723Z
UID:10006499-1729625400-1729629000@arshavidya.org
SUMMARY:Aitareya Upanishad Samvada Enactment
DESCRIPTION:Participants in the 2024 Five-Week Vedanta Course at Arsha Vidya Gurukulam enact a samvada dialogue based on Swami Tattvavidananda’s unfolding of the Aitareya Upanishad. \nAitareya Upaniṣad ~ The only one of the ten upaniṣads commented upon by Śrī Ādi Śaṅkarācārya that is from the Ṛg Veda\, Aitareya Upaniṣad is a relatively brief text. With powerful and fascinating imagery\, it covers the major themes of the creation of the universe\, the birth of the individual\, and the nature of consciousness. Swamiji unfolded this rarely taught text\, presenting its full scope and depth. \nRecordings of the course are available from Arsha Vidya Bookstore. avgbooks.org
URL:https://arshavidya.org/event/aitareya-upanishad-samvada-enactment/
LOCATION:Arsha Vidya Gurukulam\, 651 Route 115\, Saylorsburg\, PA\, 18353\, United States
CATEGORIES:Special Event
ATTACH;FMTTYPE=image/jpeg:https://arshavidya.org/wp-content/uploads/BackdropGraphic2024.jpg
GEO:40.8876814;-75.3129654
X-APPLE-STRUCTURED-LOCATION;VALUE=URI;X-ADDRESS=Arsha Vidya Gurukulam 651 Route 115 Saylorsburg PA 18353 United States;X-APPLE-RADIUS=500;X-TITLE=651 Route 115:geo:-75.3129654,40.8876814
END:VEVENT
END:VCALENDAR