BEGIN:VCALENDAR
VERSION:2.0
PRODID:-//Arsha Vidya Gurukulam - ECPv6.15.16//NONSGML v1.0//EN
CALSCALE:GREGORIAN
METHOD:PUBLISH
X-ORIGINAL-URL:https://arshavidya.org
X-WR-CALDESC:Events for Arsha Vidya Gurukulam
REFRESH-INTERVAL;VALUE=DURATION:PT1H
X-Robots-Tag:noindex
X-PUBLISHED-TTL:PT1H
BEGIN:VTIMEZONE
TZID:America/New_York
BEGIN:DAYLIGHT
TZOFFSETFROM:-0500
TZOFFSETTO:-0400
TZNAME:EDT
DTSTART:20230312T070000
END:DAYLIGHT
BEGIN:STANDARD
TZOFFSETFROM:-0400
TZOFFSETTO:-0500
TZNAME:EST
DTSTART:20231105T060000
END:STANDARD
BEGIN:DAYLIGHT
TZOFFSETFROM:-0500
TZOFFSETTO:-0400
TZNAME:EDT
DTSTART:20240310T070000
END:DAYLIGHT
BEGIN:STANDARD
TZOFFSETFROM:-0400
TZOFFSETTO:-0500
TZNAME:EST
DTSTART:20241103T060000
END:STANDARD
BEGIN:DAYLIGHT
TZOFFSETFROM:-0500
TZOFFSETTO:-0400
TZNAME:EDT
DTSTART:20250309T070000
END:DAYLIGHT
BEGIN:STANDARD
TZOFFSETFROM:-0400
TZOFFSETTO:-0500
TZNAME:EST
DTSTART:20251102T060000
END:STANDARD
BEGIN:DAYLIGHT
TZOFFSETFROM:-0500
TZOFFSETTO:-0400
TZNAME:EDT
DTSTART:20260308T070000
END:DAYLIGHT
BEGIN:STANDARD
TZOFFSETFROM:-0400
TZOFFSETTO:-0500
TZNAME:EST
DTSTART:20261101T060000
END:STANDARD
END:VTIMEZONE
BEGIN:VEVENT
DTSTART;TZID=America/New_York:20241231T091500
DTEND;TZID=America/New_York:20241231T123000
DTSTAMP:20260420T221135
CREATED:20241227T051609Z
LAST-MODIFIED:20241227T051609Z
UID:10006668-1735636500-1735648200@arshavidya.org
SUMMARY:2024 Dakshinamurti Mula Mantra Japa and Abhisheka to Lord Dakshinamurti
DESCRIPTION:In-Person and Online \nView on YouTube \nOm namo bhagavate Dakshinamurtaye mahyam sriyam medham prajnam prayaccha svaha  \nOM – UNTO THE LORD DAKSHINAMURTI\, SALUTATION. BLESS ME WITH PROSPERITY\, POWER OF MEMORY\, POWER OF THINKING AND CLARITY OF KNOWLEDGE. THIS CHANTING IS MY OFFERING TO YOU. \nDakshinamurti Temple\nArsha Vidya Gurukulam\n651 Route 115\nSaylorsburg\, Pennsylvania \nNo pre-registration required.
URL:https://arshavidya.org/event/2024-dakshinamurti-mula-mantra-japa-and-abhisheka-to-lord-dakshinamurti/
LOCATION:Arsha Vidya Gurukulam\, 651 Route 115\, Saylorsburg\, PA\, 18353\, United States
CATEGORIES:Special Event
ATTACH;FMTTYPE=image/jpeg:https://arshavidya.org/wp-content/uploads/Dakshinamurti_0498-web-scaled.jpg
GEO:40.8876814;-75.3129654
X-APPLE-STRUCTURED-LOCATION;VALUE=URI;X-ADDRESS=Arsha Vidya Gurukulam 651 Route 115 Saylorsburg PA 18353 United States;X-APPLE-RADIUS=500;X-TITLE=651 Route 115:geo:-75.3129654,40.8876814
END:VEVENT
BEGIN:VEVENT
DTSTART;TZID=America/New_York:20250101T091500
DTEND;TZID=America/New_York:20250101T123000
DTSTAMP:20260420T221135
CREATED:20241227T052431Z
LAST-MODIFIED:20241227T052431Z
UID:10006669-1735722900-1735734600@arshavidya.org
SUMMARY:2025 New Year's Day Program
DESCRIPTION:In-Person and Online \nView on YouTube \nSpecial Rudrabhishekam\nAlankara\nNew Year’s Messages by Swamijis\nPushparchana and Diparadhanam \nDakshinamurti Temple\n651 Route 115\nSaylorsburg\, Pennsylvania \nNo pre-registration required. \nLive stream commences after Sankalpa including names of all sponsors.
URL:https://arshavidya.org/event/2025-new-years-day-program/
LOCATION:Arsha Vidya Gurukulam\, 651 Route 115\, Saylorsburg\, PA\, 18353\, United States
CATEGORIES:Puja,Special Event
ATTACH;FMTTYPE=image/jpeg:https://arshavidya.org/wp-content/uploads/DakshinamurtiMahaAbhisheka-web.jpg
GEO:40.8876814;-75.3129654
X-APPLE-STRUCTURED-LOCATION;VALUE=URI;X-ADDRESS=Arsha Vidya Gurukulam 651 Route 115 Saylorsburg PA 18353 United States;X-APPLE-RADIUS=500;X-TITLE=651 Route 115:geo:-75.3129654,40.8876814
END:VEVENT
END:VCALENDAR