BEGIN:VCALENDAR
VERSION:2.0
PRODID:-//Arsha Vidya Gurukulam - ECPv6.15.16//NONSGML v1.0//EN
CALSCALE:GREGORIAN
METHOD:PUBLISH
X-WR-CALNAME:Arsha Vidya Gurukulam
X-ORIGINAL-URL:https://arshavidya.org
X-WR-CALDESC:Events for Arsha Vidya Gurukulam
REFRESH-INTERVAL;VALUE=DURATION:PT1H
X-Robots-Tag:noindex
X-PUBLISHED-TTL:PT1H
BEGIN:VTIMEZONE
TZID:America/New_York
BEGIN:DAYLIGHT
TZOFFSETFROM:-0500
TZOFFSETTO:-0400
TZNAME:EDT
DTSTART:20240310T070000
END:DAYLIGHT
BEGIN:STANDARD
TZOFFSETFROM:-0400
TZOFFSETTO:-0500
TZNAME:EST
DTSTART:20241103T060000
END:STANDARD
BEGIN:DAYLIGHT
TZOFFSETFROM:-0500
TZOFFSETTO:-0400
TZNAME:EDT
DTSTART:20250309T070000
END:DAYLIGHT
BEGIN:STANDARD
TZOFFSETFROM:-0400
TZOFFSETTO:-0500
TZNAME:EST
DTSTART:20251102T060000
END:STANDARD
BEGIN:DAYLIGHT
TZOFFSETFROM:-0500
TZOFFSETTO:-0400
TZNAME:EDT
DTSTART:20260308T070000
END:DAYLIGHT
BEGIN:STANDARD
TZOFFSETFROM:-0400
TZOFFSETTO:-0500
TZNAME:EST
DTSTART:20261101T060000
END:STANDARD
BEGIN:DAYLIGHT
TZOFFSETFROM:-0500
TZOFFSETTO:-0400
TZNAME:EDT
DTSTART:20270314T070000
END:DAYLIGHT
BEGIN:STANDARD
TZOFFSETFROM:-0400
TZOFFSETTO:-0500
TZNAME:EST
DTSTART:20271107T060000
END:STANDARD
END:VTIMEZONE
BEGIN:VEVENT
DTSTART;TZID=America/New_York:20251231T150000
DTEND;TZID=America/New_York:20251231T193000
DTSTAMP:20260416T214555
CREATED:20251208T021425Z
LAST-MODIFIED:20251221T025948Z
UID:10018350-1767193200-1767209400@arshavidya.org
SUMMARY:2025 Moola Mantra Japam
DESCRIPTION:In-Person and Online \nView on YouTube \nProgram Details:\nJapam Starts @ 3:00 pm ET\nRudrabhishekam with 108 Kalasams @ 6:00 pm ET \nDec 31st is also Pradhosham Day \nAll are welcome to participate in Moola Mantra Japam and Rudrabhishekam \nArsha Vidya Gurukulam\nDakshinamurti Temple\n651 Route 115\nSaylorsburg\, Pennsylvania
URL:https://arshavidya.org/event/2025-moola-mantra-japam/
LOCATION:Arsha Vidya Gurukulam\, 651 Route 115\, Saylorsburg\, PA\, 18353\, United States
CATEGORIES:Pradosha puja,Special Event
ATTACH;FMTTYPE=image/jpeg:https://arshavidya.org/wp-content/uploads/DakshinamurtiMahaAbhisheka-web.jpg
GEO:40.8876814;-75.3129654
X-APPLE-STRUCTURED-LOCATION;VALUE=URI;X-ADDRESS=Arsha Vidya Gurukulam 651 Route 115 Saylorsburg PA 18353 United States;X-APPLE-RADIUS=500;X-TITLE=651 Route 115:geo:-75.3129654,40.8876814
END:VEVENT
BEGIN:VEVENT
DTSTART;TZID=America/New_York:20260101T093000
DTEND;TZID=America/New_York:20260101T123000
DTSTAMP:20260416T214555
CREATED:20251126T004734Z
LAST-MODIFIED:20260101T060454Z
UID:10018310-1767259800-1767270600@arshavidya.org
SUMMARY:2026 New Year's Day Program
DESCRIPTION:In-Person and Online \nNo pre-registration required. \nView on YouTube\nLive stream commences after Sankalpa including names of all sponsors. \nMaharudrabhishekam\nNew Year’s Message from Swami Viditatmanandaji\nArati\nLunch \nDakshinamurti Temple\nArsha Vidya Gurukulam\n651 Route 115\nSaylorsburg\, Pennsylvania \n  \n 
URL:https://arshavidya.org/event/2026-new-years-day-program/
LOCATION:Arsha Vidya Gurukulam\, 651 Route 115\, Saylorsburg\, PA\, 18353\, United States
CATEGORIES:Puja,Special Event
ATTACH;FMTTYPE=image/png:https://arshavidya.org/wp-content/uploads/Dakshinamurti_2021_6.png
GEO:40.8876814;-75.3129654
X-APPLE-STRUCTURED-LOCATION;VALUE=URI;X-ADDRESS=Arsha Vidya Gurukulam 651 Route 115 Saylorsburg PA 18353 United States;X-APPLE-RADIUS=500;X-TITLE=651 Route 115:geo:-75.3129654,40.8876814
END:VEVENT
END:VCALENDAR