BEGIN:VCALENDAR
VERSION:2.0
PRODID:-//Arsha Vidya Gurukulam - ECPv6.15.16//NONSGML v1.0//EN
CALSCALE:GREGORIAN
METHOD:PUBLISH
X-WR-CALNAME:Arsha Vidya Gurukulam
X-ORIGINAL-URL:https://arshavidya.org
X-WR-CALDESC:Events for Arsha Vidya Gurukulam
REFRESH-INTERVAL;VALUE=DURATION:PT1H
X-Robots-Tag:noindex
X-PUBLISHED-TTL:PT1H
BEGIN:VTIMEZONE
TZID:America/New_York
BEGIN:DAYLIGHT
TZOFFSETFROM:-0500
TZOFFSETTO:-0400
TZNAME:EDT
DTSTART:20230312T070000
END:DAYLIGHT
BEGIN:STANDARD
TZOFFSETFROM:-0400
TZOFFSETTO:-0500
TZNAME:EST
DTSTART:20231105T060000
END:STANDARD
BEGIN:DAYLIGHT
TZOFFSETFROM:-0500
TZOFFSETTO:-0400
TZNAME:EDT
DTSTART:20240310T070000
END:DAYLIGHT
BEGIN:STANDARD
TZOFFSETFROM:-0400
TZOFFSETTO:-0500
TZNAME:EST
DTSTART:20241103T060000
END:STANDARD
BEGIN:DAYLIGHT
TZOFFSETFROM:-0500
TZOFFSETTO:-0400
TZNAME:EDT
DTSTART:20250309T070000
END:DAYLIGHT
BEGIN:STANDARD
TZOFFSETFROM:-0400
TZOFFSETTO:-0500
TZNAME:EST
DTSTART:20251102T060000
END:STANDARD
END:VTIMEZONE
BEGIN:VEVENT
DTSTART;TZID=America/New_York:20241125T103000
DTEND;TZID=America/New_York:20241125T113000
DTSTAMP:20260420T044000
CREATED:20240913T155423Z
LAST-MODIFIED:20241130T002815Z
UID:10005740-1732530600-1732534200@arshavidya.org
SUMMARY:Mandukya Upanishad Karika with Swami Muktatmananda ONLINE ONLY
DESCRIPTION:ONLINE ONLY \nMandukya Karika \nZOOM MEETING LINK \nDonation Link \n 
URL:https://arshavidya.org/event/panchadashi-with-swami-muktatmananda-online-only/2024-11-25/
LOCATION:Online\, PA\, United States
CATEGORIES:Ongoing,Study Online
ATTACH;FMTTYPE=image/png:https://arshavidya.org/wp-content/uploads/SwM2020_Mundakopanishad-1.png
END:VEVENT
BEGIN:VEVENT
DTSTART;TZID=America/New_York:20241127T103000
DTEND;TZID=America/New_York:20241127T113000
DTSTAMP:20260420T044000
CREATED:20240913T155423Z
LAST-MODIFIED:20241130T002815Z
UID:10005741-1732703400-1732707000@arshavidya.org
SUMMARY:Mandukya Upanishad Karika with Swami Muktatmananda ONLINE ONLY
DESCRIPTION:ONLINE ONLY \nMandukya Karika \nZOOM MEETING LINK \nDonation Link \n 
URL:https://arshavidya.org/event/panchadashi-with-swami-muktatmananda-online-only/2024-11-27/
LOCATION:Online\, PA\, United States
CATEGORIES:Ongoing,Study Online
ATTACH;FMTTYPE=image/png:https://arshavidya.org/wp-content/uploads/SwM2020_Mundakopanishad-1.png
END:VEVENT
BEGIN:VEVENT
DTSTART;TZID=America/New_York:20241127T200000
DTEND;TZID=America/New_York:20241127T210000
DTSTAMP:20260420T044000
CREATED:20240710T194438Z
LAST-MODIFIED:20250707T162810Z
UID:10005310-1732737600-1732741200@arshavidya.org
SUMMARY:Shrimad Bhagavatam Study with Brhm. Pratyagatma Chaitanya ONLINE ONLY
DESCRIPTION:Online Series \n\n\nTOPIC:\nShrimad Bhagavatam is a Mahapurana written by Sage Veda Vyasa. In these classes\, the text is studied verse by verse based on Shridhari tika. \n\n\nTEACHER:\nBrhm. Pratyagaatma Chaitanya \n\n\nJOIN ZOOM MEETING \n\n\nZoom ID: 871 6283 5263 \, Passcode: 495411
URL:https://arshavidya.org/event/shrimad-bhagavatam-study-with-brhm-pratyagaatma-chaitanya-online-only/2024-11-27/
LOCATION:Arsha Vidya Gurukulam\, 651 Route 115\, Saylorsburg\, PA\, 18353\, United States
CATEGORIES:Recurring,Study Online
ATTACH;FMTTYPE=image/jpeg:https://arshavidya.org/wp-content/uploads/Pratyagatmaji-scaled-e1720644848109.jpg
GEO:40.8876814;-75.3129654
X-APPLE-STRUCTURED-LOCATION;VALUE=URI;X-ADDRESS=Arsha Vidya Gurukulam 651 Route 115 Saylorsburg PA 18353 United States;X-APPLE-RADIUS=500;X-TITLE=651 Route 115:geo:-75.3129654,40.8876814
END:VEVENT
BEGIN:VEVENT
DTSTART;TZID=America/New_York:20241128T200000
DTEND;TZID=America/New_York:20241201T123000
DTSTAMP:20260420T044000
CREATED:20241113T080819Z
LAST-MODIFIED:20241128T215815Z
UID:10006629-1732824000-1733056200@arshavidya.org
SUMMARY:2024 Thanksgiving Family Vedanta Camp
DESCRIPTION:In-Person and Online \n\n\nTOPICS:\nContemplation with Swami Muktatmananda\nThe three pillars of study in Vedanta are śravaṇa (listening to the unfolding of the śāstra by the teacher)\, manana (resolving vagueness and doubts)\, and nididhyāsana (contemplation on what has been understood). In this course\, Swamiji will discuss the characteristics of Vedantic contemplation and how to make it part of our daily life. \n\n\nBhakti – Discovering Love with Swami Sachidananda\nThere is a natural love for the self; all that is loved is loved for the sake of the self alone. Bhakti is defined in the Nārada Bhakti Sūtras as paramaprema-rūpā\, absolute unchanging love for Īśvara. Such love is possible only through an inquiry into Īśvara\, and the discovery that the nature of Īśvara is none other than the nature of the self. This course will explore bhakti as the ultimate manifestation of the natural love for the self. \n\n\nREGISTRATION (for in-person participation):\nCall Vimala at ‭(570) 656-0193‬\nOR\nWrite to suddhatma@gmail.com. \n\n\nONLINE VIEWING: CLICK HERE \n\n\nSCHEDULE: \n\n\nAll times are Eastern Time (ET/UTC-5) \n\n\nThursday\, Nov 28\n8:00-8:15 pm Orientation with Suddhatmaji\n8:15-9:00 pm Satsang with Swami Muktatmanandaji \n\n\nFriday\, Nov 29\n7:00-7:30 am Guided Meditation with Swami Sachidanandaji\n9:00-10:00 am Contemplation with Swami Muktatmanandaji\n11:00am-12:00pm Bhakti – Discovering Love with Swami Sachidanandaji\n4:30-5:30 pm Bhakti – Discovering Love with Swami Sachidanandaji\n7:30-8:30 pm Satsang (Q&A) with Swami Sachidanandaji \n\n\nSaturday\, Nov 30\n7:00-7:30 am Guided Meditation with Swami Muktatmanandaji\n9:00-10:00 am Contemplation with Swami Muktatmanandaji\n11:00am-12:00pm Bhakti – Discovering Love with Swami Sachidanandaji\n4:30-5:30 pm Contemplation with Swami Muktatmanandaji\n7:30-8:30 pm Satsang (Q&A) with Swami Muktatmanandaji \n\n\nSunday\, Dec 1\n8:30-9:30 am Contemplation with Swami Muktatmanandaji followed by Gurudakshina\n10:00-11:00 am Bhakti – Discovering Love with Swami Sachidanandaji\n11:30am-12:30pm 1st and 3rd Sunday Gita Class with Swami Muktatmanandaji
URL:https://arshavidya.org/event/2024-thanksgiving-family-vedanta-camp/
LOCATION:Arsha Vidya Gurukulam\, 651 Route 115\, Saylorsburg\, PA\, 18353\, United States
CATEGORIES:Retreats
ATTACH;FMTTYPE=image/jpeg:https://arshavidya.org/wp-content/uploads/SwMandSwS.jpg
GEO:40.8876814;-75.3129654
X-APPLE-STRUCTURED-LOCATION;VALUE=URI;X-ADDRESS=Arsha Vidya Gurukulam 651 Route 115 Saylorsburg PA 18353 United States;X-APPLE-RADIUS=500;X-TITLE=651 Route 115:geo:-75.3129654,40.8876814
END:VEVENT
BEGIN:VEVENT
DTSTART;TZID=America/New_York:20241129T103000
DTEND;TZID=America/New_York:20241129T113000
DTSTAMP:20260420T044000
CREATED:20240913T155423Z
LAST-MODIFIED:20241130T002815Z
UID:10005742-1732876200-1732879800@arshavidya.org
SUMMARY:Mandukya Upanishad Karika with Swami Muktatmananda ONLINE ONLY
DESCRIPTION:ONLINE ONLY \nMandukya Karika \nZOOM MEETING LINK \nDonation Link \n 
URL:https://arshavidya.org/event/panchadashi-with-swami-muktatmananda-online-only/2024-11-29/
LOCATION:Online\, PA\, United States
CATEGORIES:Ongoing,Study Online
ATTACH;FMTTYPE=image/png:https://arshavidya.org/wp-content/uploads/SwM2020_Mundakopanishad-1.png
END:VEVENT
END:VCALENDAR