BEGIN:VCALENDAR
VERSION:2.0
PRODID:-//Arsha Vidya Gurukulam - ECPv6.15.16//NONSGML v1.0//EN
CALSCALE:GREGORIAN
METHOD:PUBLISH
X-ORIGINAL-URL:https://arshavidya.org
X-WR-CALDESC:Events for Arsha Vidya Gurukulam
REFRESH-INTERVAL;VALUE=DURATION:PT1H
X-Robots-Tag:noindex
X-PUBLISHED-TTL:PT1H
BEGIN:VTIMEZONE
TZID:America/New_York
BEGIN:DAYLIGHT
TZOFFSETFROM:-0500
TZOFFSETTO:-0400
TZNAME:EDT
DTSTART:20230312T070000
END:DAYLIGHT
BEGIN:STANDARD
TZOFFSETFROM:-0400
TZOFFSETTO:-0500
TZNAME:EST
DTSTART:20231105T060000
END:STANDARD
BEGIN:DAYLIGHT
TZOFFSETFROM:-0500
TZOFFSETTO:-0400
TZNAME:EDT
DTSTART:20240310T070000
END:DAYLIGHT
BEGIN:STANDARD
TZOFFSETFROM:-0400
TZOFFSETTO:-0500
TZNAME:EST
DTSTART:20241103T060000
END:STANDARD
BEGIN:DAYLIGHT
TZOFFSETFROM:-0500
TZOFFSETTO:-0400
TZNAME:EDT
DTSTART:20250309T070000
END:DAYLIGHT
BEGIN:STANDARD
TZOFFSETFROM:-0400
TZOFFSETTO:-0500
TZNAME:EST
DTSTART:20251102T060000
END:STANDARD
END:VTIMEZONE
BEGIN:VEVENT
DTSTART;TZID=America/New_York:20241223T103000
DTEND;TZID=America/New_York:20241223T113000
DTSTAMP:20260424T080920
CREATED:20240913T155423Z
LAST-MODIFIED:20241130T002815Z
UID:10005752-1734949800-1734953400@arshavidya.org
SUMMARY:Mandukya Upanishad Karika with Swami Muktatmananda ONLINE ONLY
DESCRIPTION:ONLINE ONLY \nMandukya Karika \nZOOM MEETING LINK \nDonation Link \n 
URL:https://arshavidya.org/event/panchadashi-with-swami-muktatmananda-online-only/2024-12-23/
LOCATION:Online\, PA\, United States
CATEGORIES:Ongoing,Study Online
ATTACH;FMTTYPE=image/png:https://arshavidya.org/wp-content/uploads/SwM2020_Mundakopanishad-1.png
END:VEVENT
BEGIN:VEVENT
DTSTART;TZID=America/New_York:20241224T200000
DTEND;TZID=America/New_York:20241231T173000
DTSTAMP:20260424T080920
CREATED:20241205T010232Z
LAST-MODIFIED:20241231T042042Z
UID:10006663-1735070400-1735666200@arshavidya.org
SUMMARY:2024 Year-End Family Vedanta Course
DESCRIPTION:In-Person and Online \nCourse Booklet \nUpadesa Saram Text \nTOPICS:\nMuṇḍaka Upaniṣad 1.2.12\nwith Swami Muktatmananda\nThis important mantra describes how a seeker\, having analyzed various experiences\, should gain dispassion and see that true fulfillment can be gained not through action\, but only through knowledge. For that\, he must properly approach a qualified teacher who abides in the knowledge of brahman. \nUpadēśa Sāram of Ramana Maharshi\nwith Swami Sachidananda\nThis text by Ramana Maharshi\, whose title translates as “The essence of the Teaching\,” condenses the entire teaching of Vedanta in just 30 short couplets. The first 17 verses provide insight into spiritual practices of karma yoga\, bhakti\, and dhyānam\, culminating in jñānam. The last 13 verses deal with jñāna-yoga\, deliberation upon the nature of the Self. The one who follows this teaching attains mokṣa\, freedom from all unhappiness and sorrow.\n \nREGISTRATION (for in-person participation):\nContact Vimala at ‭(570) 656-0193‬\nor\nWrite to suddhatma@gmail.com \nVIEW ON YOUTUBE \nCOURSE SCHEDULE\nAll times are Eastern Time (UTC-5) \nTuesday\, December 24\, 2024\n8:00-9:00 pm Orientation (Suddhatma) and Introductory Satsang with Swami Muktatmananda \nWednesday\, December 25\n7:00-7:30 am Guided Meditation with Swami Sachidanandaji\n9:00-10:00 am Upadēśa Sāram with Swami Sachidanandaji\n11:00am-12:00 pm Mundaka Upanishad 1.2.12 with Swami Muktatmanandaji\n4:30-5:30 pm Upadēśa Sāram with Swami Sachidanandaji\n7:30-8:30 pm Satsang Q&A with Swami Sachidanandaji \nThursday\, December 26\n7:00-7:30 am Guided Meditation with Swami Muktatmanandaji\n9:00-10:00 am Mundaka Upanishad 1.2.12 with Swami Muktatmanandaji\n11:00am-12:00 pm Upadēśa Sāram with Swami Sachidanandaji\n3:00-4:00 pm Vedic Chanting Class with Suddhatmaji\n4:30-5:30 pm Mundaka Upanishad 1.2.12 with Swami Muktatmanandaji\n7:30-8:30 pm Satsang Q&A with Swami Muktatmanandaji \nFriday\, December 27\n7:00-7:30 am Guided Meditation with Swami Sachidanandaji\n9:00-10:00 am Upadēśa Sāram with Swami Sachidanandaji\n11:00am-12:00 pm Mundaka Upanishad 1.2.12 with Swami Muktatmanandaji\n4:30-5:30 pm Upadēśa Sāram with Swami Sachidanandaji\n7:30-8:30 pm Satsang Q&A with Swami Sachidanandaji \nSaturday\, December 28\n7:00-7:30 am Guided Meditation with Swami Muktatmanandaji\n9:00-10:00 am Mundaka Upanishad 1.2.12 with Swami Muktatmanandaji\n11:00am-12:00 pm Upadēśa Sāram with Swami Sachidanandaji\n3:00-4:00 pm Vedic Chanting Class with Suddhatmaji\n4:30-5:30 pm Mundaka Upanishad 1.2.12 with Swami Muktatmanandaji\n7:30-8:30 pm Satsang Q&A with Swami Muktatmanandaji \nSunday\, December 29\n7:00-7:30 am Guided Meditation with Swami Sachidanandaji\n9:00-10:00 am Upadēśa Sāram with Swami Sachidanandaji\n11:00am-12:00 pm Mundaka Upanishad 1.2.12 with Swami Muktatmanandaji\n4:30-5:30 pm Upadēśa Sāram with Swami Sachidanandaji\n7:30-8:30 pm Satsang Q&A with Swami Sachidanandaji \nMonday\, December 30\n7:00-7:30 am Guided Meditation with Swami Muktatmanandaji\n9:00-10:00 am Mundaka Upanishad 1.2.12 with Swami Muktatmanandaji\n11:00am-12:00 pm Upadēśa Sāram with Swami Sachidanandaji\n3:00-4:00 pm Vedic Chanting Class with Suddhatmaji\n4:30-5:30 pm Mundaka Upanishad 1.2.12 with Swami Muktatmanandaji\n7:30-8:30 pm Satsang Q&A with Swami Muktatmanandaji \nTuesday\, December 31\n8:00-9:00 am Upadēśa Sāram with Swami Sachidanandaji\n9:15am-12:30 pm Daksinamurti-mula-mantra-japa and Abhisheka to Lord Dakshinamurti\n4:30-5:30 pm Mundaka Upanishad 1.2.12 with Swami Muktatmanandaji\nfollowed by Gurudakshina\n8:00-9:00 pm Satsang Q&A with Swami Muktatmanandaji \n 
URL:https://arshavidya.org/event/2024-year-end-family-vedanta-course/
LOCATION:Arsha Vidya Gurukulam\, 651 Route 115\, Saylorsburg\, PA\, 18353\, United States
CATEGORIES:Retreats
ATTACH;FMTTYPE=image/jpeg:https://arshavidya.org/wp-content/uploads/SwMandSwS.jpg
GEO:40.8876814;-75.3129654
X-APPLE-STRUCTURED-LOCATION;VALUE=URI;X-ADDRESS=Arsha Vidya Gurukulam 651 Route 115 Saylorsburg PA 18353 United States;X-APPLE-RADIUS=500;X-TITLE=651 Route 115:geo:-75.3129654,40.8876814
END:VEVENT
BEGIN:VEVENT
DTSTART;TZID=America/New_York:20241225T103000
DTEND;TZID=America/New_York:20241225T113000
DTSTAMP:20260424T080920
CREATED:20240913T155423Z
LAST-MODIFIED:20241130T002815Z
UID:10005753-1735122600-1735126200@arshavidya.org
SUMMARY:Mandukya Upanishad Karika with Swami Muktatmananda ONLINE ONLY
DESCRIPTION:ONLINE ONLY \nMandukya Karika \nZOOM MEETING LINK \nDonation Link \n 
URL:https://arshavidya.org/event/panchadashi-with-swami-muktatmananda-online-only/2024-12-25/
LOCATION:Online\, PA\, United States
CATEGORIES:Ongoing,Study Online
ATTACH;FMTTYPE=image/png:https://arshavidya.org/wp-content/uploads/SwM2020_Mundakopanishad-1.png
END:VEVENT
BEGIN:VEVENT
DTSTART;TZID=America/New_York:20241225T200000
DTEND;TZID=America/New_York:20241225T210000
DTSTAMP:20260424T080920
CREATED:20240710T194438Z
LAST-MODIFIED:20260423T011556Z
UID:10005314-1735156800-1735160400@arshavidya.org
SUMMARY:Shrimad Bhagavatam Study with Brhm. Pratyagatma Chaitanya ONLINE ONLY
DESCRIPTION:Online Only \nThis class is ongoing and takes place every Wednesday at 8:00 pm ET. \n\n\nTOPIC:\nShrimad Bhagavatam is a Mahapurana written by Sage Veda Vyasa. In these classes\, the text is studied verse by verse based on Shridhari tika. \n\n\nTEACHER:\nBrhm. Pratyagaatma Chaitanya \n\n\nTo join the Zoom meeting\, CLICK HERE \n \n\n\nZoom ID: 871 6283 5263 \, Passcode: 495411
URL:https://arshavidya.org/event/shrimad-bhagavatam-study-with-brhm-pratyagaatma-chaitanya-online-only/2024-12-25/
LOCATION:Arsha Vidya Gurukulam\, 651 Route 115\, Saylorsburg\, PA\, 18353\, United States
CATEGORIES:Recurring,Study Online
ATTACH;FMTTYPE=image/jpeg:https://arshavidya.org/wp-content/uploads/BrPratyagatma-e1751909652369.jpg
GEO:40.8876814;-75.3129654
X-APPLE-STRUCTURED-LOCATION;VALUE=URI;X-ADDRESS=Arsha Vidya Gurukulam 651 Route 115 Saylorsburg PA 18353 United States;X-APPLE-RADIUS=500;X-TITLE=651 Route 115:geo:-75.3129654,40.8876814
END:VEVENT
BEGIN:VEVENT
DTSTART;TZID=America/New_York:20241227T103000
DTEND;TZID=America/New_York:20241227T113000
DTSTAMP:20260424T080920
CREATED:20240913T155423Z
LAST-MODIFIED:20241130T002815Z
UID:10005754-1735295400-1735299000@arshavidya.org
SUMMARY:Mandukya Upanishad Karika with Swami Muktatmananda ONLINE ONLY
DESCRIPTION:ONLINE ONLY \nMandukya Karika \nZOOM MEETING LINK \nDonation Link \n 
URL:https://arshavidya.org/event/panchadashi-with-swami-muktatmananda-online-only/2024-12-27/
LOCATION:Online\, PA\, United States
CATEGORIES:Ongoing,Study Online
ATTACH;FMTTYPE=image/png:https://arshavidya.org/wp-content/uploads/SwM2020_Mundakopanishad-1.png
END:VEVENT
END:VCALENDAR