BEGIN:VCALENDAR
VERSION:2.0
PRODID:-//Arsha Vidya Gurukulam - ECPv6.15.16//NONSGML v1.0//EN
CALSCALE:GREGORIAN
METHOD:PUBLISH
X-ORIGINAL-URL:https://arshavidya.org
X-WR-CALDESC:Events for Arsha Vidya Gurukulam
REFRESH-INTERVAL;VALUE=DURATION:PT1H
X-Robots-Tag:noindex
X-PUBLISHED-TTL:PT1H
BEGIN:VTIMEZONE
TZID:America/New_York
BEGIN:DAYLIGHT
TZOFFSETFROM:-0500
TZOFFSETTO:-0400
TZNAME:EDT
DTSTART:20240310T070000
END:DAYLIGHT
BEGIN:STANDARD
TZOFFSETFROM:-0400
TZOFFSETTO:-0500
TZNAME:EST
DTSTART:20241103T060000
END:STANDARD
BEGIN:DAYLIGHT
TZOFFSETFROM:-0500
TZOFFSETTO:-0400
TZNAME:EDT
DTSTART:20250309T070000
END:DAYLIGHT
BEGIN:STANDARD
TZOFFSETFROM:-0400
TZOFFSETTO:-0500
TZNAME:EST
DTSTART:20251102T060000
END:STANDARD
BEGIN:DAYLIGHT
TZOFFSETFROM:-0500
TZOFFSETTO:-0400
TZNAME:EDT
DTSTART:20260308T070000
END:DAYLIGHT
BEGIN:STANDARD
TZOFFSETFROM:-0400
TZOFFSETTO:-0500
TZNAME:EST
DTSTART:20261101T060000
END:STANDARD
END:VTIMEZONE
BEGIN:VEVENT
DTSTART;TZID=America/New_York:20251222T051500
DTEND;TZID=America/New_York:20251222T053000
DTSTAMP:20260420T174340
CREATED:20250225T173252Z
LAST-MODIFIED:20250225T173252Z
UID:10007010-1766380500-1766381400@arshavidya.org
SUMMARY:Ganapati Homa (daily)
DESCRIPTION:In-Person Only \nLocated in the Homa Building across the road from the Dakshinamurti Temple. \nArsha Vidya Gurukulam\n651 Route 115\nSaylorsburg\, Pennsylvania
URL:https://arshavidya.org/event/ganapati-homa-daily/2025-12-22/
LOCATION:Arsha Vidya Gurukulam\, 651 Route 115\, Saylorsburg\, PA\, 18353\, United States
ATTACH;FMTTYPE=image/jpeg:https://arshavidya.org/wp-content/uploads/2018/07/lord-ganesha.jpg
GEO:40.8876814;-75.3129654
X-APPLE-STRUCTURED-LOCATION;VALUE=URI;X-ADDRESS=Arsha Vidya Gurukulam 651 Route 115 Saylorsburg PA 18353 United States;X-APPLE-RADIUS=500;X-TITLE=651 Route 115:geo:-75.3129654,40.8876814
END:VEVENT
BEGIN:VEVENT
DTSTART;TZID=America/New_York:20251222T054000
DTEND;TZID=America/New_York:20251222T070000
DTSTAMP:20260420T174340
CREATED:20250225T173826Z
LAST-MODIFIED:20250225T173826Z
UID:10008836-1766382000-1766386800@arshavidya.org
SUMMARY:Abhisheka to Lord Dakshinamurti (daily)
DESCRIPTION:In-Person and Online \nDakshinamurti Temple\nArsha Vidya Gurukulam\n651 Route 115\nSaylorsburg\, Pennsylvania \nView on YouTube
URL:https://arshavidya.org/event/abhisheka-to-lord-dakshinamurti-daily/2025-12-22/
LOCATION:Arsha Vidya Gurukulam\, 651 Route 115\, Saylorsburg\, PA\, 18353\, United States
CATEGORIES:Puja
ATTACH;FMTTYPE=image/png:https://arshavidya.org/wp-content/uploads/Dakshinamurti_2021_6.png
GEO:40.8876814;-75.3129654
X-APPLE-STRUCTURED-LOCATION;VALUE=URI;X-ADDRESS=Arsha Vidya Gurukulam 651 Route 115 Saylorsburg PA 18353 United States;X-APPLE-RADIUS=500;X-TITLE=651 Route 115:geo:-75.3129654,40.8876814
END:VEVENT
BEGIN:VEVENT
DTSTART;TZID=America/New_York:20251222T180000
DTEND;TZID=America/New_York:20251222T183000
DTSTAMP:20260420T174340
CREATED:20250225T174148Z
LAST-MODIFIED:20250826T200812Z
UID:10016514-1766426400-1766428200@arshavidya.org
SUMMARY:Evening Arati (daily)
DESCRIPTION:In-Person and Online \nDakshinamurti Temple\nArsha Vidya Gurukulam\n651 Route 115\nSaylorsburg\, Pennsylvania \nView on YouTube
URL:https://arshavidya.org/event/evening-arati-daily/2025-12-22/
LOCATION:Arsha Vidya Gurukulam\, 651 Route 115\, Saylorsburg\, PA\, 18353\, United States
ATTACH;FMTTYPE=image/jpeg:https://arshavidya.org/wp-content/uploads/Dakshinamurti_0498-web-scaled.jpg
GEO:40.8876814;-75.3129654
X-APPLE-STRUCTURED-LOCATION;VALUE=URI;X-ADDRESS=Arsha Vidya Gurukulam 651 Route 115 Saylorsburg PA 18353 United States;X-APPLE-RADIUS=500;X-TITLE=651 Route 115:geo:-75.3129654,40.8876814
END:VEVENT
BEGIN:VEVENT
DTSTART;TZID=America/New_York:20251223T051500
DTEND;TZID=America/New_York:20251223T053000
DTSTAMP:20260420T174340
CREATED:20250225T173252Z
LAST-MODIFIED:20250225T173252Z
UID:10007011-1766466900-1766467800@arshavidya.org
SUMMARY:Ganapati Homa (daily)
DESCRIPTION:In-Person Only \nLocated in the Homa Building across the road from the Dakshinamurti Temple. \nArsha Vidya Gurukulam\n651 Route 115\nSaylorsburg\, Pennsylvania
URL:https://arshavidya.org/event/ganapati-homa-daily/2025-12-23/
LOCATION:Arsha Vidya Gurukulam\, 651 Route 115\, Saylorsburg\, PA\, 18353\, United States
ATTACH;FMTTYPE=image/jpeg:https://arshavidya.org/wp-content/uploads/2018/07/lord-ganesha.jpg
GEO:40.8876814;-75.3129654
X-APPLE-STRUCTURED-LOCATION;VALUE=URI;X-ADDRESS=Arsha Vidya Gurukulam 651 Route 115 Saylorsburg PA 18353 United States;X-APPLE-RADIUS=500;X-TITLE=651 Route 115:geo:-75.3129654,40.8876814
END:VEVENT
BEGIN:VEVENT
DTSTART;TZID=America/New_York:20251223T054000
DTEND;TZID=America/New_York:20251223T070000
DTSTAMP:20260420T174340
CREATED:20250225T173826Z
LAST-MODIFIED:20250225T173826Z
UID:10008837-1766468400-1766473200@arshavidya.org
SUMMARY:Abhisheka to Lord Dakshinamurti (daily)
DESCRIPTION:In-Person and Online \nDakshinamurti Temple\nArsha Vidya Gurukulam\n651 Route 115\nSaylorsburg\, Pennsylvania \nView on YouTube
URL:https://arshavidya.org/event/abhisheka-to-lord-dakshinamurti-daily/2025-12-23/
LOCATION:Arsha Vidya Gurukulam\, 651 Route 115\, Saylorsburg\, PA\, 18353\, United States
CATEGORIES:Puja
ATTACH;FMTTYPE=image/png:https://arshavidya.org/wp-content/uploads/Dakshinamurti_2021_6.png
GEO:40.8876814;-75.3129654
X-APPLE-STRUCTURED-LOCATION;VALUE=URI;X-ADDRESS=Arsha Vidya Gurukulam 651 Route 115 Saylorsburg PA 18353 United States;X-APPLE-RADIUS=500;X-TITLE=651 Route 115:geo:-75.3129654,40.8876814
END:VEVENT
BEGIN:VEVENT
DTSTART;TZID=America/New_York:20251223T180000
DTEND;TZID=America/New_York:20251223T183000
DTSTAMP:20260420T174340
CREATED:20250225T174148Z
LAST-MODIFIED:20250826T200812Z
UID:10016515-1766512800-1766514600@arshavidya.org
SUMMARY:Evening Arati (daily)
DESCRIPTION:In-Person and Online \nDakshinamurti Temple\nArsha Vidya Gurukulam\n651 Route 115\nSaylorsburg\, Pennsylvania \nView on YouTube
URL:https://arshavidya.org/event/evening-arati-daily/2025-12-23/
LOCATION:Arsha Vidya Gurukulam\, 651 Route 115\, Saylorsburg\, PA\, 18353\, United States
ATTACH;FMTTYPE=image/jpeg:https://arshavidya.org/wp-content/uploads/Dakshinamurti_0498-web-scaled.jpg
GEO:40.8876814;-75.3129654
X-APPLE-STRUCTURED-LOCATION;VALUE=URI;X-ADDRESS=Arsha Vidya Gurukulam 651 Route 115 Saylorsburg PA 18353 United States;X-APPLE-RADIUS=500;X-TITLE=651 Route 115:geo:-75.3129654,40.8876814
END:VEVENT
BEGIN:VEVENT
DTSTART;TZID=America/New_York:20251224T051500
DTEND;TZID=America/New_York:20251224T053000
DTSTAMP:20260420T174340
CREATED:20250225T173252Z
LAST-MODIFIED:20250225T173252Z
UID:10007012-1766553300-1766554200@arshavidya.org
SUMMARY:Ganapati Homa (daily)
DESCRIPTION:In-Person Only \nLocated in the Homa Building across the road from the Dakshinamurti Temple. \nArsha Vidya Gurukulam\n651 Route 115\nSaylorsburg\, Pennsylvania
URL:https://arshavidya.org/event/ganapati-homa-daily/2025-12-24/
LOCATION:Arsha Vidya Gurukulam\, 651 Route 115\, Saylorsburg\, PA\, 18353\, United States
ATTACH;FMTTYPE=image/jpeg:https://arshavidya.org/wp-content/uploads/2018/07/lord-ganesha.jpg
GEO:40.8876814;-75.3129654
X-APPLE-STRUCTURED-LOCATION;VALUE=URI;X-ADDRESS=Arsha Vidya Gurukulam 651 Route 115 Saylorsburg PA 18353 United States;X-APPLE-RADIUS=500;X-TITLE=651 Route 115:geo:-75.3129654,40.8876814
END:VEVENT
BEGIN:VEVENT
DTSTART;TZID=America/New_York:20251224T054000
DTEND;TZID=America/New_York:20251224T070000
DTSTAMP:20260420T174340
CREATED:20250225T173826Z
LAST-MODIFIED:20250225T173826Z
UID:10008838-1766554800-1766559600@arshavidya.org
SUMMARY:Abhisheka to Lord Dakshinamurti (daily)
DESCRIPTION:In-Person and Online \nDakshinamurti Temple\nArsha Vidya Gurukulam\n651 Route 115\nSaylorsburg\, Pennsylvania \nView on YouTube
URL:https://arshavidya.org/event/abhisheka-to-lord-dakshinamurti-daily/2025-12-24/
LOCATION:Arsha Vidya Gurukulam\, 651 Route 115\, Saylorsburg\, PA\, 18353\, United States
CATEGORIES:Puja
ATTACH;FMTTYPE=image/png:https://arshavidya.org/wp-content/uploads/Dakshinamurti_2021_6.png
GEO:40.8876814;-75.3129654
X-APPLE-STRUCTURED-LOCATION;VALUE=URI;X-ADDRESS=Arsha Vidya Gurukulam 651 Route 115 Saylorsburg PA 18353 United States;X-APPLE-RADIUS=500;X-TITLE=651 Route 115:geo:-75.3129654,40.8876814
END:VEVENT
BEGIN:VEVENT
DTSTART;TZID=America/New_York:20251224T180000
DTEND;TZID=America/New_York:20251224T183000
DTSTAMP:20260420T174340
CREATED:20250225T174148Z
LAST-MODIFIED:20250826T200812Z
UID:10016516-1766599200-1766601000@arshavidya.org
SUMMARY:Evening Arati (daily)
DESCRIPTION:In-Person and Online \nDakshinamurti Temple\nArsha Vidya Gurukulam\n651 Route 115\nSaylorsburg\, Pennsylvania \nView on YouTube
URL:https://arshavidya.org/event/evening-arati-daily/2025-12-24/
LOCATION:Arsha Vidya Gurukulam\, 651 Route 115\, Saylorsburg\, PA\, 18353\, United States
ATTACH;FMTTYPE=image/jpeg:https://arshavidya.org/wp-content/uploads/Dakshinamurti_0498-web-scaled.jpg
GEO:40.8876814;-75.3129654
X-APPLE-STRUCTURED-LOCATION;VALUE=URI;X-ADDRESS=Arsha Vidya Gurukulam 651 Route 115 Saylorsburg PA 18353 United States;X-APPLE-RADIUS=500;X-TITLE=651 Route 115:geo:-75.3129654,40.8876814
END:VEVENT
BEGIN:VEVENT
DTSTART;TZID=America/New_York:20251224T200000
DTEND;TZID=America/New_York:20251224T210000
DTSTAMP:20260420T174340
CREATED:20240710T194438Z
LAST-MODIFIED:20250707T162810Z
UID:10005366-1766606400-1766610000@arshavidya.org
SUMMARY:Shrimad Bhagavatam Study with Brhm. Pratyagatma Chaitanya ONLINE ONLY
DESCRIPTION:Online Series \n\n\nTOPIC:\nShrimad Bhagavatam is a Mahapurana written by Sage Veda Vyasa. In these classes\, the text is studied verse by verse based on Shridhari tika. \n\n\nTEACHER:\nBrhm. Pratyagaatma Chaitanya \n\n\nJOIN ZOOM MEETING \n\n\nZoom ID: 871 6283 5263 \, Passcode: 495411
URL:https://arshavidya.org/event/shrimad-bhagavatam-study-with-brhm-pratyagaatma-chaitanya-online-only/2025-12-24/
LOCATION:Arsha Vidya Gurukulam\, 651 Route 115\, Saylorsburg\, PA\, 18353\, United States
CATEGORIES:Recurring,Study Online
ATTACH;FMTTYPE=image/jpeg:https://arshavidya.org/wp-content/uploads/Pratyagatmaji-scaled-e1720644848109.jpg
GEO:40.8876814;-75.3129654
X-APPLE-STRUCTURED-LOCATION;VALUE=URI;X-ADDRESS=Arsha Vidya Gurukulam 651 Route 115 Saylorsburg PA 18353 United States;X-APPLE-RADIUS=500;X-TITLE=651 Route 115:geo:-75.3129654,40.8876814
END:VEVENT
BEGIN:VEVENT
DTSTART;TZID=America/New_York:20251224T200000
DTEND;TZID=America/New_York:20251231T173000
DTSTAMP:20260420T174340
CREATED:20251122T054517Z
LAST-MODIFIED:20251224T192951Z
UID:10018274-1766606400-1767202200@arshavidya.org
SUMMARY:2025 Year-End Family Vedanta Course
DESCRIPTION:In-Person and Online \nCourse Booklet \nTOPICS: \nThe Significance of OM in Vedanta with Swami Muktatmananda \nThe sacred syllable OM lies at the heart of the teaching. All mantras and all prayers can ultimately be reduced to this single syllable\, which the Veda has loaded with meaning to signify all that is: the three worlds\, the three bodies\, the three states of experience\, and their basis\, Brahman. As Lord Yama declares in the Katha Upanișad:\n“This syllable alone is indeed the saguna Brahman and it alone is the nirguna Brahman.”\nSwamiji will unfold the different ways in which this all-encompassing sound represents Brahman\, that which pervades and sustains the universe. \nVedanta and Meditation with Swami Sachidananda\nDiscover the Inner Sanctuary through Meditation \nEnquire deeply into reality and internalize the teachings through meditation. Through meditation sessions\, scriptural wisdom from Vedanta\, and introspective practices\, you will gain clarity\, peace\, and a profound understanding of your true nature. Whether you are a beginner or an experienced student of Vedanta\, this retreat provides the perfect opportunity for deep enquiry\, relaxation\, rejuvenation\, and a paradigm shift in how you engage with life. \nREGISTRATION:\nClick HERE to register for in-person participation.\nOR\nContact Karthik Ramagopal at avg.karthikr@gmail.com \nVIEW ON YOUTUBE \nCOURSE SCHEDULE\nAll times are Eastern Time (UTC-5) \nWednesday\, December 24\n8:00-9:00 pm – Orientation and Introductory Satsang. \nThursday\, December 25 | Saturday\, December 27 | Monday\, December 29\n7:00-7:30 am Guided Meditation with Swami Muktatmanandaji\n9:00-10:00 am: The Significance of OM in Vedanta with Swami Muktatmanandaji\n11:00-12:00 pm: Vedanta and Meditation with Swami Sachidanandaji\n4:30-5:30 pm: The Significance of OM in Vedanta with Swami Muktatmanandaji\n7:30-8:30 pm: Satsang (Q&A) with Swami Muktatmanandaji \nFriday\, December 26 | Sunday\, December 28 | Tuesday\, December 30\n7:00-7:30 am: Guided Meditation with Swami Sachidanandaji\n9:00-10:00 am: The Significance of OM in Vedanta with Swami Muktatmanandaji\n11:00-12:00pm: Vedanta and Meditation with Swami Sachidanandaji\n4:30-5:30 pm: Vedanta and Meditation with Swami Sachidanandaji\n7:30-8:30 pm Satsang (Q&A) with Swami Sachidanandaji \nWednesday\, December 31\n7:00-7:30 am: Guided Meditation with Swami Sachidanandaji\n8:30-9:30 am: Vedanta and Meditation with Swami Sachidanandaji\n10:00-11:00 am: The Significance of OM in Vedanta with Swami Muktatmanandaji followed by Gurudakshina \n  \n 
URL:https://arshavidya.org/event/2025-year-end-family-vedanta-course/
LOCATION:Arsha Vidya Gurukulam\, 651 Route 115\, Saylorsburg\, PA\, 18353\, United States
CATEGORIES:Retreats
ATTACH;FMTTYPE=image/jpeg:https://arshavidya.org/wp-content/uploads/SwMandSwS.jpg
GEO:40.8876814;-75.3129654
X-APPLE-STRUCTURED-LOCATION;VALUE=URI;X-ADDRESS=Arsha Vidya Gurukulam 651 Route 115 Saylorsburg PA 18353 United States;X-APPLE-RADIUS=500;X-TITLE=651 Route 115:geo:-75.3129654,40.8876814
END:VEVENT
BEGIN:VEVENT
DTSTART;TZID=America/New_York:20251225T051500
DTEND;TZID=America/New_York:20251225T053000
DTSTAMP:20260420T174340
CREATED:20250225T173252Z
LAST-MODIFIED:20250225T173252Z
UID:10007013-1766639700-1766640600@arshavidya.org
SUMMARY:Ganapati Homa (daily)
DESCRIPTION:In-Person Only \nLocated in the Homa Building across the road from the Dakshinamurti Temple. \nArsha Vidya Gurukulam\n651 Route 115\nSaylorsburg\, Pennsylvania
URL:https://arshavidya.org/event/ganapati-homa-daily/2025-12-25/
LOCATION:Arsha Vidya Gurukulam\, 651 Route 115\, Saylorsburg\, PA\, 18353\, United States
ATTACH;FMTTYPE=image/jpeg:https://arshavidya.org/wp-content/uploads/2018/07/lord-ganesha.jpg
GEO:40.8876814;-75.3129654
X-APPLE-STRUCTURED-LOCATION;VALUE=URI;X-ADDRESS=Arsha Vidya Gurukulam 651 Route 115 Saylorsburg PA 18353 United States;X-APPLE-RADIUS=500;X-TITLE=651 Route 115:geo:-75.3129654,40.8876814
END:VEVENT
BEGIN:VEVENT
DTSTART;TZID=America/New_York:20251225T054000
DTEND;TZID=America/New_York:20251225T070000
DTSTAMP:20260420T174340
CREATED:20250225T173826Z
LAST-MODIFIED:20250225T173826Z
UID:10008839-1766641200-1766646000@arshavidya.org
SUMMARY:Abhisheka to Lord Dakshinamurti (daily)
DESCRIPTION:In-Person and Online \nDakshinamurti Temple\nArsha Vidya Gurukulam\n651 Route 115\nSaylorsburg\, Pennsylvania \nView on YouTube
URL:https://arshavidya.org/event/abhisheka-to-lord-dakshinamurti-daily/2025-12-25/
LOCATION:Arsha Vidya Gurukulam\, 651 Route 115\, Saylorsburg\, PA\, 18353\, United States
CATEGORIES:Puja
ATTACH;FMTTYPE=image/png:https://arshavidya.org/wp-content/uploads/Dakshinamurti_2021_6.png
GEO:40.8876814;-75.3129654
X-APPLE-STRUCTURED-LOCATION;VALUE=URI;X-ADDRESS=Arsha Vidya Gurukulam 651 Route 115 Saylorsburg PA 18353 United States;X-APPLE-RADIUS=500;X-TITLE=651 Route 115:geo:-75.3129654,40.8876814
END:VEVENT
BEGIN:VEVENT
DTSTART;TZID=America/New_York:20251225T180000
DTEND;TZID=America/New_York:20251225T183000
DTSTAMP:20260420T174340
CREATED:20250225T174148Z
LAST-MODIFIED:20250826T200812Z
UID:10016517-1766685600-1766687400@arshavidya.org
SUMMARY:Evening Arati (daily)
DESCRIPTION:In-Person and Online \nDakshinamurti Temple\nArsha Vidya Gurukulam\n651 Route 115\nSaylorsburg\, Pennsylvania \nView on YouTube
URL:https://arshavidya.org/event/evening-arati-daily/2025-12-25/
LOCATION:Arsha Vidya Gurukulam\, 651 Route 115\, Saylorsburg\, PA\, 18353\, United States
ATTACH;FMTTYPE=image/jpeg:https://arshavidya.org/wp-content/uploads/Dakshinamurti_0498-web-scaled.jpg
GEO:40.8876814;-75.3129654
X-APPLE-STRUCTURED-LOCATION;VALUE=URI;X-ADDRESS=Arsha Vidya Gurukulam 651 Route 115 Saylorsburg PA 18353 United States;X-APPLE-RADIUS=500;X-TITLE=651 Route 115:geo:-75.3129654,40.8876814
END:VEVENT
BEGIN:VEVENT
DTSTART;TZID=America/New_York:20251226T051500
DTEND;TZID=America/New_York:20251226T053000
DTSTAMP:20260420T174340
CREATED:20250225T173252Z
LAST-MODIFIED:20250225T173252Z
UID:10007014-1766726100-1766727000@arshavidya.org
SUMMARY:Ganapati Homa (daily)
DESCRIPTION:In-Person Only \nLocated in the Homa Building across the road from the Dakshinamurti Temple. \nArsha Vidya Gurukulam\n651 Route 115\nSaylorsburg\, Pennsylvania
URL:https://arshavidya.org/event/ganapati-homa-daily/2025-12-26/
LOCATION:Arsha Vidya Gurukulam\, 651 Route 115\, Saylorsburg\, PA\, 18353\, United States
ATTACH;FMTTYPE=image/jpeg:https://arshavidya.org/wp-content/uploads/2018/07/lord-ganesha.jpg
GEO:40.8876814;-75.3129654
X-APPLE-STRUCTURED-LOCATION;VALUE=URI;X-ADDRESS=Arsha Vidya Gurukulam 651 Route 115 Saylorsburg PA 18353 United States;X-APPLE-RADIUS=500;X-TITLE=651 Route 115:geo:-75.3129654,40.8876814
END:VEVENT
BEGIN:VEVENT
DTSTART;TZID=America/New_York:20251226T054000
DTEND;TZID=America/New_York:20251226T070000
DTSTAMP:20260420T174340
CREATED:20250225T173826Z
LAST-MODIFIED:20250225T173826Z
UID:10008840-1766727600-1766732400@arshavidya.org
SUMMARY:Abhisheka to Lord Dakshinamurti (daily)
DESCRIPTION:In-Person and Online \nDakshinamurti Temple\nArsha Vidya Gurukulam\n651 Route 115\nSaylorsburg\, Pennsylvania \nView on YouTube
URL:https://arshavidya.org/event/abhisheka-to-lord-dakshinamurti-daily/2025-12-26/
LOCATION:Arsha Vidya Gurukulam\, 651 Route 115\, Saylorsburg\, PA\, 18353\, United States
CATEGORIES:Puja
ATTACH;FMTTYPE=image/png:https://arshavidya.org/wp-content/uploads/Dakshinamurti_2021_6.png
GEO:40.8876814;-75.3129654
X-APPLE-STRUCTURED-LOCATION;VALUE=URI;X-ADDRESS=Arsha Vidya Gurukulam 651 Route 115 Saylorsburg PA 18353 United States;X-APPLE-RADIUS=500;X-TITLE=651 Route 115:geo:-75.3129654,40.8876814
END:VEVENT
BEGIN:VEVENT
DTSTART;TZID=America/New_York:20251226T180000
DTEND;TZID=America/New_York:20251226T183000
DTSTAMP:20260420T174340
CREATED:20250225T174148Z
LAST-MODIFIED:20250826T200812Z
UID:10016518-1766772000-1766773800@arshavidya.org
SUMMARY:Evening Arati (daily)
DESCRIPTION:In-Person and Online \nDakshinamurti Temple\nArsha Vidya Gurukulam\n651 Route 115\nSaylorsburg\, Pennsylvania \nView on YouTube
URL:https://arshavidya.org/event/evening-arati-daily/2025-12-26/
LOCATION:Arsha Vidya Gurukulam\, 651 Route 115\, Saylorsburg\, PA\, 18353\, United States
ATTACH;FMTTYPE=image/jpeg:https://arshavidya.org/wp-content/uploads/Dakshinamurti_0498-web-scaled.jpg
GEO:40.8876814;-75.3129654
X-APPLE-STRUCTURED-LOCATION;VALUE=URI;X-ADDRESS=Arsha Vidya Gurukulam 651 Route 115 Saylorsburg PA 18353 United States;X-APPLE-RADIUS=500;X-TITLE=651 Route 115:geo:-75.3129654,40.8876814
END:VEVENT
BEGIN:VEVENT
DTSTART;TZID=America/New_York:20251227T051500
DTEND;TZID=America/New_York:20251227T053000
DTSTAMP:20260420T174340
CREATED:20250225T173252Z
LAST-MODIFIED:20250225T173252Z
UID:10007015-1766812500-1766813400@arshavidya.org
SUMMARY:Ganapati Homa (daily)
DESCRIPTION:In-Person Only \nLocated in the Homa Building across the road from the Dakshinamurti Temple. \nArsha Vidya Gurukulam\n651 Route 115\nSaylorsburg\, Pennsylvania
URL:https://arshavidya.org/event/ganapati-homa-daily/2025-12-27/
LOCATION:Arsha Vidya Gurukulam\, 651 Route 115\, Saylorsburg\, PA\, 18353\, United States
ATTACH;FMTTYPE=image/jpeg:https://arshavidya.org/wp-content/uploads/2018/07/lord-ganesha.jpg
GEO:40.8876814;-75.3129654
X-APPLE-STRUCTURED-LOCATION;VALUE=URI;X-ADDRESS=Arsha Vidya Gurukulam 651 Route 115 Saylorsburg PA 18353 United States;X-APPLE-RADIUS=500;X-TITLE=651 Route 115:geo:-75.3129654,40.8876814
END:VEVENT
BEGIN:VEVENT
DTSTART;TZID=America/New_York:20251227T054000
DTEND;TZID=America/New_York:20251227T070000
DTSTAMP:20260420T174340
CREATED:20250225T173826Z
LAST-MODIFIED:20250225T173826Z
UID:10008841-1766814000-1766818800@arshavidya.org
SUMMARY:Abhisheka to Lord Dakshinamurti (daily)
DESCRIPTION:In-Person and Online \nDakshinamurti Temple\nArsha Vidya Gurukulam\n651 Route 115\nSaylorsburg\, Pennsylvania \nView on YouTube
URL:https://arshavidya.org/event/abhisheka-to-lord-dakshinamurti-daily/2025-12-27/
LOCATION:Arsha Vidya Gurukulam\, 651 Route 115\, Saylorsburg\, PA\, 18353\, United States
CATEGORIES:Puja
ATTACH;FMTTYPE=image/png:https://arshavidya.org/wp-content/uploads/Dakshinamurti_2021_6.png
GEO:40.8876814;-75.3129654
X-APPLE-STRUCTURED-LOCATION;VALUE=URI;X-ADDRESS=Arsha Vidya Gurukulam 651 Route 115 Saylorsburg PA 18353 United States;X-APPLE-RADIUS=500;X-TITLE=651 Route 115:geo:-75.3129654,40.8876814
END:VEVENT
BEGIN:VEVENT
DTSTART;TZID=America/New_York:20251227T180000
DTEND;TZID=America/New_York:20251227T183000
DTSTAMP:20260420T174340
CREATED:20250225T174148Z
LAST-MODIFIED:20250826T200812Z
UID:10016519-1766858400-1766860200@arshavidya.org
SUMMARY:Evening Arati (daily)
DESCRIPTION:In-Person and Online \nDakshinamurti Temple\nArsha Vidya Gurukulam\n651 Route 115\nSaylorsburg\, Pennsylvania \nView on YouTube
URL:https://arshavidya.org/event/evening-arati-daily/2025-12-27/
LOCATION:Arsha Vidya Gurukulam\, 651 Route 115\, Saylorsburg\, PA\, 18353\, United States
ATTACH;FMTTYPE=image/jpeg:https://arshavidya.org/wp-content/uploads/Dakshinamurti_0498-web-scaled.jpg
GEO:40.8876814;-75.3129654
X-APPLE-STRUCTURED-LOCATION;VALUE=URI;X-ADDRESS=Arsha Vidya Gurukulam 651 Route 115 Saylorsburg PA 18353 United States;X-APPLE-RADIUS=500;X-TITLE=651 Route 115:geo:-75.3129654,40.8876814
END:VEVENT
BEGIN:VEVENT
DTSTART;TZID=America/New_York:20251228T051500
DTEND;TZID=America/New_York:20251228T053000
DTSTAMP:20260420T174340
CREATED:20250225T173252Z
LAST-MODIFIED:20250225T173252Z
UID:10007016-1766898900-1766899800@arshavidya.org
SUMMARY:Ganapati Homa (daily)
DESCRIPTION:In-Person Only \nLocated in the Homa Building across the road from the Dakshinamurti Temple. \nArsha Vidya Gurukulam\n651 Route 115\nSaylorsburg\, Pennsylvania
URL:https://arshavidya.org/event/ganapati-homa-daily/2025-12-28/
LOCATION:Arsha Vidya Gurukulam\, 651 Route 115\, Saylorsburg\, PA\, 18353\, United States
ATTACH;FMTTYPE=image/jpeg:https://arshavidya.org/wp-content/uploads/2018/07/lord-ganesha.jpg
GEO:40.8876814;-75.3129654
X-APPLE-STRUCTURED-LOCATION;VALUE=URI;X-ADDRESS=Arsha Vidya Gurukulam 651 Route 115 Saylorsburg PA 18353 United States;X-APPLE-RADIUS=500;X-TITLE=651 Route 115:geo:-75.3129654,40.8876814
END:VEVENT
BEGIN:VEVENT
DTSTART;TZID=America/New_York:20251228T054000
DTEND;TZID=America/New_York:20251228T070000
DTSTAMP:20260420T174340
CREATED:20250225T173826Z
LAST-MODIFIED:20250225T173826Z
UID:10008842-1766900400-1766905200@arshavidya.org
SUMMARY:Abhisheka to Lord Dakshinamurti (daily)
DESCRIPTION:In-Person and Online \nDakshinamurti Temple\nArsha Vidya Gurukulam\n651 Route 115\nSaylorsburg\, Pennsylvania \nView on YouTube
URL:https://arshavidya.org/event/abhisheka-to-lord-dakshinamurti-daily/2025-12-28/
LOCATION:Arsha Vidya Gurukulam\, 651 Route 115\, Saylorsburg\, PA\, 18353\, United States
CATEGORIES:Puja
ATTACH;FMTTYPE=image/png:https://arshavidya.org/wp-content/uploads/Dakshinamurti_2021_6.png
GEO:40.8876814;-75.3129654
X-APPLE-STRUCTURED-LOCATION;VALUE=URI;X-ADDRESS=Arsha Vidya Gurukulam 651 Route 115 Saylorsburg PA 18353 United States;X-APPLE-RADIUS=500;X-TITLE=651 Route 115:geo:-75.3129654,40.8876814
END:VEVENT
BEGIN:VEVENT
DTSTART;TZID=America/New_York:20251228T180000
DTEND;TZID=America/New_York:20251228T183000
DTSTAMP:20260420T174340
CREATED:20250225T174148Z
LAST-MODIFIED:20250826T200812Z
UID:10016520-1766944800-1766946600@arshavidya.org
SUMMARY:Evening Arati (daily)
DESCRIPTION:In-Person and Online \nDakshinamurti Temple\nArsha Vidya Gurukulam\n651 Route 115\nSaylorsburg\, Pennsylvania \nView on YouTube
URL:https://arshavidya.org/event/evening-arati-daily/2025-12-28/
LOCATION:Arsha Vidya Gurukulam\, 651 Route 115\, Saylorsburg\, PA\, 18353\, United States
ATTACH;FMTTYPE=image/jpeg:https://arshavidya.org/wp-content/uploads/Dakshinamurti_0498-web-scaled.jpg
GEO:40.8876814;-75.3129654
X-APPLE-STRUCTURED-LOCATION;VALUE=URI;X-ADDRESS=Arsha Vidya Gurukulam 651 Route 115 Saylorsburg PA 18353 United States;X-APPLE-RADIUS=500;X-TITLE=651 Route 115:geo:-75.3129654,40.8876814
END:VEVENT
END:VCALENDAR