BEGIN:VCALENDAR
VERSION:2.0
PRODID:-//Arsha Vidya Gurukulam - ECPv6.15.16//NONSGML v1.0//EN
CALSCALE:GREGORIAN
METHOD:PUBLISH
X-ORIGINAL-URL:https://arshavidya.org
X-WR-CALDESC:Events for Arsha Vidya Gurukulam
REFRESH-INTERVAL;VALUE=DURATION:PT1H
X-Robots-Tag:noindex
X-PUBLISHED-TTL:PT1H
BEGIN:VTIMEZONE
TZID:America/New_York
BEGIN:DAYLIGHT
TZOFFSETFROM:-0500
TZOFFSETTO:-0400
TZNAME:EDT
DTSTART:20280312T070000
END:DAYLIGHT
BEGIN:STANDARD
TZOFFSETFROM:-0400
TZOFFSETTO:-0500
TZNAME:EST
DTSTART:20281105T060000
END:STANDARD
BEGIN:DAYLIGHT
TZOFFSETFROM:-0500
TZOFFSETTO:-0400
TZNAME:EDT
DTSTART:20290311T070000
END:DAYLIGHT
BEGIN:STANDARD
TZOFFSETFROM:-0400
TZOFFSETTO:-0500
TZNAME:EST
DTSTART:20291104T060000
END:STANDARD
BEGIN:DAYLIGHT
TZOFFSETFROM:-0500
TZOFFSETTO:-0400
TZNAME:EDT
DTSTART:20300310T070000
END:DAYLIGHT
BEGIN:STANDARD
TZOFFSETFROM:-0400
TZOFFSETTO:-0500
TZNAME:EST
DTSTART:20301103T060000
END:STANDARD
END:VTIMEZONE
BEGIN:VEVENT
DTSTART;TZID=America/New_York:20290409T051500
DTEND;TZID=America/New_York:20290409T053000
DTSTAMP:20260420T232119
CREATED:20250225T173252Z
LAST-MODIFIED:20250225T173252Z
UID:10008214-1870406100-1870407000@arshavidya.org
SUMMARY:Ganapati Homa (daily)
DESCRIPTION:In-Person Only \nLocated in the Homa Building across the road from the Dakshinamurti Temple. \nArsha Vidya Gurukulam\n651 Route 115\nSaylorsburg\, Pennsylvania
URL:https://arshavidya.org/event/ganapati-homa-daily/2029-04-09/
LOCATION:Arsha Vidya Gurukulam\, 651 Route 115\, Saylorsburg\, PA\, 18353\, United States
ATTACH;FMTTYPE=image/jpeg:https://arshavidya.org/wp-content/uploads/2018/07/lord-ganesha.jpg
GEO:40.8876814;-75.3129654
X-APPLE-STRUCTURED-LOCATION;VALUE=URI;X-ADDRESS=Arsha Vidya Gurukulam 651 Route 115 Saylorsburg PA 18353 United States;X-APPLE-RADIUS=500;X-TITLE=651 Route 115:geo:-75.3129654,40.8876814
END:VEVENT
BEGIN:VEVENT
DTSTART;TZID=America/New_York:20290409T054000
DTEND;TZID=America/New_York:20290409T070000
DTSTAMP:20260420T232119
CREATED:20250225T173826Z
LAST-MODIFIED:20250225T173826Z
UID:10010040-1870407600-1870412400@arshavidya.org
SUMMARY:Abhisheka to Lord Dakshinamurti (daily)
DESCRIPTION:In-Person and Online \nDakshinamurti Temple\nArsha Vidya Gurukulam\n651 Route 115\nSaylorsburg\, Pennsylvania \nView on YouTube
URL:https://arshavidya.org/event/abhisheka-to-lord-dakshinamurti-daily/2029-04-09/
LOCATION:Arsha Vidya Gurukulam\, 651 Route 115\, Saylorsburg\, PA\, 18353\, United States
CATEGORIES:Puja
ATTACH;FMTTYPE=image/png:https://arshavidya.org/wp-content/uploads/Dakshinamurti_2021_6.png
GEO:40.8876814;-75.3129654
X-APPLE-STRUCTURED-LOCATION;VALUE=URI;X-ADDRESS=Arsha Vidya Gurukulam 651 Route 115 Saylorsburg PA 18353 United States;X-APPLE-RADIUS=500;X-TITLE=651 Route 115:geo:-75.3129654,40.8876814
END:VEVENT
BEGIN:VEVENT
DTSTART;TZID=America/New_York:20290409T103000
DTEND;TZID=America/New_York:20290409T113000
DTSTAMP:20260420T232119
CREATED:20250525T012059Z
LAST-MODIFIED:20260402T215119Z
UID:10006424-1870425000-1870428600@arshavidya.org
SUMMARY:Mandukya Upanishad Karika with Swami Muktatmananda ONLINE ONLY
DESCRIPTION:ONLINE ONLY \nMandukya Upanishad – Swami Nikhilananda \nMandukya Upanishad – Anandagiri Tika \nZOOM MEETING LINK \nDonation Link \n 
URL:https://arshavidya.org/event/muktatmananda-online-only/2029-04-09/
LOCATION:Online\, PA\, United States
CATEGORIES:Ongoing,Study Online
ATTACH;FMTTYPE=image/png:https://arshavidya.org/wp-content/uploads/SwM2021_Still3-1.png
END:VEVENT
BEGIN:VEVENT
DTSTART;TZID=America/New_York:20290409T180000
DTEND;TZID=America/New_York:20290409T183000
DTSTAMP:20260420T232119
CREATED:20250225T174148Z
LAST-MODIFIED:20250826T200812Z
UID:10017718-1870452000-1870453800@arshavidya.org
SUMMARY:Evening Arati (daily)
DESCRIPTION:In-Person and Online \nDakshinamurti Temple\nArsha Vidya Gurukulam\n651 Route 115\nSaylorsburg\, Pennsylvania \nView on YouTube
URL:https://arshavidya.org/event/evening-arati-daily/2029-04-09/
LOCATION:Arsha Vidya Gurukulam\, 651 Route 115\, Saylorsburg\, PA\, 18353\, United States
ATTACH;FMTTYPE=image/jpeg:https://arshavidya.org/wp-content/uploads/Dakshinamurti_0498-web-scaled.jpg
GEO:40.8876814;-75.3129654
X-APPLE-STRUCTURED-LOCATION;VALUE=URI;X-ADDRESS=Arsha Vidya Gurukulam 651 Route 115 Saylorsburg PA 18353 United States;X-APPLE-RADIUS=500;X-TITLE=651 Route 115:geo:-75.3129654,40.8876814
END:VEVENT
BEGIN:VEVENT
DTSTART;TZID=America/New_York:20290410T051500
DTEND;TZID=America/New_York:20290410T053000
DTSTAMP:20260420T232119
CREATED:20250225T173252Z
LAST-MODIFIED:20250225T173252Z
UID:10008215-1870492500-1870493400@arshavidya.org
SUMMARY:Ganapati Homa (daily)
DESCRIPTION:In-Person Only \nLocated in the Homa Building across the road from the Dakshinamurti Temple. \nArsha Vidya Gurukulam\n651 Route 115\nSaylorsburg\, Pennsylvania
URL:https://arshavidya.org/event/ganapati-homa-daily/2029-04-10/
LOCATION:Arsha Vidya Gurukulam\, 651 Route 115\, Saylorsburg\, PA\, 18353\, United States
ATTACH;FMTTYPE=image/jpeg:https://arshavidya.org/wp-content/uploads/2018/07/lord-ganesha.jpg
GEO:40.8876814;-75.3129654
X-APPLE-STRUCTURED-LOCATION;VALUE=URI;X-ADDRESS=Arsha Vidya Gurukulam 651 Route 115 Saylorsburg PA 18353 United States;X-APPLE-RADIUS=500;X-TITLE=651 Route 115:geo:-75.3129654,40.8876814
END:VEVENT
BEGIN:VEVENT
DTSTART;TZID=America/New_York:20290410T054000
DTEND;TZID=America/New_York:20290410T070000
DTSTAMP:20260420T232119
CREATED:20250225T173826Z
LAST-MODIFIED:20250225T173826Z
UID:10010041-1870494000-1870498800@arshavidya.org
SUMMARY:Abhisheka to Lord Dakshinamurti (daily)
DESCRIPTION:In-Person and Online \nDakshinamurti Temple\nArsha Vidya Gurukulam\n651 Route 115\nSaylorsburg\, Pennsylvania \nView on YouTube
URL:https://arshavidya.org/event/abhisheka-to-lord-dakshinamurti-daily/2029-04-10/
LOCATION:Arsha Vidya Gurukulam\, 651 Route 115\, Saylorsburg\, PA\, 18353\, United States
CATEGORIES:Puja
ATTACH;FMTTYPE=image/png:https://arshavidya.org/wp-content/uploads/Dakshinamurti_2021_6.png
GEO:40.8876814;-75.3129654
X-APPLE-STRUCTURED-LOCATION;VALUE=URI;X-ADDRESS=Arsha Vidya Gurukulam 651 Route 115 Saylorsburg PA 18353 United States;X-APPLE-RADIUS=500;X-TITLE=651 Route 115:geo:-75.3129654,40.8876814
END:VEVENT
BEGIN:VEVENT
DTSTART;TZID=America/New_York:20290410T180000
DTEND;TZID=America/New_York:20290410T183000
DTSTAMP:20260420T232119
CREATED:20250225T174148Z
LAST-MODIFIED:20250826T200812Z
UID:10017719-1870538400-1870540200@arshavidya.org
SUMMARY:Evening Arati (daily)
DESCRIPTION:In-Person and Online \nDakshinamurti Temple\nArsha Vidya Gurukulam\n651 Route 115\nSaylorsburg\, Pennsylvania \nView on YouTube
URL:https://arshavidya.org/event/evening-arati-daily/2029-04-10/
LOCATION:Arsha Vidya Gurukulam\, 651 Route 115\, Saylorsburg\, PA\, 18353\, United States
ATTACH;FMTTYPE=image/jpeg:https://arshavidya.org/wp-content/uploads/Dakshinamurti_0498-web-scaled.jpg
GEO:40.8876814;-75.3129654
X-APPLE-STRUCTURED-LOCATION;VALUE=URI;X-ADDRESS=Arsha Vidya Gurukulam 651 Route 115 Saylorsburg PA 18353 United States;X-APPLE-RADIUS=500;X-TITLE=651 Route 115:geo:-75.3129654,40.8876814
END:VEVENT
BEGIN:VEVENT
DTSTART;TZID=America/New_York:20290411T051500
DTEND;TZID=America/New_York:20290411T053000
DTSTAMP:20260420T232119
CREATED:20250225T173252Z
LAST-MODIFIED:20250225T173252Z
UID:10008216-1870578900-1870579800@arshavidya.org
SUMMARY:Ganapati Homa (daily)
DESCRIPTION:In-Person Only \nLocated in the Homa Building across the road from the Dakshinamurti Temple. \nArsha Vidya Gurukulam\n651 Route 115\nSaylorsburg\, Pennsylvania
URL:https://arshavidya.org/event/ganapati-homa-daily/2029-04-11/
LOCATION:Arsha Vidya Gurukulam\, 651 Route 115\, Saylorsburg\, PA\, 18353\, United States
ATTACH;FMTTYPE=image/jpeg:https://arshavidya.org/wp-content/uploads/2018/07/lord-ganesha.jpg
GEO:40.8876814;-75.3129654
X-APPLE-STRUCTURED-LOCATION;VALUE=URI;X-ADDRESS=Arsha Vidya Gurukulam 651 Route 115 Saylorsburg PA 18353 United States;X-APPLE-RADIUS=500;X-TITLE=651 Route 115:geo:-75.3129654,40.8876814
END:VEVENT
BEGIN:VEVENT
DTSTART;TZID=America/New_York:20290411T054000
DTEND;TZID=America/New_York:20290411T070000
DTSTAMP:20260420T232119
CREATED:20250225T173826Z
LAST-MODIFIED:20250225T173826Z
UID:10010042-1870580400-1870585200@arshavidya.org
SUMMARY:Abhisheka to Lord Dakshinamurti (daily)
DESCRIPTION:In-Person and Online \nDakshinamurti Temple\nArsha Vidya Gurukulam\n651 Route 115\nSaylorsburg\, Pennsylvania \nView on YouTube
URL:https://arshavidya.org/event/abhisheka-to-lord-dakshinamurti-daily/2029-04-11/
LOCATION:Arsha Vidya Gurukulam\, 651 Route 115\, Saylorsburg\, PA\, 18353\, United States
CATEGORIES:Puja
ATTACH;FMTTYPE=image/png:https://arshavidya.org/wp-content/uploads/Dakshinamurti_2021_6.png
GEO:40.8876814;-75.3129654
X-APPLE-STRUCTURED-LOCATION;VALUE=URI;X-ADDRESS=Arsha Vidya Gurukulam 651 Route 115 Saylorsburg PA 18353 United States;X-APPLE-RADIUS=500;X-TITLE=651 Route 115:geo:-75.3129654,40.8876814
END:VEVENT
BEGIN:VEVENT
DTSTART;TZID=America/New_York:20290411T103000
DTEND;TZID=America/New_York:20290411T113000
DTSTAMP:20260420T232119
CREATED:20250525T012059Z
LAST-MODIFIED:20260402T215119Z
UID:10006425-1870597800-1870601400@arshavidya.org
SUMMARY:Mandukya Upanishad Karika with Swami Muktatmananda ONLINE ONLY
DESCRIPTION:ONLINE ONLY \nMandukya Upanishad – Swami Nikhilananda \nMandukya Upanishad – Anandagiri Tika \nZOOM MEETING LINK \nDonation Link \n 
URL:https://arshavidya.org/event/muktatmananda-online-only/2029-04-11/
LOCATION:Online\, PA\, United States
CATEGORIES:Ongoing,Study Online
ATTACH;FMTTYPE=image/png:https://arshavidya.org/wp-content/uploads/SwM2021_Still3-1.png
END:VEVENT
BEGIN:VEVENT
DTSTART;TZID=America/New_York:20290411T180000
DTEND;TZID=America/New_York:20290411T183000
DTSTAMP:20260420T232119
CREATED:20250225T174148Z
LAST-MODIFIED:20250826T200812Z
UID:10017720-1870624800-1870626600@arshavidya.org
SUMMARY:Evening Arati (daily)
DESCRIPTION:In-Person and Online \nDakshinamurti Temple\nArsha Vidya Gurukulam\n651 Route 115\nSaylorsburg\, Pennsylvania \nView on YouTube
URL:https://arshavidya.org/event/evening-arati-daily/2029-04-11/
LOCATION:Arsha Vidya Gurukulam\, 651 Route 115\, Saylorsburg\, PA\, 18353\, United States
ATTACH;FMTTYPE=image/jpeg:https://arshavidya.org/wp-content/uploads/Dakshinamurti_0498-web-scaled.jpg
GEO:40.8876814;-75.3129654
X-APPLE-STRUCTURED-LOCATION;VALUE=URI;X-ADDRESS=Arsha Vidya Gurukulam 651 Route 115 Saylorsburg PA 18353 United States;X-APPLE-RADIUS=500;X-TITLE=651 Route 115:geo:-75.3129654,40.8876814
END:VEVENT
BEGIN:VEVENT
DTSTART;TZID=America/New_York:20290411T200000
DTEND;TZID=America/New_York:20290411T210000
DTSTAMP:20260420T232119
CREATED:20240710T194438Z
LAST-MODIFIED:20250707T162810Z
UID:10005538-1870632000-1870635600@arshavidya.org
SUMMARY:Shrimad Bhagavatam Study with Brhm. Pratyagatma Chaitanya ONLINE ONLY
DESCRIPTION:Online Series \n\n\nTOPIC:\nShrimad Bhagavatam is a Mahapurana written by Sage Veda Vyasa. In these classes\, the text is studied verse by verse based on Shridhari tika. \n\n\nTEACHER:\nBrhm. Pratyagaatma Chaitanya \n\n\nJOIN ZOOM MEETING \n\n\nZoom ID: 871 6283 5263 \, Passcode: 495411
URL:https://arshavidya.org/event/shrimad-bhagavatam-study-with-brhm-pratyagaatma-chaitanya-online-only/2029-04-11/
LOCATION:Arsha Vidya Gurukulam\, 651 Route 115\, Saylorsburg\, PA\, 18353\, United States
CATEGORIES:Recurring,Study Online
ATTACH;FMTTYPE=image/jpeg:https://arshavidya.org/wp-content/uploads/Pratyagatmaji-scaled-e1720644848109.jpg
GEO:40.8876814;-75.3129654
X-APPLE-STRUCTURED-LOCATION;VALUE=URI;X-ADDRESS=Arsha Vidya Gurukulam 651 Route 115 Saylorsburg PA 18353 United States;X-APPLE-RADIUS=500;X-TITLE=651 Route 115:geo:-75.3129654,40.8876814
END:VEVENT
BEGIN:VEVENT
DTSTART;TZID=America/New_York:20290412T051500
DTEND;TZID=America/New_York:20290412T053000
DTSTAMP:20260420T232119
CREATED:20250225T173252Z
LAST-MODIFIED:20250225T173252Z
UID:10008217-1870665300-1870666200@arshavidya.org
SUMMARY:Ganapati Homa (daily)
DESCRIPTION:In-Person Only \nLocated in the Homa Building across the road from the Dakshinamurti Temple. \nArsha Vidya Gurukulam\n651 Route 115\nSaylorsburg\, Pennsylvania
URL:https://arshavidya.org/event/ganapati-homa-daily/2029-04-12/
LOCATION:Arsha Vidya Gurukulam\, 651 Route 115\, Saylorsburg\, PA\, 18353\, United States
ATTACH;FMTTYPE=image/jpeg:https://arshavidya.org/wp-content/uploads/2018/07/lord-ganesha.jpg
GEO:40.8876814;-75.3129654
X-APPLE-STRUCTURED-LOCATION;VALUE=URI;X-ADDRESS=Arsha Vidya Gurukulam 651 Route 115 Saylorsburg PA 18353 United States;X-APPLE-RADIUS=500;X-TITLE=651 Route 115:geo:-75.3129654,40.8876814
END:VEVENT
BEGIN:VEVENT
DTSTART;TZID=America/New_York:20290412T054000
DTEND;TZID=America/New_York:20290412T070000
DTSTAMP:20260420T232119
CREATED:20250225T173826Z
LAST-MODIFIED:20250225T173826Z
UID:10010043-1870666800-1870671600@arshavidya.org
SUMMARY:Abhisheka to Lord Dakshinamurti (daily)
DESCRIPTION:In-Person and Online \nDakshinamurti Temple\nArsha Vidya Gurukulam\n651 Route 115\nSaylorsburg\, Pennsylvania \nView on YouTube
URL:https://arshavidya.org/event/abhisheka-to-lord-dakshinamurti-daily/2029-04-12/
LOCATION:Arsha Vidya Gurukulam\, 651 Route 115\, Saylorsburg\, PA\, 18353\, United States
CATEGORIES:Puja
ATTACH;FMTTYPE=image/png:https://arshavidya.org/wp-content/uploads/Dakshinamurti_2021_6.png
GEO:40.8876814;-75.3129654
X-APPLE-STRUCTURED-LOCATION;VALUE=URI;X-ADDRESS=Arsha Vidya Gurukulam 651 Route 115 Saylorsburg PA 18353 United States;X-APPLE-RADIUS=500;X-TITLE=651 Route 115:geo:-75.3129654,40.8876814
END:VEVENT
BEGIN:VEVENT
DTSTART;TZID=America/New_York:20290412T180000
DTEND;TZID=America/New_York:20290412T183000
DTSTAMP:20260420T232119
CREATED:20250225T174148Z
LAST-MODIFIED:20250826T200812Z
UID:10017721-1870711200-1870713000@arshavidya.org
SUMMARY:Evening Arati (daily)
DESCRIPTION:In-Person and Online \nDakshinamurti Temple\nArsha Vidya Gurukulam\n651 Route 115\nSaylorsburg\, Pennsylvania \nView on YouTube
URL:https://arshavidya.org/event/evening-arati-daily/2029-04-12/
LOCATION:Arsha Vidya Gurukulam\, 651 Route 115\, Saylorsburg\, PA\, 18353\, United States
ATTACH;FMTTYPE=image/jpeg:https://arshavidya.org/wp-content/uploads/Dakshinamurti_0498-web-scaled.jpg
GEO:40.8876814;-75.3129654
X-APPLE-STRUCTURED-LOCATION;VALUE=URI;X-ADDRESS=Arsha Vidya Gurukulam 651 Route 115 Saylorsburg PA 18353 United States;X-APPLE-RADIUS=500;X-TITLE=651 Route 115:geo:-75.3129654,40.8876814
END:VEVENT
BEGIN:VEVENT
DTSTART;TZID=America/New_York:20290413T051500
DTEND;TZID=America/New_York:20290413T053000
DTSTAMP:20260420T232119
CREATED:20250225T173252Z
LAST-MODIFIED:20250225T173252Z
UID:10008218-1870751700-1870752600@arshavidya.org
SUMMARY:Ganapati Homa (daily)
DESCRIPTION:In-Person Only \nLocated in the Homa Building across the road from the Dakshinamurti Temple. \nArsha Vidya Gurukulam\n651 Route 115\nSaylorsburg\, Pennsylvania
URL:https://arshavidya.org/event/ganapati-homa-daily/2029-04-13/
LOCATION:Arsha Vidya Gurukulam\, 651 Route 115\, Saylorsburg\, PA\, 18353\, United States
ATTACH;FMTTYPE=image/jpeg:https://arshavidya.org/wp-content/uploads/2018/07/lord-ganesha.jpg
GEO:40.8876814;-75.3129654
X-APPLE-STRUCTURED-LOCATION;VALUE=URI;X-ADDRESS=Arsha Vidya Gurukulam 651 Route 115 Saylorsburg PA 18353 United States;X-APPLE-RADIUS=500;X-TITLE=651 Route 115:geo:-75.3129654,40.8876814
END:VEVENT
BEGIN:VEVENT
DTSTART;TZID=America/New_York:20290413T054000
DTEND;TZID=America/New_York:20290413T070000
DTSTAMP:20260420T232119
CREATED:20250225T173826Z
LAST-MODIFIED:20250225T173826Z
UID:10010044-1870753200-1870758000@arshavidya.org
SUMMARY:Abhisheka to Lord Dakshinamurti (daily)
DESCRIPTION:In-Person and Online \nDakshinamurti Temple\nArsha Vidya Gurukulam\n651 Route 115\nSaylorsburg\, Pennsylvania \nView on YouTube
URL:https://arshavidya.org/event/abhisheka-to-lord-dakshinamurti-daily/2029-04-13/
LOCATION:Arsha Vidya Gurukulam\, 651 Route 115\, Saylorsburg\, PA\, 18353\, United States
CATEGORIES:Puja
ATTACH;FMTTYPE=image/png:https://arshavidya.org/wp-content/uploads/Dakshinamurti_2021_6.png
GEO:40.8876814;-75.3129654
X-APPLE-STRUCTURED-LOCATION;VALUE=URI;X-ADDRESS=Arsha Vidya Gurukulam 651 Route 115 Saylorsburg PA 18353 United States;X-APPLE-RADIUS=500;X-TITLE=651 Route 115:geo:-75.3129654,40.8876814
END:VEVENT
BEGIN:VEVENT
DTSTART;TZID=America/New_York:20290413T103000
DTEND;TZID=America/New_York:20290413T113000
DTSTAMP:20260420T232119
CREATED:20250525T012059Z
LAST-MODIFIED:20260402T215119Z
UID:10006426-1870770600-1870774200@arshavidya.org
SUMMARY:Mandukya Upanishad Karika with Swami Muktatmananda ONLINE ONLY
DESCRIPTION:ONLINE ONLY \nMandukya Upanishad – Swami Nikhilananda \nMandukya Upanishad – Anandagiri Tika \nZOOM MEETING LINK \nDonation Link \n 
URL:https://arshavidya.org/event/muktatmananda-online-only/2029-04-13/
LOCATION:Online\, PA\, United States
CATEGORIES:Ongoing,Study Online
ATTACH;FMTTYPE=image/png:https://arshavidya.org/wp-content/uploads/SwM2021_Still3-1.png
END:VEVENT
BEGIN:VEVENT
DTSTART;TZID=America/New_York:20290413T180000
DTEND;TZID=America/New_York:20290413T183000
DTSTAMP:20260420T232119
CREATED:20250225T174148Z
LAST-MODIFIED:20250826T200812Z
UID:10017722-1870797600-1870799400@arshavidya.org
SUMMARY:Evening Arati (daily)
DESCRIPTION:In-Person and Online \nDakshinamurti Temple\nArsha Vidya Gurukulam\n651 Route 115\nSaylorsburg\, Pennsylvania \nView on YouTube
URL:https://arshavidya.org/event/evening-arati-daily/2029-04-13/
LOCATION:Arsha Vidya Gurukulam\, 651 Route 115\, Saylorsburg\, PA\, 18353\, United States
ATTACH;FMTTYPE=image/jpeg:https://arshavidya.org/wp-content/uploads/Dakshinamurti_0498-web-scaled.jpg
GEO:40.8876814;-75.3129654
X-APPLE-STRUCTURED-LOCATION;VALUE=URI;X-ADDRESS=Arsha Vidya Gurukulam 651 Route 115 Saylorsburg PA 18353 United States;X-APPLE-RADIUS=500;X-TITLE=651 Route 115:geo:-75.3129654,40.8876814
END:VEVENT
BEGIN:VEVENT
DTSTART;TZID=America/New_York:20290414T051500
DTEND;TZID=America/New_York:20290414T053000
DTSTAMP:20260420T232119
CREATED:20250225T173252Z
LAST-MODIFIED:20250225T173252Z
UID:10008219-1870838100-1870839000@arshavidya.org
SUMMARY:Ganapati Homa (daily)
DESCRIPTION:In-Person Only \nLocated in the Homa Building across the road from the Dakshinamurti Temple. \nArsha Vidya Gurukulam\n651 Route 115\nSaylorsburg\, Pennsylvania
URL:https://arshavidya.org/event/ganapati-homa-daily/2029-04-14/
LOCATION:Arsha Vidya Gurukulam\, 651 Route 115\, Saylorsburg\, PA\, 18353\, United States
ATTACH;FMTTYPE=image/jpeg:https://arshavidya.org/wp-content/uploads/2018/07/lord-ganesha.jpg
GEO:40.8876814;-75.3129654
X-APPLE-STRUCTURED-LOCATION;VALUE=URI;X-ADDRESS=Arsha Vidya Gurukulam 651 Route 115 Saylorsburg PA 18353 United States;X-APPLE-RADIUS=500;X-TITLE=651 Route 115:geo:-75.3129654,40.8876814
END:VEVENT
BEGIN:VEVENT
DTSTART;TZID=America/New_York:20290414T054000
DTEND;TZID=America/New_York:20290414T070000
DTSTAMP:20260420T232119
CREATED:20250225T173826Z
LAST-MODIFIED:20250225T173826Z
UID:10010045-1870839600-1870844400@arshavidya.org
SUMMARY:Abhisheka to Lord Dakshinamurti (daily)
DESCRIPTION:In-Person and Online \nDakshinamurti Temple\nArsha Vidya Gurukulam\n651 Route 115\nSaylorsburg\, Pennsylvania \nView on YouTube
URL:https://arshavidya.org/event/abhisheka-to-lord-dakshinamurti-daily/2029-04-14/
LOCATION:Arsha Vidya Gurukulam\, 651 Route 115\, Saylorsburg\, PA\, 18353\, United States
CATEGORIES:Puja
ATTACH;FMTTYPE=image/png:https://arshavidya.org/wp-content/uploads/Dakshinamurti_2021_6.png
GEO:40.8876814;-75.3129654
X-APPLE-STRUCTURED-LOCATION;VALUE=URI;X-ADDRESS=Arsha Vidya Gurukulam 651 Route 115 Saylorsburg PA 18353 United States;X-APPLE-RADIUS=500;X-TITLE=651 Route 115:geo:-75.3129654,40.8876814
END:VEVENT
BEGIN:VEVENT
DTSTART;TZID=America/New_York:20290414T180000
DTEND;TZID=America/New_York:20290414T183000
DTSTAMP:20260420T232119
CREATED:20250225T174148Z
LAST-MODIFIED:20250826T200812Z
UID:10017723-1870884000-1870885800@arshavidya.org
SUMMARY:Evening Arati (daily)
DESCRIPTION:In-Person and Online \nDakshinamurti Temple\nArsha Vidya Gurukulam\n651 Route 115\nSaylorsburg\, Pennsylvania \nView on YouTube
URL:https://arshavidya.org/event/evening-arati-daily/2029-04-14/
LOCATION:Arsha Vidya Gurukulam\, 651 Route 115\, Saylorsburg\, PA\, 18353\, United States
ATTACH;FMTTYPE=image/jpeg:https://arshavidya.org/wp-content/uploads/Dakshinamurti_0498-web-scaled.jpg
GEO:40.8876814;-75.3129654
X-APPLE-STRUCTURED-LOCATION;VALUE=URI;X-ADDRESS=Arsha Vidya Gurukulam 651 Route 115 Saylorsburg PA 18353 United States;X-APPLE-RADIUS=500;X-TITLE=651 Route 115:geo:-75.3129654,40.8876814
END:VEVENT
BEGIN:VEVENT
DTSTART;TZID=America/New_York:20290415T051500
DTEND;TZID=America/New_York:20290415T053000
DTSTAMP:20260420T232119
CREATED:20250225T173252Z
LAST-MODIFIED:20250225T173252Z
UID:10008220-1870924500-1870925400@arshavidya.org
SUMMARY:Ganapati Homa (daily)
DESCRIPTION:In-Person Only \nLocated in the Homa Building across the road from the Dakshinamurti Temple. \nArsha Vidya Gurukulam\n651 Route 115\nSaylorsburg\, Pennsylvania
URL:https://arshavidya.org/event/ganapati-homa-daily/2029-04-15/
LOCATION:Arsha Vidya Gurukulam\, 651 Route 115\, Saylorsburg\, PA\, 18353\, United States
ATTACH;FMTTYPE=image/jpeg:https://arshavidya.org/wp-content/uploads/2018/07/lord-ganesha.jpg
GEO:40.8876814;-75.3129654
X-APPLE-STRUCTURED-LOCATION;VALUE=URI;X-ADDRESS=Arsha Vidya Gurukulam 651 Route 115 Saylorsburg PA 18353 United States;X-APPLE-RADIUS=500;X-TITLE=651 Route 115:geo:-75.3129654,40.8876814
END:VEVENT
BEGIN:VEVENT
DTSTART;TZID=America/New_York:20290415T054000
DTEND;TZID=America/New_York:20290415T070000
DTSTAMP:20260420T232119
CREATED:20250225T173826Z
LAST-MODIFIED:20250225T173826Z
UID:10010046-1870926000-1870930800@arshavidya.org
SUMMARY:Abhisheka to Lord Dakshinamurti (daily)
DESCRIPTION:In-Person and Online \nDakshinamurti Temple\nArsha Vidya Gurukulam\n651 Route 115\nSaylorsburg\, Pennsylvania \nView on YouTube
URL:https://arshavidya.org/event/abhisheka-to-lord-dakshinamurti-daily/2029-04-15/
LOCATION:Arsha Vidya Gurukulam\, 651 Route 115\, Saylorsburg\, PA\, 18353\, United States
CATEGORIES:Puja
ATTACH;FMTTYPE=image/png:https://arshavidya.org/wp-content/uploads/Dakshinamurti_2021_6.png
GEO:40.8876814;-75.3129654
X-APPLE-STRUCTURED-LOCATION;VALUE=URI;X-ADDRESS=Arsha Vidya Gurukulam 651 Route 115 Saylorsburg PA 18353 United States;X-APPLE-RADIUS=500;X-TITLE=651 Route 115:geo:-75.3129654,40.8876814
END:VEVENT
BEGIN:VEVENT
DTSTART;TZID=America/New_York:20290415T100000
DTEND;TZID=America/New_York:20290415T123000
DTSTAMP:20260420T232119
CREATED:20260314T073421Z
LAST-MODIFIED:20260418T215801Z
UID:10018681-1870941600-1870950600@arshavidya.org
SUMMARY:1st and 3rd Sunday Classes with Swami Muktatmananda
DESCRIPTION:In-Person and Online \nBhagavad Gita Chapter 11 \nSwami Muktatmananda \n10:00am-11:00am ET:  Class 1 \n11:30am-12:30pm ET: Class 2 \nView on YouTube \narshavidya.org
URL:https://arshavidya.org/event/1st-and-3rd-sunday-study/2029-04-15/
LOCATION:Arsha Vidya Gurukulam\, 651 Route 115\, Saylorsburg\, PA\, 18353\, United States
CATEGORIES:Ongoing
ATTACH;FMTTYPE=image/png:https://arshavidya.org/wp-content/uploads/SwM2022_Still2.png
GEO:40.8876814;-75.3129654
X-APPLE-STRUCTURED-LOCATION;VALUE=URI;X-ADDRESS=Arsha Vidya Gurukulam 651 Route 115 Saylorsburg PA 18353 United States;X-APPLE-RADIUS=500;X-TITLE=651 Route 115:geo:-75.3129654,40.8876814
END:VEVENT
BEGIN:VEVENT
DTSTART;TZID=America/New_York:20290415T180000
DTEND;TZID=America/New_York:20290415T183000
DTSTAMP:20260420T232119
CREATED:20250225T174148Z
LAST-MODIFIED:20250826T200812Z
UID:10017724-1870970400-1870972200@arshavidya.org
SUMMARY:Evening Arati (daily)
DESCRIPTION:In-Person and Online \nDakshinamurti Temple\nArsha Vidya Gurukulam\n651 Route 115\nSaylorsburg\, Pennsylvania \nView on YouTube
URL:https://arshavidya.org/event/evening-arati-daily/2029-04-15/
LOCATION:Arsha Vidya Gurukulam\, 651 Route 115\, Saylorsburg\, PA\, 18353\, United States
ATTACH;FMTTYPE=image/jpeg:https://arshavidya.org/wp-content/uploads/Dakshinamurti_0498-web-scaled.jpg
GEO:40.8876814;-75.3129654
X-APPLE-STRUCTURED-LOCATION;VALUE=URI;X-ADDRESS=Arsha Vidya Gurukulam 651 Route 115 Saylorsburg PA 18353 United States;X-APPLE-RADIUS=500;X-TITLE=651 Route 115:geo:-75.3129654,40.8876814
END:VEVENT
END:VCALENDAR