BEGIN:VCALENDAR
VERSION:2.0
PRODID:-//Arsha Vidya Gurukulam - ECPv6.15.16//NONSGML v1.0//EN
CALSCALE:GREGORIAN
METHOD:PUBLISH
X-WR-CALNAME:Arsha Vidya Gurukulam
X-ORIGINAL-URL:https://arshavidya.org
X-WR-CALDESC:Events for Arsha Vidya Gurukulam
REFRESH-INTERVAL;VALUE=DURATION:PT1H
X-Robots-Tag:noindex
X-PUBLISHED-TTL:PT1H
BEGIN:VTIMEZONE
TZID:America/New_York
BEGIN:DAYLIGHT
TZOFFSETFROM:-0500
TZOFFSETTO:-0400
TZNAME:EDT
DTSTART:20280312T070000
END:DAYLIGHT
BEGIN:STANDARD
TZOFFSETFROM:-0400
TZOFFSETTO:-0500
TZNAME:EST
DTSTART:20281105T060000
END:STANDARD
BEGIN:DAYLIGHT
TZOFFSETFROM:-0500
TZOFFSETTO:-0400
TZNAME:EDT
DTSTART:20290311T070000
END:DAYLIGHT
BEGIN:STANDARD
TZOFFSETFROM:-0400
TZOFFSETTO:-0500
TZNAME:EST
DTSTART:20291104T060000
END:STANDARD
BEGIN:DAYLIGHT
TZOFFSETFROM:-0500
TZOFFSETTO:-0400
TZNAME:EDT
DTSTART:20300310T070000
END:DAYLIGHT
BEGIN:STANDARD
TZOFFSETFROM:-0400
TZOFFSETTO:-0500
TZNAME:EST
DTSTART:20301103T060000
END:STANDARD
END:VTIMEZONE
BEGIN:VEVENT
DTSTART;TZID=America/New_York:20290709T051500
DTEND;TZID=America/New_York:20290709T053000
DTSTAMP:20260423T044911
CREATED:20250225T173252Z
LAST-MODIFIED:20250225T173252Z
UID:10008305-1878268500-1878269400@arshavidya.org
SUMMARY:Ganapati Homa (daily)
DESCRIPTION:In-Person Only \nLocated in the Homa Building across the road from the Dakshinamurti Temple. \nArsha Vidya Gurukulam\n651 Route 115\nSaylorsburg\, Pennsylvania
URL:https://arshavidya.org/event/ganapati-homa-daily/2029-07-09/
LOCATION:Arsha Vidya Gurukulam\, 651 Route 115\, Saylorsburg\, PA\, 18353\, United States
ATTACH;FMTTYPE=image/jpeg:https://arshavidya.org/wp-content/uploads/2018/07/lord-ganesha.jpg
GEO:40.8876814;-75.3129654
X-APPLE-STRUCTURED-LOCATION;VALUE=URI;X-ADDRESS=Arsha Vidya Gurukulam 651 Route 115 Saylorsburg PA 18353 United States;X-APPLE-RADIUS=500;X-TITLE=651 Route 115:geo:-75.3129654,40.8876814
END:VEVENT
BEGIN:VEVENT
DTSTART;TZID=America/New_York:20290709T054000
DTEND;TZID=America/New_York:20290709T070000
DTSTAMP:20260423T044911
CREATED:20250225T173826Z
LAST-MODIFIED:20250225T173826Z
UID:10010131-1878270000-1878274800@arshavidya.org
SUMMARY:Abhisheka to Lord Dakshinamurti (daily)
DESCRIPTION:In-Person and Online \nDakshinamurti Temple\nArsha Vidya Gurukulam\n651 Route 115\nSaylorsburg\, Pennsylvania \nView on YouTube
URL:https://arshavidya.org/event/abhisheka-to-lord-dakshinamurti-daily/2029-07-09/
LOCATION:Arsha Vidya Gurukulam\, 651 Route 115\, Saylorsburg\, PA\, 18353\, United States
CATEGORIES:Puja
ATTACH;FMTTYPE=image/png:https://arshavidya.org/wp-content/uploads/Dakshinamurti_2021_6.png
GEO:40.8876814;-75.3129654
X-APPLE-STRUCTURED-LOCATION;VALUE=URI;X-ADDRESS=Arsha Vidya Gurukulam 651 Route 115 Saylorsburg PA 18353 United States;X-APPLE-RADIUS=500;X-TITLE=651 Route 115:geo:-75.3129654,40.8876814
END:VEVENT
BEGIN:VEVENT
DTSTART;TZID=America/New_York:20290709T103000
DTEND;TZID=America/New_York:20290709T113000
DTSTAMP:20260423T044911
CREATED:20250525T012059Z
LAST-MODIFIED:20260422T233339Z
UID:10006463-1878287400-1878291000@arshavidya.org
SUMMARY:Mandukya Upanishad Karika with Swami Muktatmananda ONLINE ONLY
DESCRIPTION:ONLINE ONLY \nThese classes are resuming on April 29\, 2026 and thereafter ongoing every Monday/Wednesday/Friday at 10:30 am ET. \nMandukya Upanishad – Swami Nikhilananda \nMandukya Upanishad – Anandagiri Tika \nZOOM MEETING LINK \nDonation Link \n 
URL:https://arshavidya.org/event/muktatmananda-online-only/2029-07-09/
LOCATION:Online\, PA\, United States
CATEGORIES:Ongoing,Study Online
ATTACH;FMTTYPE=image/png:https://arshavidya.org/wp-content/uploads/SwM2021_Still3-1.png
END:VEVENT
BEGIN:VEVENT
DTSTART;TZID=America/New_York:20290709T180000
DTEND;TZID=America/New_York:20290709T183000
DTSTAMP:20260423T044911
CREATED:20250225T174148Z
LAST-MODIFIED:20250826T200812Z
UID:10017809-1878314400-1878316200@arshavidya.org
SUMMARY:Evening Arati (daily)
DESCRIPTION:In-Person and Online \nDakshinamurti Temple\nArsha Vidya Gurukulam\n651 Route 115\nSaylorsburg\, Pennsylvania \nView on YouTube
URL:https://arshavidya.org/event/evening-arati-daily/2029-07-09/
LOCATION:Arsha Vidya Gurukulam\, 651 Route 115\, Saylorsburg\, PA\, 18353\, United States
ATTACH;FMTTYPE=image/jpeg:https://arshavidya.org/wp-content/uploads/Dakshinamurti_0498-web-scaled.jpg
GEO:40.8876814;-75.3129654
X-APPLE-STRUCTURED-LOCATION;VALUE=URI;X-ADDRESS=Arsha Vidya Gurukulam 651 Route 115 Saylorsburg PA 18353 United States;X-APPLE-RADIUS=500;X-TITLE=651 Route 115:geo:-75.3129654,40.8876814
END:VEVENT
BEGIN:VEVENT
DTSTART;TZID=America/New_York:20290710T051500
DTEND;TZID=America/New_York:20290710T053000
DTSTAMP:20260423T044911
CREATED:20250225T173252Z
LAST-MODIFIED:20250225T173252Z
UID:10008306-1878354900-1878355800@arshavidya.org
SUMMARY:Ganapati Homa (daily)
DESCRIPTION:In-Person Only \nLocated in the Homa Building across the road from the Dakshinamurti Temple. \nArsha Vidya Gurukulam\n651 Route 115\nSaylorsburg\, Pennsylvania
URL:https://arshavidya.org/event/ganapati-homa-daily/2029-07-10/
LOCATION:Arsha Vidya Gurukulam\, 651 Route 115\, Saylorsburg\, PA\, 18353\, United States
ATTACH;FMTTYPE=image/jpeg:https://arshavidya.org/wp-content/uploads/2018/07/lord-ganesha.jpg
GEO:40.8876814;-75.3129654
X-APPLE-STRUCTURED-LOCATION;VALUE=URI;X-ADDRESS=Arsha Vidya Gurukulam 651 Route 115 Saylorsburg PA 18353 United States;X-APPLE-RADIUS=500;X-TITLE=651 Route 115:geo:-75.3129654,40.8876814
END:VEVENT
BEGIN:VEVENT
DTSTART;TZID=America/New_York:20290710T054000
DTEND;TZID=America/New_York:20290710T070000
DTSTAMP:20260423T044911
CREATED:20250225T173826Z
LAST-MODIFIED:20250225T173826Z
UID:10010132-1878356400-1878361200@arshavidya.org
SUMMARY:Abhisheka to Lord Dakshinamurti (daily)
DESCRIPTION:In-Person and Online \nDakshinamurti Temple\nArsha Vidya Gurukulam\n651 Route 115\nSaylorsburg\, Pennsylvania \nView on YouTube
URL:https://arshavidya.org/event/abhisheka-to-lord-dakshinamurti-daily/2029-07-10/
LOCATION:Arsha Vidya Gurukulam\, 651 Route 115\, Saylorsburg\, PA\, 18353\, United States
CATEGORIES:Puja
ATTACH;FMTTYPE=image/png:https://arshavidya.org/wp-content/uploads/Dakshinamurti_2021_6.png
GEO:40.8876814;-75.3129654
X-APPLE-STRUCTURED-LOCATION;VALUE=URI;X-ADDRESS=Arsha Vidya Gurukulam 651 Route 115 Saylorsburg PA 18353 United States;X-APPLE-RADIUS=500;X-TITLE=651 Route 115:geo:-75.3129654,40.8876814
END:VEVENT
BEGIN:VEVENT
DTSTART;TZID=America/New_York:20290710T180000
DTEND;TZID=America/New_York:20290710T183000
DTSTAMP:20260423T044911
CREATED:20250225T174148Z
LAST-MODIFIED:20250826T200812Z
UID:10017810-1878400800-1878402600@arshavidya.org
SUMMARY:Evening Arati (daily)
DESCRIPTION:In-Person and Online \nDakshinamurti Temple\nArsha Vidya Gurukulam\n651 Route 115\nSaylorsburg\, Pennsylvania \nView on YouTube
URL:https://arshavidya.org/event/evening-arati-daily/2029-07-10/
LOCATION:Arsha Vidya Gurukulam\, 651 Route 115\, Saylorsburg\, PA\, 18353\, United States
ATTACH;FMTTYPE=image/jpeg:https://arshavidya.org/wp-content/uploads/Dakshinamurti_0498-web-scaled.jpg
GEO:40.8876814;-75.3129654
X-APPLE-STRUCTURED-LOCATION;VALUE=URI;X-ADDRESS=Arsha Vidya Gurukulam 651 Route 115 Saylorsburg PA 18353 United States;X-APPLE-RADIUS=500;X-TITLE=651 Route 115:geo:-75.3129654,40.8876814
END:VEVENT
BEGIN:VEVENT
DTSTART;TZID=America/New_York:20290711T051500
DTEND;TZID=America/New_York:20290711T053000
DTSTAMP:20260423T044911
CREATED:20250225T173252Z
LAST-MODIFIED:20250225T173252Z
UID:10008307-1878441300-1878442200@arshavidya.org
SUMMARY:Ganapati Homa (daily)
DESCRIPTION:In-Person Only \nLocated in the Homa Building across the road from the Dakshinamurti Temple. \nArsha Vidya Gurukulam\n651 Route 115\nSaylorsburg\, Pennsylvania
URL:https://arshavidya.org/event/ganapati-homa-daily/2029-07-11/
LOCATION:Arsha Vidya Gurukulam\, 651 Route 115\, Saylorsburg\, PA\, 18353\, United States
ATTACH;FMTTYPE=image/jpeg:https://arshavidya.org/wp-content/uploads/2018/07/lord-ganesha.jpg
GEO:40.8876814;-75.3129654
X-APPLE-STRUCTURED-LOCATION;VALUE=URI;X-ADDRESS=Arsha Vidya Gurukulam 651 Route 115 Saylorsburg PA 18353 United States;X-APPLE-RADIUS=500;X-TITLE=651 Route 115:geo:-75.3129654,40.8876814
END:VEVENT
BEGIN:VEVENT
DTSTART;TZID=America/New_York:20290711T054000
DTEND;TZID=America/New_York:20290711T070000
DTSTAMP:20260423T044911
CREATED:20250225T173826Z
LAST-MODIFIED:20250225T173826Z
UID:10010133-1878442800-1878447600@arshavidya.org
SUMMARY:Abhisheka to Lord Dakshinamurti (daily)
DESCRIPTION:In-Person and Online \nDakshinamurti Temple\nArsha Vidya Gurukulam\n651 Route 115\nSaylorsburg\, Pennsylvania \nView on YouTube
URL:https://arshavidya.org/event/abhisheka-to-lord-dakshinamurti-daily/2029-07-11/
LOCATION:Arsha Vidya Gurukulam\, 651 Route 115\, Saylorsburg\, PA\, 18353\, United States
CATEGORIES:Puja
ATTACH;FMTTYPE=image/png:https://arshavidya.org/wp-content/uploads/Dakshinamurti_2021_6.png
GEO:40.8876814;-75.3129654
X-APPLE-STRUCTURED-LOCATION;VALUE=URI;X-ADDRESS=Arsha Vidya Gurukulam 651 Route 115 Saylorsburg PA 18353 United States;X-APPLE-RADIUS=500;X-TITLE=651 Route 115:geo:-75.3129654,40.8876814
END:VEVENT
BEGIN:VEVENT
DTSTART;TZID=America/New_York:20290711T103000
DTEND;TZID=America/New_York:20290711T113000
DTSTAMP:20260423T044911
CREATED:20250525T012059Z
LAST-MODIFIED:20260422T233339Z
UID:10006464-1878460200-1878463800@arshavidya.org
SUMMARY:Mandukya Upanishad Karika with Swami Muktatmananda ONLINE ONLY
DESCRIPTION:ONLINE ONLY \nThese classes are resuming on April 29\, 2026 and thereafter ongoing every Monday/Wednesday/Friday at 10:30 am ET. \nMandukya Upanishad – Swami Nikhilananda \nMandukya Upanishad – Anandagiri Tika \nZOOM MEETING LINK \nDonation Link \n 
URL:https://arshavidya.org/event/muktatmananda-online-only/2029-07-11/
LOCATION:Online\, PA\, United States
CATEGORIES:Ongoing,Study Online
ATTACH;FMTTYPE=image/png:https://arshavidya.org/wp-content/uploads/SwM2021_Still3-1.png
END:VEVENT
BEGIN:VEVENT
DTSTART;TZID=America/New_York:20290711T180000
DTEND;TZID=America/New_York:20290711T183000
DTSTAMP:20260423T044911
CREATED:20250225T174148Z
LAST-MODIFIED:20250826T200812Z
UID:10017811-1878487200-1878489000@arshavidya.org
SUMMARY:Evening Arati (daily)
DESCRIPTION:In-Person and Online \nDakshinamurti Temple\nArsha Vidya Gurukulam\n651 Route 115\nSaylorsburg\, Pennsylvania \nView on YouTube
URL:https://arshavidya.org/event/evening-arati-daily/2029-07-11/
LOCATION:Arsha Vidya Gurukulam\, 651 Route 115\, Saylorsburg\, PA\, 18353\, United States
ATTACH;FMTTYPE=image/jpeg:https://arshavidya.org/wp-content/uploads/Dakshinamurti_0498-web-scaled.jpg
GEO:40.8876814;-75.3129654
X-APPLE-STRUCTURED-LOCATION;VALUE=URI;X-ADDRESS=Arsha Vidya Gurukulam 651 Route 115 Saylorsburg PA 18353 United States;X-APPLE-RADIUS=500;X-TITLE=651 Route 115:geo:-75.3129654,40.8876814
END:VEVENT
BEGIN:VEVENT
DTSTART;TZID=America/New_York:20290711T200000
DTEND;TZID=America/New_York:20290711T210000
DTSTAMP:20260423T044911
CREATED:20240710T194438Z
LAST-MODIFIED:20260423T011556Z
UID:10014190-1878494400-1878498000@arshavidya.org
SUMMARY:Shrimad Bhagavatam Study with Brhm. Pratyagatma Chaitanya ONLINE ONLY
DESCRIPTION:Online Only \nThis class is ongoing and takes place every Wednesday at 8:00 pm ET. \n\n\nTOPIC:\nShrimad Bhagavatam is a Mahapurana written by Sage Veda Vyasa. In these classes\, the text is studied verse by verse based on Shridhari tika. \n\n\nTEACHER:\nBrhm. Pratyagaatma Chaitanya \n\n\nTo join the Zoom meeting\, CLICK HERE \n \n\n\nZoom ID: 871 6283 5263 \, Passcode: 495411
URL:https://arshavidya.org/event/shrimad-bhagavatam-study-with-brhm-pratyagaatma-chaitanya-online-only/2029-07-11/
LOCATION:Arsha Vidya Gurukulam\, 651 Route 115\, Saylorsburg\, PA\, 18353\, United States
CATEGORIES:Recurring,Study Online
ATTACH;FMTTYPE=image/jpeg:https://arshavidya.org/wp-content/uploads/BrPratyagatma-e1751909652369.jpg
GEO:40.8876814;-75.3129654
X-APPLE-STRUCTURED-LOCATION;VALUE=URI;X-ADDRESS=Arsha Vidya Gurukulam 651 Route 115 Saylorsburg PA 18353 United States;X-APPLE-RADIUS=500;X-TITLE=651 Route 115:geo:-75.3129654,40.8876814
END:VEVENT
BEGIN:VEVENT
DTSTART;TZID=America/New_York:20290712T051500
DTEND;TZID=America/New_York:20290712T053000
DTSTAMP:20260423T044911
CREATED:20250225T173252Z
LAST-MODIFIED:20250225T173252Z
UID:10008308-1878527700-1878528600@arshavidya.org
SUMMARY:Ganapati Homa (daily)
DESCRIPTION:In-Person Only \nLocated in the Homa Building across the road from the Dakshinamurti Temple. \nArsha Vidya Gurukulam\n651 Route 115\nSaylorsburg\, Pennsylvania
URL:https://arshavidya.org/event/ganapati-homa-daily/2029-07-12/
LOCATION:Arsha Vidya Gurukulam\, 651 Route 115\, Saylorsburg\, PA\, 18353\, United States
ATTACH;FMTTYPE=image/jpeg:https://arshavidya.org/wp-content/uploads/2018/07/lord-ganesha.jpg
GEO:40.8876814;-75.3129654
X-APPLE-STRUCTURED-LOCATION;VALUE=URI;X-ADDRESS=Arsha Vidya Gurukulam 651 Route 115 Saylorsburg PA 18353 United States;X-APPLE-RADIUS=500;X-TITLE=651 Route 115:geo:-75.3129654,40.8876814
END:VEVENT
BEGIN:VEVENT
DTSTART;TZID=America/New_York:20290712T054000
DTEND;TZID=America/New_York:20290712T070000
DTSTAMP:20260423T044911
CREATED:20250225T173826Z
LAST-MODIFIED:20250225T173826Z
UID:10010134-1878529200-1878534000@arshavidya.org
SUMMARY:Abhisheka to Lord Dakshinamurti (daily)
DESCRIPTION:In-Person and Online \nDakshinamurti Temple\nArsha Vidya Gurukulam\n651 Route 115\nSaylorsburg\, Pennsylvania \nView on YouTube
URL:https://arshavidya.org/event/abhisheka-to-lord-dakshinamurti-daily/2029-07-12/
LOCATION:Arsha Vidya Gurukulam\, 651 Route 115\, Saylorsburg\, PA\, 18353\, United States
CATEGORIES:Puja
ATTACH;FMTTYPE=image/png:https://arshavidya.org/wp-content/uploads/Dakshinamurti_2021_6.png
GEO:40.8876814;-75.3129654
X-APPLE-STRUCTURED-LOCATION;VALUE=URI;X-ADDRESS=Arsha Vidya Gurukulam 651 Route 115 Saylorsburg PA 18353 United States;X-APPLE-RADIUS=500;X-TITLE=651 Route 115:geo:-75.3129654,40.8876814
END:VEVENT
BEGIN:VEVENT
DTSTART;TZID=America/New_York:20290712T180000
DTEND;TZID=America/New_York:20290712T183000
DTSTAMP:20260423T044911
CREATED:20250225T174148Z
LAST-MODIFIED:20250826T200812Z
UID:10017812-1878573600-1878575400@arshavidya.org
SUMMARY:Evening Arati (daily)
DESCRIPTION:In-Person and Online \nDakshinamurti Temple\nArsha Vidya Gurukulam\n651 Route 115\nSaylorsburg\, Pennsylvania \nView on YouTube
URL:https://arshavidya.org/event/evening-arati-daily/2029-07-12/
LOCATION:Arsha Vidya Gurukulam\, 651 Route 115\, Saylorsburg\, PA\, 18353\, United States
ATTACH;FMTTYPE=image/jpeg:https://arshavidya.org/wp-content/uploads/Dakshinamurti_0498-web-scaled.jpg
GEO:40.8876814;-75.3129654
X-APPLE-STRUCTURED-LOCATION;VALUE=URI;X-ADDRESS=Arsha Vidya Gurukulam 651 Route 115 Saylorsburg PA 18353 United States;X-APPLE-RADIUS=500;X-TITLE=651 Route 115:geo:-75.3129654,40.8876814
END:VEVENT
BEGIN:VEVENT
DTSTART;TZID=America/New_York:20290713T051500
DTEND;TZID=America/New_York:20290713T053000
DTSTAMP:20260423T044911
CREATED:20250225T173252Z
LAST-MODIFIED:20250225T173252Z
UID:10008309-1878614100-1878615000@arshavidya.org
SUMMARY:Ganapati Homa (daily)
DESCRIPTION:In-Person Only \nLocated in the Homa Building across the road from the Dakshinamurti Temple. \nArsha Vidya Gurukulam\n651 Route 115\nSaylorsburg\, Pennsylvania
URL:https://arshavidya.org/event/ganapati-homa-daily/2029-07-13/
LOCATION:Arsha Vidya Gurukulam\, 651 Route 115\, Saylorsburg\, PA\, 18353\, United States
ATTACH;FMTTYPE=image/jpeg:https://arshavidya.org/wp-content/uploads/2018/07/lord-ganesha.jpg
GEO:40.8876814;-75.3129654
X-APPLE-STRUCTURED-LOCATION;VALUE=URI;X-ADDRESS=Arsha Vidya Gurukulam 651 Route 115 Saylorsburg PA 18353 United States;X-APPLE-RADIUS=500;X-TITLE=651 Route 115:geo:-75.3129654,40.8876814
END:VEVENT
BEGIN:VEVENT
DTSTART;TZID=America/New_York:20290713T054000
DTEND;TZID=America/New_York:20290713T070000
DTSTAMP:20260423T044911
CREATED:20250225T173826Z
LAST-MODIFIED:20250225T173826Z
UID:10010135-1878615600-1878620400@arshavidya.org
SUMMARY:Abhisheka to Lord Dakshinamurti (daily)
DESCRIPTION:In-Person and Online \nDakshinamurti Temple\nArsha Vidya Gurukulam\n651 Route 115\nSaylorsburg\, Pennsylvania \nView on YouTube
URL:https://arshavidya.org/event/abhisheka-to-lord-dakshinamurti-daily/2029-07-13/
LOCATION:Arsha Vidya Gurukulam\, 651 Route 115\, Saylorsburg\, PA\, 18353\, United States
CATEGORIES:Puja
ATTACH;FMTTYPE=image/png:https://arshavidya.org/wp-content/uploads/Dakshinamurti_2021_6.png
GEO:40.8876814;-75.3129654
X-APPLE-STRUCTURED-LOCATION;VALUE=URI;X-ADDRESS=Arsha Vidya Gurukulam 651 Route 115 Saylorsburg PA 18353 United States;X-APPLE-RADIUS=500;X-TITLE=651 Route 115:geo:-75.3129654,40.8876814
END:VEVENT
BEGIN:VEVENT
DTSTART;TZID=America/New_York:20290713T103000
DTEND;TZID=America/New_York:20290713T113000
DTSTAMP:20260423T044911
CREATED:20250525T012059Z
LAST-MODIFIED:20260422T233339Z
UID:10006465-1878633000-1878636600@arshavidya.org
SUMMARY:Mandukya Upanishad Karika with Swami Muktatmananda ONLINE ONLY
DESCRIPTION:ONLINE ONLY \nThese classes are resuming on April 29\, 2026 and thereafter ongoing every Monday/Wednesday/Friday at 10:30 am ET. \nMandukya Upanishad – Swami Nikhilananda \nMandukya Upanishad – Anandagiri Tika \nZOOM MEETING LINK \nDonation Link \n 
URL:https://arshavidya.org/event/muktatmananda-online-only/2029-07-13/
LOCATION:Online\, PA\, United States
CATEGORIES:Ongoing,Study Online
ATTACH;FMTTYPE=image/png:https://arshavidya.org/wp-content/uploads/SwM2021_Still3-1.png
END:VEVENT
BEGIN:VEVENT
DTSTART;TZID=America/New_York:20290713T180000
DTEND;TZID=America/New_York:20290713T183000
DTSTAMP:20260423T044911
CREATED:20250225T174148Z
LAST-MODIFIED:20250826T200812Z
UID:10017813-1878660000-1878661800@arshavidya.org
SUMMARY:Evening Arati (daily)
DESCRIPTION:In-Person and Online \nDakshinamurti Temple\nArsha Vidya Gurukulam\n651 Route 115\nSaylorsburg\, Pennsylvania \nView on YouTube
URL:https://arshavidya.org/event/evening-arati-daily/2029-07-13/
LOCATION:Arsha Vidya Gurukulam\, 651 Route 115\, Saylorsburg\, PA\, 18353\, United States
ATTACH;FMTTYPE=image/jpeg:https://arshavidya.org/wp-content/uploads/Dakshinamurti_0498-web-scaled.jpg
GEO:40.8876814;-75.3129654
X-APPLE-STRUCTURED-LOCATION;VALUE=URI;X-ADDRESS=Arsha Vidya Gurukulam 651 Route 115 Saylorsburg PA 18353 United States;X-APPLE-RADIUS=500;X-TITLE=651 Route 115:geo:-75.3129654,40.8876814
END:VEVENT
BEGIN:VEVENT
DTSTART;TZID=America/New_York:20290714T051500
DTEND;TZID=America/New_York:20290714T053000
DTSTAMP:20260423T044911
CREATED:20250225T173252Z
LAST-MODIFIED:20250225T173252Z
UID:10008310-1878700500-1878701400@arshavidya.org
SUMMARY:Ganapati Homa (daily)
DESCRIPTION:In-Person Only \nLocated in the Homa Building across the road from the Dakshinamurti Temple. \nArsha Vidya Gurukulam\n651 Route 115\nSaylorsburg\, Pennsylvania
URL:https://arshavidya.org/event/ganapati-homa-daily/2029-07-14/
LOCATION:Arsha Vidya Gurukulam\, 651 Route 115\, Saylorsburg\, PA\, 18353\, United States
ATTACH;FMTTYPE=image/jpeg:https://arshavidya.org/wp-content/uploads/2018/07/lord-ganesha.jpg
GEO:40.8876814;-75.3129654
X-APPLE-STRUCTURED-LOCATION;VALUE=URI;X-ADDRESS=Arsha Vidya Gurukulam 651 Route 115 Saylorsburg PA 18353 United States;X-APPLE-RADIUS=500;X-TITLE=651 Route 115:geo:-75.3129654,40.8876814
END:VEVENT
BEGIN:VEVENT
DTSTART;TZID=America/New_York:20290714T054000
DTEND;TZID=America/New_York:20290714T070000
DTSTAMP:20260423T044911
CREATED:20250225T173826Z
LAST-MODIFIED:20250225T173826Z
UID:10010136-1878702000-1878706800@arshavidya.org
SUMMARY:Abhisheka to Lord Dakshinamurti (daily)
DESCRIPTION:In-Person and Online \nDakshinamurti Temple\nArsha Vidya Gurukulam\n651 Route 115\nSaylorsburg\, Pennsylvania \nView on YouTube
URL:https://arshavidya.org/event/abhisheka-to-lord-dakshinamurti-daily/2029-07-14/
LOCATION:Arsha Vidya Gurukulam\, 651 Route 115\, Saylorsburg\, PA\, 18353\, United States
CATEGORIES:Puja
ATTACH;FMTTYPE=image/png:https://arshavidya.org/wp-content/uploads/Dakshinamurti_2021_6.png
GEO:40.8876814;-75.3129654
X-APPLE-STRUCTURED-LOCATION;VALUE=URI;X-ADDRESS=Arsha Vidya Gurukulam 651 Route 115 Saylorsburg PA 18353 United States;X-APPLE-RADIUS=500;X-TITLE=651 Route 115:geo:-75.3129654,40.8876814
END:VEVENT
BEGIN:VEVENT
DTSTART;TZID=America/New_York:20290714T180000
DTEND;TZID=America/New_York:20290714T183000
DTSTAMP:20260423T044911
CREATED:20250225T174148Z
LAST-MODIFIED:20250826T200812Z
UID:10017814-1878746400-1878748200@arshavidya.org
SUMMARY:Evening Arati (daily)
DESCRIPTION:In-Person and Online \nDakshinamurti Temple\nArsha Vidya Gurukulam\n651 Route 115\nSaylorsburg\, Pennsylvania \nView on YouTube
URL:https://arshavidya.org/event/evening-arati-daily/2029-07-14/
LOCATION:Arsha Vidya Gurukulam\, 651 Route 115\, Saylorsburg\, PA\, 18353\, United States
ATTACH;FMTTYPE=image/jpeg:https://arshavidya.org/wp-content/uploads/Dakshinamurti_0498-web-scaled.jpg
GEO:40.8876814;-75.3129654
X-APPLE-STRUCTURED-LOCATION;VALUE=URI;X-ADDRESS=Arsha Vidya Gurukulam 651 Route 115 Saylorsburg PA 18353 United States;X-APPLE-RADIUS=500;X-TITLE=651 Route 115:geo:-75.3129654,40.8876814
END:VEVENT
BEGIN:VEVENT
DTSTART;TZID=America/New_York:20290715T051500
DTEND;TZID=America/New_York:20290715T053000
DTSTAMP:20260423T044911
CREATED:20250225T173252Z
LAST-MODIFIED:20250225T173252Z
UID:10008311-1878786900-1878787800@arshavidya.org
SUMMARY:Ganapati Homa (daily)
DESCRIPTION:In-Person Only \nLocated in the Homa Building across the road from the Dakshinamurti Temple. \nArsha Vidya Gurukulam\n651 Route 115\nSaylorsburg\, Pennsylvania
URL:https://arshavidya.org/event/ganapati-homa-daily/2029-07-15/
LOCATION:Arsha Vidya Gurukulam\, 651 Route 115\, Saylorsburg\, PA\, 18353\, United States
ATTACH;FMTTYPE=image/jpeg:https://arshavidya.org/wp-content/uploads/2018/07/lord-ganesha.jpg
GEO:40.8876814;-75.3129654
X-APPLE-STRUCTURED-LOCATION;VALUE=URI;X-ADDRESS=Arsha Vidya Gurukulam 651 Route 115 Saylorsburg PA 18353 United States;X-APPLE-RADIUS=500;X-TITLE=651 Route 115:geo:-75.3129654,40.8876814
END:VEVENT
BEGIN:VEVENT
DTSTART;TZID=America/New_York:20290715T054000
DTEND;TZID=America/New_York:20290715T070000
DTSTAMP:20260423T044911
CREATED:20250225T173826Z
LAST-MODIFIED:20250225T173826Z
UID:10010137-1878788400-1878793200@arshavidya.org
SUMMARY:Abhisheka to Lord Dakshinamurti (daily)
DESCRIPTION:In-Person and Online \nDakshinamurti Temple\nArsha Vidya Gurukulam\n651 Route 115\nSaylorsburg\, Pennsylvania \nView on YouTube
URL:https://arshavidya.org/event/abhisheka-to-lord-dakshinamurti-daily/2029-07-15/
LOCATION:Arsha Vidya Gurukulam\, 651 Route 115\, Saylorsburg\, PA\, 18353\, United States
CATEGORIES:Puja
ATTACH;FMTTYPE=image/png:https://arshavidya.org/wp-content/uploads/Dakshinamurti_2021_6.png
GEO:40.8876814;-75.3129654
X-APPLE-STRUCTURED-LOCATION;VALUE=URI;X-ADDRESS=Arsha Vidya Gurukulam 651 Route 115 Saylorsburg PA 18353 United States;X-APPLE-RADIUS=500;X-TITLE=651 Route 115:geo:-75.3129654,40.8876814
END:VEVENT
BEGIN:VEVENT
DTSTART;TZID=America/New_York:20290715T100000
DTEND;TZID=America/New_York:20290715T123000
DTSTAMP:20260423T044911
CREATED:20260314T073421Z
LAST-MODIFIED:20260418T215801Z
UID:10018687-1878804000-1878813000@arshavidya.org
SUMMARY:1st and 3rd Sunday Classes with Swami Muktatmananda
DESCRIPTION:In-Person and Online \nBhagavad Gita Chapter 11 \nSwami Muktatmananda \n10:00am-11:00am ET:  Class 1 \n11:30am-12:30pm ET: Class 2 \nView on YouTube \narshavidya.org
URL:https://arshavidya.org/event/1st-and-3rd-sunday-study/2029-07-15/
LOCATION:Arsha Vidya Gurukulam\, 651 Route 115\, Saylorsburg\, PA\, 18353\, United States
CATEGORIES:Ongoing
ATTACH;FMTTYPE=image/png:https://arshavidya.org/wp-content/uploads/SwM2022_Still2.png
GEO:40.8876814;-75.3129654
X-APPLE-STRUCTURED-LOCATION;VALUE=URI;X-ADDRESS=Arsha Vidya Gurukulam 651 Route 115 Saylorsburg PA 18353 United States;X-APPLE-RADIUS=500;X-TITLE=651 Route 115:geo:-75.3129654,40.8876814
END:VEVENT
BEGIN:VEVENT
DTSTART;TZID=America/New_York:20290715T180000
DTEND;TZID=America/New_York:20290715T183000
DTSTAMP:20260423T044911
CREATED:20250225T174148Z
LAST-MODIFIED:20250826T200812Z
UID:10017815-1878832800-1878834600@arshavidya.org
SUMMARY:Evening Arati (daily)
DESCRIPTION:In-Person and Online \nDakshinamurti Temple\nArsha Vidya Gurukulam\n651 Route 115\nSaylorsburg\, Pennsylvania \nView on YouTube
URL:https://arshavidya.org/event/evening-arati-daily/2029-07-15/
LOCATION:Arsha Vidya Gurukulam\, 651 Route 115\, Saylorsburg\, PA\, 18353\, United States
ATTACH;FMTTYPE=image/jpeg:https://arshavidya.org/wp-content/uploads/Dakshinamurti_0498-web-scaled.jpg
GEO:40.8876814;-75.3129654
X-APPLE-STRUCTURED-LOCATION;VALUE=URI;X-ADDRESS=Arsha Vidya Gurukulam 651 Route 115 Saylorsburg PA 18353 United States;X-APPLE-RADIUS=500;X-TITLE=651 Route 115:geo:-75.3129654,40.8876814
END:VEVENT
END:VCALENDAR