BEGIN:VCALENDAR
VERSION:2.0
PRODID:-//Arsha Vidya Gurukulam - ECPv6.15.16//NONSGML v1.0//EN
CALSCALE:GREGORIAN
METHOD:PUBLISH
X-WR-CALNAME:Arsha Vidya Gurukulam
X-ORIGINAL-URL:https://arshavidya.org
X-WR-CALDESC:Events for Arsha Vidya Gurukulam
REFRESH-INTERVAL;VALUE=DURATION:PT1H
X-Robots-Tag:noindex
X-PUBLISHED-TTL:PT1H
BEGIN:VTIMEZONE
TZID:America/New_York
BEGIN:DAYLIGHT
TZOFFSETFROM:-0500
TZOFFSETTO:-0400
TZNAME:EDT
DTSTART:20280312T070000
END:DAYLIGHT
BEGIN:STANDARD
TZOFFSETFROM:-0400
TZOFFSETTO:-0500
TZNAME:EST
DTSTART:20281105T060000
END:STANDARD
BEGIN:DAYLIGHT
TZOFFSETFROM:-0500
TZOFFSETTO:-0400
TZNAME:EDT
DTSTART:20290311T070000
END:DAYLIGHT
BEGIN:STANDARD
TZOFFSETFROM:-0400
TZOFFSETTO:-0500
TZNAME:EST
DTSTART:20291104T060000
END:STANDARD
BEGIN:DAYLIGHT
TZOFFSETFROM:-0500
TZOFFSETTO:-0400
TZNAME:EDT
DTSTART:20300310T070000
END:DAYLIGHT
BEGIN:STANDARD
TZOFFSETFROM:-0400
TZOFFSETTO:-0500
TZNAME:EST
DTSTART:20301103T060000
END:STANDARD
END:VTIMEZONE
BEGIN:VEVENT
DTSTART;TZID=America/New_York:20290806T051500
DTEND;TZID=America/New_York:20290806T053000
DTSTAMP:20260424T090227
CREATED:20250225T173252Z
LAST-MODIFIED:20250225T173252Z
UID:10008333-1880687700-1880688600@arshavidya.org
SUMMARY:Ganapati Homa (daily)
DESCRIPTION:In-Person Only \nLocated in the Homa Building across the road from the Dakshinamurti Temple. \nArsha Vidya Gurukulam\n651 Route 115\nSaylorsburg\, Pennsylvania
URL:https://arshavidya.org/event/ganapati-homa-daily/2029-08-06/
LOCATION:Arsha Vidya Gurukulam\, 651 Route 115\, Saylorsburg\, PA\, 18353\, United States
ATTACH;FMTTYPE=image/jpeg:https://arshavidya.org/wp-content/uploads/2018/07/lord-ganesha.jpg
GEO:40.8876814;-75.3129654
X-APPLE-STRUCTURED-LOCATION;VALUE=URI;X-ADDRESS=Arsha Vidya Gurukulam 651 Route 115 Saylorsburg PA 18353 United States;X-APPLE-RADIUS=500;X-TITLE=651 Route 115:geo:-75.3129654,40.8876814
END:VEVENT
BEGIN:VEVENT
DTSTART;TZID=America/New_York:20290806T054000
DTEND;TZID=America/New_York:20290806T070000
DTSTAMP:20260424T090227
CREATED:20250225T173826Z
LAST-MODIFIED:20250225T173826Z
UID:10010159-1880689200-1880694000@arshavidya.org
SUMMARY:Abhisheka to Lord Dakshinamurti (daily)
DESCRIPTION:In-Person and Online \nDakshinamurti Temple\nArsha Vidya Gurukulam\n651 Route 115\nSaylorsburg\, Pennsylvania \nView on YouTube
URL:https://arshavidya.org/event/abhisheka-to-lord-dakshinamurti-daily/2029-08-06/
LOCATION:Arsha Vidya Gurukulam\, 651 Route 115\, Saylorsburg\, PA\, 18353\, United States
CATEGORIES:Puja
ATTACH;FMTTYPE=image/png:https://arshavidya.org/wp-content/uploads/Dakshinamurti_2021_6.png
GEO:40.8876814;-75.3129654
X-APPLE-STRUCTURED-LOCATION;VALUE=URI;X-ADDRESS=Arsha Vidya Gurukulam 651 Route 115 Saylorsburg PA 18353 United States;X-APPLE-RADIUS=500;X-TITLE=651 Route 115:geo:-75.3129654,40.8876814
END:VEVENT
BEGIN:VEVENT
DTSTART;TZID=America/New_York:20290806T103000
DTEND;TZID=America/New_York:20290806T113000
DTSTAMP:20260424T090227
CREATED:20250525T012059Z
LAST-MODIFIED:20260422T233339Z
UID:10006475-1880706600-1880710200@arshavidya.org
SUMMARY:Mandukya Upanishad Karika with Swami Muktatmananda ONLINE ONLY
DESCRIPTION:ONLINE ONLY \nThese classes are resuming on April 29\, 2026 and thereafter ongoing every Monday/Wednesday/Friday at 10:30 am ET. \nMandukya Upanishad – Swami Nikhilananda \nMandukya Upanishad – Anandagiri Tika \nZOOM MEETING LINK \nDonation Link \n 
URL:https://arshavidya.org/event/muktatmananda-online-only/2029-08-06/
LOCATION:Online\, PA\, United States
CATEGORIES:Ongoing,Study Online
ATTACH;FMTTYPE=image/png:https://arshavidya.org/wp-content/uploads/SwM2021_Still3-1.png
END:VEVENT
BEGIN:VEVENT
DTSTART;TZID=America/New_York:20290806T180000
DTEND;TZID=America/New_York:20290806T183000
DTSTAMP:20260424T090227
CREATED:20250225T174148Z
LAST-MODIFIED:20250826T200812Z
UID:10017837-1880733600-1880735400@arshavidya.org
SUMMARY:Evening Arati (daily)
DESCRIPTION:In-Person and Online \nDakshinamurti Temple\nArsha Vidya Gurukulam\n651 Route 115\nSaylorsburg\, Pennsylvania \nView on YouTube
URL:https://arshavidya.org/event/evening-arati-daily/2029-08-06/
LOCATION:Arsha Vidya Gurukulam\, 651 Route 115\, Saylorsburg\, PA\, 18353\, United States
ATTACH;FMTTYPE=image/jpeg:https://arshavidya.org/wp-content/uploads/Dakshinamurti_0498-web-scaled.jpg
GEO:40.8876814;-75.3129654
X-APPLE-STRUCTURED-LOCATION;VALUE=URI;X-ADDRESS=Arsha Vidya Gurukulam 651 Route 115 Saylorsburg PA 18353 United States;X-APPLE-RADIUS=500;X-TITLE=651 Route 115:geo:-75.3129654,40.8876814
END:VEVENT
BEGIN:VEVENT
DTSTART;TZID=America/New_York:20290807T051500
DTEND;TZID=America/New_York:20290807T053000
DTSTAMP:20260424T090227
CREATED:20250225T173252Z
LAST-MODIFIED:20250225T173252Z
UID:10008334-1880774100-1880775000@arshavidya.org
SUMMARY:Ganapati Homa (daily)
DESCRIPTION:In-Person Only \nLocated in the Homa Building across the road from the Dakshinamurti Temple. \nArsha Vidya Gurukulam\n651 Route 115\nSaylorsburg\, Pennsylvania
URL:https://arshavidya.org/event/ganapati-homa-daily/2029-08-07/
LOCATION:Arsha Vidya Gurukulam\, 651 Route 115\, Saylorsburg\, PA\, 18353\, United States
ATTACH;FMTTYPE=image/jpeg:https://arshavidya.org/wp-content/uploads/2018/07/lord-ganesha.jpg
GEO:40.8876814;-75.3129654
X-APPLE-STRUCTURED-LOCATION;VALUE=URI;X-ADDRESS=Arsha Vidya Gurukulam 651 Route 115 Saylorsburg PA 18353 United States;X-APPLE-RADIUS=500;X-TITLE=651 Route 115:geo:-75.3129654,40.8876814
END:VEVENT
BEGIN:VEVENT
DTSTART;TZID=America/New_York:20290807T054000
DTEND;TZID=America/New_York:20290807T070000
DTSTAMP:20260424T090227
CREATED:20250225T173826Z
LAST-MODIFIED:20250225T173826Z
UID:10010160-1880775600-1880780400@arshavidya.org
SUMMARY:Abhisheka to Lord Dakshinamurti (daily)
DESCRIPTION:In-Person and Online \nDakshinamurti Temple\nArsha Vidya Gurukulam\n651 Route 115\nSaylorsburg\, Pennsylvania \nView on YouTube
URL:https://arshavidya.org/event/abhisheka-to-lord-dakshinamurti-daily/2029-08-07/
LOCATION:Arsha Vidya Gurukulam\, 651 Route 115\, Saylorsburg\, PA\, 18353\, United States
CATEGORIES:Puja
ATTACH;FMTTYPE=image/png:https://arshavidya.org/wp-content/uploads/Dakshinamurti_2021_6.png
GEO:40.8876814;-75.3129654
X-APPLE-STRUCTURED-LOCATION;VALUE=URI;X-ADDRESS=Arsha Vidya Gurukulam 651 Route 115 Saylorsburg PA 18353 United States;X-APPLE-RADIUS=500;X-TITLE=651 Route 115:geo:-75.3129654,40.8876814
END:VEVENT
BEGIN:VEVENT
DTSTART;TZID=America/New_York:20290807T180000
DTEND;TZID=America/New_York:20290807T183000
DTSTAMP:20260424T090227
CREATED:20250225T174148Z
LAST-MODIFIED:20250826T200812Z
UID:10017838-1880820000-1880821800@arshavidya.org
SUMMARY:Evening Arati (daily)
DESCRIPTION:In-Person and Online \nDakshinamurti Temple\nArsha Vidya Gurukulam\n651 Route 115\nSaylorsburg\, Pennsylvania \nView on YouTube
URL:https://arshavidya.org/event/evening-arati-daily/2029-08-07/
LOCATION:Arsha Vidya Gurukulam\, 651 Route 115\, Saylorsburg\, PA\, 18353\, United States
ATTACH;FMTTYPE=image/jpeg:https://arshavidya.org/wp-content/uploads/Dakshinamurti_0498-web-scaled.jpg
GEO:40.8876814;-75.3129654
X-APPLE-STRUCTURED-LOCATION;VALUE=URI;X-ADDRESS=Arsha Vidya Gurukulam 651 Route 115 Saylorsburg PA 18353 United States;X-APPLE-RADIUS=500;X-TITLE=651 Route 115:geo:-75.3129654,40.8876814
END:VEVENT
BEGIN:VEVENT
DTSTART;TZID=America/New_York:20290808T051500
DTEND;TZID=America/New_York:20290808T053000
DTSTAMP:20260424T090227
CREATED:20250225T173252Z
LAST-MODIFIED:20250225T173252Z
UID:10008335-1880860500-1880861400@arshavidya.org
SUMMARY:Ganapati Homa (daily)
DESCRIPTION:In-Person Only \nLocated in the Homa Building across the road from the Dakshinamurti Temple. \nArsha Vidya Gurukulam\n651 Route 115\nSaylorsburg\, Pennsylvania
URL:https://arshavidya.org/event/ganapati-homa-daily/2029-08-08/
LOCATION:Arsha Vidya Gurukulam\, 651 Route 115\, Saylorsburg\, PA\, 18353\, United States
ATTACH;FMTTYPE=image/jpeg:https://arshavidya.org/wp-content/uploads/2018/07/lord-ganesha.jpg
GEO:40.8876814;-75.3129654
X-APPLE-STRUCTURED-LOCATION;VALUE=URI;X-ADDRESS=Arsha Vidya Gurukulam 651 Route 115 Saylorsburg PA 18353 United States;X-APPLE-RADIUS=500;X-TITLE=651 Route 115:geo:-75.3129654,40.8876814
END:VEVENT
BEGIN:VEVENT
DTSTART;TZID=America/New_York:20290808T054000
DTEND;TZID=America/New_York:20290808T070000
DTSTAMP:20260424T090227
CREATED:20250225T173826Z
LAST-MODIFIED:20250225T173826Z
UID:10010161-1880862000-1880866800@arshavidya.org
SUMMARY:Abhisheka to Lord Dakshinamurti (daily)
DESCRIPTION:In-Person and Online \nDakshinamurti Temple\nArsha Vidya Gurukulam\n651 Route 115\nSaylorsburg\, Pennsylvania \nView on YouTube
URL:https://arshavidya.org/event/abhisheka-to-lord-dakshinamurti-daily/2029-08-08/
LOCATION:Arsha Vidya Gurukulam\, 651 Route 115\, Saylorsburg\, PA\, 18353\, United States
CATEGORIES:Puja
ATTACH;FMTTYPE=image/png:https://arshavidya.org/wp-content/uploads/Dakshinamurti_2021_6.png
GEO:40.8876814;-75.3129654
X-APPLE-STRUCTURED-LOCATION;VALUE=URI;X-ADDRESS=Arsha Vidya Gurukulam 651 Route 115 Saylorsburg PA 18353 United States;X-APPLE-RADIUS=500;X-TITLE=651 Route 115:geo:-75.3129654,40.8876814
END:VEVENT
BEGIN:VEVENT
DTSTART;TZID=America/New_York:20290808T103000
DTEND;TZID=America/New_York:20290808T113000
DTSTAMP:20260424T090227
CREATED:20250525T012059Z
LAST-MODIFIED:20260422T233339Z
UID:10006476-1880879400-1880883000@arshavidya.org
SUMMARY:Mandukya Upanishad Karika with Swami Muktatmananda ONLINE ONLY
DESCRIPTION:ONLINE ONLY \nThese classes are resuming on April 29\, 2026 and thereafter ongoing every Monday/Wednesday/Friday at 10:30 am ET. \nMandukya Upanishad – Swami Nikhilananda \nMandukya Upanishad – Anandagiri Tika \nZOOM MEETING LINK \nDonation Link \n 
URL:https://arshavidya.org/event/muktatmananda-online-only/2029-08-08/
LOCATION:Online\, PA\, United States
CATEGORIES:Ongoing,Study Online
ATTACH;FMTTYPE=image/png:https://arshavidya.org/wp-content/uploads/SwM2021_Still3-1.png
END:VEVENT
BEGIN:VEVENT
DTSTART;TZID=America/New_York:20290808T180000
DTEND;TZID=America/New_York:20290808T183000
DTSTAMP:20260424T090227
CREATED:20250225T174148Z
LAST-MODIFIED:20250826T200812Z
UID:10017839-1880906400-1880908200@arshavidya.org
SUMMARY:Evening Arati (daily)
DESCRIPTION:In-Person and Online \nDakshinamurti Temple\nArsha Vidya Gurukulam\n651 Route 115\nSaylorsburg\, Pennsylvania \nView on YouTube
URL:https://arshavidya.org/event/evening-arati-daily/2029-08-08/
LOCATION:Arsha Vidya Gurukulam\, 651 Route 115\, Saylorsburg\, PA\, 18353\, United States
ATTACH;FMTTYPE=image/jpeg:https://arshavidya.org/wp-content/uploads/Dakshinamurti_0498-web-scaled.jpg
GEO:40.8876814;-75.3129654
X-APPLE-STRUCTURED-LOCATION;VALUE=URI;X-ADDRESS=Arsha Vidya Gurukulam 651 Route 115 Saylorsburg PA 18353 United States;X-APPLE-RADIUS=500;X-TITLE=651 Route 115:geo:-75.3129654,40.8876814
END:VEVENT
BEGIN:VEVENT
DTSTART;TZID=America/New_York:20290808T200000
DTEND;TZID=America/New_York:20290808T210000
DTSTAMP:20260424T090227
CREATED:20240710T194438Z
LAST-MODIFIED:20260423T011556Z
UID:10014194-1880913600-1880917200@arshavidya.org
SUMMARY:Shrimad Bhagavatam Study with Brhm. Pratyagatma Chaitanya ONLINE ONLY
DESCRIPTION:Online Only \nThis class is ongoing and takes place every Wednesday at 8:00 pm ET. \n\n\nTOPIC:\nShrimad Bhagavatam is a Mahapurana written by Sage Veda Vyasa. In these classes\, the text is studied verse by verse based on Shridhari tika. \n\n\nTEACHER:\nBrhm. Pratyagaatma Chaitanya \n\n\nTo join the Zoom meeting\, CLICK HERE \n \n\n\nZoom ID: 871 6283 5263 \, Passcode: 495411
URL:https://arshavidya.org/event/shrimad-bhagavatam-study-with-brhm-pratyagaatma-chaitanya-online-only/2029-08-08/
LOCATION:Arsha Vidya Gurukulam\, 651 Route 115\, Saylorsburg\, PA\, 18353\, United States
CATEGORIES:Recurring,Study Online
ATTACH;FMTTYPE=image/jpeg:https://arshavidya.org/wp-content/uploads/BrPratyagatma-e1751909652369.jpg
GEO:40.8876814;-75.3129654
X-APPLE-STRUCTURED-LOCATION;VALUE=URI;X-ADDRESS=Arsha Vidya Gurukulam 651 Route 115 Saylorsburg PA 18353 United States;X-APPLE-RADIUS=500;X-TITLE=651 Route 115:geo:-75.3129654,40.8876814
END:VEVENT
BEGIN:VEVENT
DTSTART;TZID=America/New_York:20290809T051500
DTEND;TZID=America/New_York:20290809T053000
DTSTAMP:20260424T090227
CREATED:20250225T173252Z
LAST-MODIFIED:20250225T173252Z
UID:10008336-1880946900-1880947800@arshavidya.org
SUMMARY:Ganapati Homa (daily)
DESCRIPTION:In-Person Only \nLocated in the Homa Building across the road from the Dakshinamurti Temple. \nArsha Vidya Gurukulam\n651 Route 115\nSaylorsburg\, Pennsylvania
URL:https://arshavidya.org/event/ganapati-homa-daily/2029-08-09/
LOCATION:Arsha Vidya Gurukulam\, 651 Route 115\, Saylorsburg\, PA\, 18353\, United States
ATTACH;FMTTYPE=image/jpeg:https://arshavidya.org/wp-content/uploads/2018/07/lord-ganesha.jpg
GEO:40.8876814;-75.3129654
X-APPLE-STRUCTURED-LOCATION;VALUE=URI;X-ADDRESS=Arsha Vidya Gurukulam 651 Route 115 Saylorsburg PA 18353 United States;X-APPLE-RADIUS=500;X-TITLE=651 Route 115:geo:-75.3129654,40.8876814
END:VEVENT
BEGIN:VEVENT
DTSTART;TZID=America/New_York:20290809T054000
DTEND;TZID=America/New_York:20290809T070000
DTSTAMP:20260424T090227
CREATED:20250225T173826Z
LAST-MODIFIED:20250225T173826Z
UID:10010162-1880948400-1880953200@arshavidya.org
SUMMARY:Abhisheka to Lord Dakshinamurti (daily)
DESCRIPTION:In-Person and Online \nDakshinamurti Temple\nArsha Vidya Gurukulam\n651 Route 115\nSaylorsburg\, Pennsylvania \nView on YouTube
URL:https://arshavidya.org/event/abhisheka-to-lord-dakshinamurti-daily/2029-08-09/
LOCATION:Arsha Vidya Gurukulam\, 651 Route 115\, Saylorsburg\, PA\, 18353\, United States
CATEGORIES:Puja
ATTACH;FMTTYPE=image/png:https://arshavidya.org/wp-content/uploads/Dakshinamurti_2021_6.png
GEO:40.8876814;-75.3129654
X-APPLE-STRUCTURED-LOCATION;VALUE=URI;X-ADDRESS=Arsha Vidya Gurukulam 651 Route 115 Saylorsburg PA 18353 United States;X-APPLE-RADIUS=500;X-TITLE=651 Route 115:geo:-75.3129654,40.8876814
END:VEVENT
BEGIN:VEVENT
DTSTART;TZID=America/New_York:20290809T180000
DTEND;TZID=America/New_York:20290809T183000
DTSTAMP:20260424T090227
CREATED:20250225T174148Z
LAST-MODIFIED:20250826T200812Z
UID:10017840-1880992800-1880994600@arshavidya.org
SUMMARY:Evening Arati (daily)
DESCRIPTION:In-Person and Online \nDakshinamurti Temple\nArsha Vidya Gurukulam\n651 Route 115\nSaylorsburg\, Pennsylvania \nView on YouTube
URL:https://arshavidya.org/event/evening-arati-daily/2029-08-09/
LOCATION:Arsha Vidya Gurukulam\, 651 Route 115\, Saylorsburg\, PA\, 18353\, United States
ATTACH;FMTTYPE=image/jpeg:https://arshavidya.org/wp-content/uploads/Dakshinamurti_0498-web-scaled.jpg
GEO:40.8876814;-75.3129654
X-APPLE-STRUCTURED-LOCATION;VALUE=URI;X-ADDRESS=Arsha Vidya Gurukulam 651 Route 115 Saylorsburg PA 18353 United States;X-APPLE-RADIUS=500;X-TITLE=651 Route 115:geo:-75.3129654,40.8876814
END:VEVENT
BEGIN:VEVENT
DTSTART;TZID=America/New_York:20290810T051500
DTEND;TZID=America/New_York:20290810T053000
DTSTAMP:20260424T090227
CREATED:20250225T173252Z
LAST-MODIFIED:20250225T173252Z
UID:10008337-1881033300-1881034200@arshavidya.org
SUMMARY:Ganapati Homa (daily)
DESCRIPTION:In-Person Only \nLocated in the Homa Building across the road from the Dakshinamurti Temple. \nArsha Vidya Gurukulam\n651 Route 115\nSaylorsburg\, Pennsylvania
URL:https://arshavidya.org/event/ganapati-homa-daily/2029-08-10/
LOCATION:Arsha Vidya Gurukulam\, 651 Route 115\, Saylorsburg\, PA\, 18353\, United States
ATTACH;FMTTYPE=image/jpeg:https://arshavidya.org/wp-content/uploads/2018/07/lord-ganesha.jpg
GEO:40.8876814;-75.3129654
X-APPLE-STRUCTURED-LOCATION;VALUE=URI;X-ADDRESS=Arsha Vidya Gurukulam 651 Route 115 Saylorsburg PA 18353 United States;X-APPLE-RADIUS=500;X-TITLE=651 Route 115:geo:-75.3129654,40.8876814
END:VEVENT
BEGIN:VEVENT
DTSTART;TZID=America/New_York:20290810T054000
DTEND;TZID=America/New_York:20290810T070000
DTSTAMP:20260424T090227
CREATED:20250225T173826Z
LAST-MODIFIED:20250225T173826Z
UID:10010163-1881034800-1881039600@arshavidya.org
SUMMARY:Abhisheka to Lord Dakshinamurti (daily)
DESCRIPTION:In-Person and Online \nDakshinamurti Temple\nArsha Vidya Gurukulam\n651 Route 115\nSaylorsburg\, Pennsylvania \nView on YouTube
URL:https://arshavidya.org/event/abhisheka-to-lord-dakshinamurti-daily/2029-08-10/
LOCATION:Arsha Vidya Gurukulam\, 651 Route 115\, Saylorsburg\, PA\, 18353\, United States
CATEGORIES:Puja
ATTACH;FMTTYPE=image/png:https://arshavidya.org/wp-content/uploads/Dakshinamurti_2021_6.png
GEO:40.8876814;-75.3129654
X-APPLE-STRUCTURED-LOCATION;VALUE=URI;X-ADDRESS=Arsha Vidya Gurukulam 651 Route 115 Saylorsburg PA 18353 United States;X-APPLE-RADIUS=500;X-TITLE=651 Route 115:geo:-75.3129654,40.8876814
END:VEVENT
BEGIN:VEVENT
DTSTART;TZID=America/New_York:20290810T103000
DTEND;TZID=America/New_York:20290810T113000
DTSTAMP:20260424T090227
CREATED:20250525T012059Z
LAST-MODIFIED:20260422T233339Z
UID:10006477-1881052200-1881055800@arshavidya.org
SUMMARY:Mandukya Upanishad Karika with Swami Muktatmananda ONLINE ONLY
DESCRIPTION:ONLINE ONLY \nThese classes are resuming on April 29\, 2026 and thereafter ongoing every Monday/Wednesday/Friday at 10:30 am ET. \nMandukya Upanishad – Swami Nikhilananda \nMandukya Upanishad – Anandagiri Tika \nZOOM MEETING LINK \nDonation Link \n 
URL:https://arshavidya.org/event/muktatmananda-online-only/2029-08-10/
LOCATION:Online\, PA\, United States
CATEGORIES:Ongoing,Study Online
ATTACH;FMTTYPE=image/png:https://arshavidya.org/wp-content/uploads/SwM2021_Still3-1.png
END:VEVENT
BEGIN:VEVENT
DTSTART;TZID=America/New_York:20290810T180000
DTEND;TZID=America/New_York:20290810T183000
DTSTAMP:20260424T090227
CREATED:20250225T174148Z
LAST-MODIFIED:20250826T200812Z
UID:10017841-1881079200-1881081000@arshavidya.org
SUMMARY:Evening Arati (daily)
DESCRIPTION:In-Person and Online \nDakshinamurti Temple\nArsha Vidya Gurukulam\n651 Route 115\nSaylorsburg\, Pennsylvania \nView on YouTube
URL:https://arshavidya.org/event/evening-arati-daily/2029-08-10/
LOCATION:Arsha Vidya Gurukulam\, 651 Route 115\, Saylorsburg\, PA\, 18353\, United States
ATTACH;FMTTYPE=image/jpeg:https://arshavidya.org/wp-content/uploads/Dakshinamurti_0498-web-scaled.jpg
GEO:40.8876814;-75.3129654
X-APPLE-STRUCTURED-LOCATION;VALUE=URI;X-ADDRESS=Arsha Vidya Gurukulam 651 Route 115 Saylorsburg PA 18353 United States;X-APPLE-RADIUS=500;X-TITLE=651 Route 115:geo:-75.3129654,40.8876814
END:VEVENT
BEGIN:VEVENT
DTSTART;TZID=America/New_York:20290811T051500
DTEND;TZID=America/New_York:20290811T053000
DTSTAMP:20260424T090227
CREATED:20250225T173252Z
LAST-MODIFIED:20250225T173252Z
UID:10008338-1881119700-1881120600@arshavidya.org
SUMMARY:Ganapati Homa (daily)
DESCRIPTION:In-Person Only \nLocated in the Homa Building across the road from the Dakshinamurti Temple. \nArsha Vidya Gurukulam\n651 Route 115\nSaylorsburg\, Pennsylvania
URL:https://arshavidya.org/event/ganapati-homa-daily/2029-08-11/
LOCATION:Arsha Vidya Gurukulam\, 651 Route 115\, Saylorsburg\, PA\, 18353\, United States
ATTACH;FMTTYPE=image/jpeg:https://arshavidya.org/wp-content/uploads/2018/07/lord-ganesha.jpg
GEO:40.8876814;-75.3129654
X-APPLE-STRUCTURED-LOCATION;VALUE=URI;X-ADDRESS=Arsha Vidya Gurukulam 651 Route 115 Saylorsburg PA 18353 United States;X-APPLE-RADIUS=500;X-TITLE=651 Route 115:geo:-75.3129654,40.8876814
END:VEVENT
BEGIN:VEVENT
DTSTART;TZID=America/New_York:20290811T054000
DTEND;TZID=America/New_York:20290811T070000
DTSTAMP:20260424T090227
CREATED:20250225T173826Z
LAST-MODIFIED:20250225T173826Z
UID:10010164-1881121200-1881126000@arshavidya.org
SUMMARY:Abhisheka to Lord Dakshinamurti (daily)
DESCRIPTION:In-Person and Online \nDakshinamurti Temple\nArsha Vidya Gurukulam\n651 Route 115\nSaylorsburg\, Pennsylvania \nView on YouTube
URL:https://arshavidya.org/event/abhisheka-to-lord-dakshinamurti-daily/2029-08-11/
LOCATION:Arsha Vidya Gurukulam\, 651 Route 115\, Saylorsburg\, PA\, 18353\, United States
CATEGORIES:Puja
ATTACH;FMTTYPE=image/png:https://arshavidya.org/wp-content/uploads/Dakshinamurti_2021_6.png
GEO:40.8876814;-75.3129654
X-APPLE-STRUCTURED-LOCATION;VALUE=URI;X-ADDRESS=Arsha Vidya Gurukulam 651 Route 115 Saylorsburg PA 18353 United States;X-APPLE-RADIUS=500;X-TITLE=651 Route 115:geo:-75.3129654,40.8876814
END:VEVENT
BEGIN:VEVENT
DTSTART;TZID=America/New_York:20290811T180000
DTEND;TZID=America/New_York:20290811T183000
DTSTAMP:20260424T090227
CREATED:20250225T174148Z
LAST-MODIFIED:20250826T200812Z
UID:10017842-1881165600-1881167400@arshavidya.org
SUMMARY:Evening Arati (daily)
DESCRIPTION:In-Person and Online \nDakshinamurti Temple\nArsha Vidya Gurukulam\n651 Route 115\nSaylorsburg\, Pennsylvania \nView on YouTube
URL:https://arshavidya.org/event/evening-arati-daily/2029-08-11/
LOCATION:Arsha Vidya Gurukulam\, 651 Route 115\, Saylorsburg\, PA\, 18353\, United States
ATTACH;FMTTYPE=image/jpeg:https://arshavidya.org/wp-content/uploads/Dakshinamurti_0498-web-scaled.jpg
GEO:40.8876814;-75.3129654
X-APPLE-STRUCTURED-LOCATION;VALUE=URI;X-ADDRESS=Arsha Vidya Gurukulam 651 Route 115 Saylorsburg PA 18353 United States;X-APPLE-RADIUS=500;X-TITLE=651 Route 115:geo:-75.3129654,40.8876814
END:VEVENT
BEGIN:VEVENT
DTSTART;TZID=America/New_York:20290812T051500
DTEND;TZID=America/New_York:20290812T053000
DTSTAMP:20260424T090227
CREATED:20250225T173252Z
LAST-MODIFIED:20250225T173252Z
UID:10008339-1881206100-1881207000@arshavidya.org
SUMMARY:Ganapati Homa (daily)
DESCRIPTION:In-Person Only \nLocated in the Homa Building across the road from the Dakshinamurti Temple. \nArsha Vidya Gurukulam\n651 Route 115\nSaylorsburg\, Pennsylvania
URL:https://arshavidya.org/event/ganapati-homa-daily/2029-08-12/
LOCATION:Arsha Vidya Gurukulam\, 651 Route 115\, Saylorsburg\, PA\, 18353\, United States
ATTACH;FMTTYPE=image/jpeg:https://arshavidya.org/wp-content/uploads/2018/07/lord-ganesha.jpg
GEO:40.8876814;-75.3129654
X-APPLE-STRUCTURED-LOCATION;VALUE=URI;X-ADDRESS=Arsha Vidya Gurukulam 651 Route 115 Saylorsburg PA 18353 United States;X-APPLE-RADIUS=500;X-TITLE=651 Route 115:geo:-75.3129654,40.8876814
END:VEVENT
BEGIN:VEVENT
DTSTART;TZID=America/New_York:20290812T054000
DTEND;TZID=America/New_York:20290812T070000
DTSTAMP:20260424T090227
CREATED:20250225T173826Z
LAST-MODIFIED:20250225T173826Z
UID:10010165-1881207600-1881212400@arshavidya.org
SUMMARY:Abhisheka to Lord Dakshinamurti (daily)
DESCRIPTION:In-Person and Online \nDakshinamurti Temple\nArsha Vidya Gurukulam\n651 Route 115\nSaylorsburg\, Pennsylvania \nView on YouTube
URL:https://arshavidya.org/event/abhisheka-to-lord-dakshinamurti-daily/2029-08-12/
LOCATION:Arsha Vidya Gurukulam\, 651 Route 115\, Saylorsburg\, PA\, 18353\, United States
CATEGORIES:Puja
ATTACH;FMTTYPE=image/png:https://arshavidya.org/wp-content/uploads/Dakshinamurti_2021_6.png
GEO:40.8876814;-75.3129654
X-APPLE-STRUCTURED-LOCATION;VALUE=URI;X-ADDRESS=Arsha Vidya Gurukulam 651 Route 115 Saylorsburg PA 18353 United States;X-APPLE-RADIUS=500;X-TITLE=651 Route 115:geo:-75.3129654,40.8876814
END:VEVENT
BEGIN:VEVENT
DTSTART;TZID=America/New_York:20290812T180000
DTEND;TZID=America/New_York:20290812T183000
DTSTAMP:20260424T090227
CREATED:20250225T174148Z
LAST-MODIFIED:20250826T200812Z
UID:10017843-1881252000-1881253800@arshavidya.org
SUMMARY:Evening Arati (daily)
DESCRIPTION:In-Person and Online \nDakshinamurti Temple\nArsha Vidya Gurukulam\n651 Route 115\nSaylorsburg\, Pennsylvania \nView on YouTube
URL:https://arshavidya.org/event/evening-arati-daily/2029-08-12/
LOCATION:Arsha Vidya Gurukulam\, 651 Route 115\, Saylorsburg\, PA\, 18353\, United States
ATTACH;FMTTYPE=image/jpeg:https://arshavidya.org/wp-content/uploads/Dakshinamurti_0498-web-scaled.jpg
GEO:40.8876814;-75.3129654
X-APPLE-STRUCTURED-LOCATION;VALUE=URI;X-ADDRESS=Arsha Vidya Gurukulam 651 Route 115 Saylorsburg PA 18353 United States;X-APPLE-RADIUS=500;X-TITLE=651 Route 115:geo:-75.3129654,40.8876814
END:VEVENT
END:VCALENDAR