BEGIN:VCALENDAR
VERSION:2.0
PRODID:-//Arsha Vidya Gurukulam - ECPv6.15.16//NONSGML v1.0//EN
CALSCALE:GREGORIAN
METHOD:PUBLISH
X-ORIGINAL-URL:https://arshavidya.org
X-WR-CALDESC:Events for Arsha Vidya Gurukulam
REFRESH-INTERVAL;VALUE=DURATION:PT1H
X-Robots-Tag:noindex
X-PUBLISHED-TTL:PT1H
BEGIN:VTIMEZONE
TZID:America/New_York
BEGIN:DAYLIGHT
TZOFFSETFROM:-0500
TZOFFSETTO:-0400
TZNAME:EDT
DTSTART:20280312T070000
END:DAYLIGHT
BEGIN:STANDARD
TZOFFSETFROM:-0400
TZOFFSETTO:-0500
TZNAME:EST
DTSTART:20281105T060000
END:STANDARD
BEGIN:DAYLIGHT
TZOFFSETFROM:-0500
TZOFFSETTO:-0400
TZNAME:EDT
DTSTART:20290311T070000
END:DAYLIGHT
BEGIN:STANDARD
TZOFFSETFROM:-0400
TZOFFSETTO:-0500
TZNAME:EST
DTSTART:20291104T060000
END:STANDARD
BEGIN:DAYLIGHT
TZOFFSETFROM:-0500
TZOFFSETTO:-0400
TZNAME:EDT
DTSTART:20300310T070000
END:DAYLIGHT
BEGIN:STANDARD
TZOFFSETFROM:-0400
TZOFFSETTO:-0500
TZNAME:EST
DTSTART:20301103T060000
END:STANDARD
END:VTIMEZONE
BEGIN:VEVENT
DTSTART;TZID=America/New_York:20291008T051500
DTEND;TZID=America/New_York:20291008T053000
DTSTAMP:20260424T033358
CREATED:20250225T173252Z
LAST-MODIFIED:20250225T173252Z
UID:10008396-1886130900-1886131800@arshavidya.org
SUMMARY:Ganapati Homa (daily)
DESCRIPTION:In-Person Only \nLocated in the Homa Building across the road from the Dakshinamurti Temple. \nArsha Vidya Gurukulam\n651 Route 115\nSaylorsburg\, Pennsylvania
URL:https://arshavidya.org/event/ganapati-homa-daily/2029-10-08/
LOCATION:Arsha Vidya Gurukulam\, 651 Route 115\, Saylorsburg\, PA\, 18353\, United States
ATTACH;FMTTYPE=image/jpeg:https://arshavidya.org/wp-content/uploads/2018/07/lord-ganesha.jpg
GEO:40.8876814;-75.3129654
X-APPLE-STRUCTURED-LOCATION;VALUE=URI;X-ADDRESS=Arsha Vidya Gurukulam 651 Route 115 Saylorsburg PA 18353 United States;X-APPLE-RADIUS=500;X-TITLE=651 Route 115:geo:-75.3129654,40.8876814
END:VEVENT
BEGIN:VEVENT
DTSTART;TZID=America/New_York:20291008T054000
DTEND;TZID=America/New_York:20291008T070000
DTSTAMP:20260424T033358
CREATED:20250225T173826Z
LAST-MODIFIED:20250225T173826Z
UID:10010222-1886132400-1886137200@arshavidya.org
SUMMARY:Abhisheka to Lord Dakshinamurti (daily)
DESCRIPTION:In-Person and Online \nDakshinamurti Temple\nArsha Vidya Gurukulam\n651 Route 115\nSaylorsburg\, Pennsylvania \nView on YouTube
URL:https://arshavidya.org/event/abhisheka-to-lord-dakshinamurti-daily/2029-10-08/
LOCATION:Arsha Vidya Gurukulam\, 651 Route 115\, Saylorsburg\, PA\, 18353\, United States
CATEGORIES:Puja
ATTACH;FMTTYPE=image/png:https://arshavidya.org/wp-content/uploads/Dakshinamurti_2021_6.png
GEO:40.8876814;-75.3129654
X-APPLE-STRUCTURED-LOCATION;VALUE=URI;X-ADDRESS=Arsha Vidya Gurukulam 651 Route 115 Saylorsburg PA 18353 United States;X-APPLE-RADIUS=500;X-TITLE=651 Route 115:geo:-75.3129654,40.8876814
END:VEVENT
BEGIN:VEVENT
DTSTART;TZID=America/New_York:20291008T103000
DTEND;TZID=America/New_York:20291008T113000
DTSTAMP:20260424T033358
CREATED:20250525T012059Z
LAST-MODIFIED:20260422T233339Z
UID:10006640-1886149800-1886153400@arshavidya.org
SUMMARY:Mandukya Upanishad Karika with Swami Muktatmananda ONLINE ONLY
DESCRIPTION:ONLINE ONLY \nThese classes are resuming on April 29\, 2026 and thereafter ongoing every Monday/Wednesday/Friday at 10:30 am ET. \nMandukya Upanishad – Swami Nikhilananda \nMandukya Upanishad – Anandagiri Tika \nZOOM MEETING LINK \nDonation Link \n 
URL:https://arshavidya.org/event/muktatmananda-online-only/2029-10-08/
LOCATION:Online\, PA\, United States
CATEGORIES:Ongoing,Study Online
ATTACH;FMTTYPE=image/png:https://arshavidya.org/wp-content/uploads/SwM2021_Still3-1.png
END:VEVENT
BEGIN:VEVENT
DTSTART;TZID=America/New_York:20291008T180000
DTEND;TZID=America/New_York:20291008T183000
DTSTAMP:20260424T033358
CREATED:20250225T174148Z
LAST-MODIFIED:20250826T200812Z
UID:10017900-1886176800-1886178600@arshavidya.org
SUMMARY:Evening Arati (daily)
DESCRIPTION:In-Person and Online \nDakshinamurti Temple\nArsha Vidya Gurukulam\n651 Route 115\nSaylorsburg\, Pennsylvania \nView on YouTube
URL:https://arshavidya.org/event/evening-arati-daily/2029-10-08/
LOCATION:Arsha Vidya Gurukulam\, 651 Route 115\, Saylorsburg\, PA\, 18353\, United States
ATTACH;FMTTYPE=image/jpeg:https://arshavidya.org/wp-content/uploads/Dakshinamurti_0498-web-scaled.jpg
GEO:40.8876814;-75.3129654
X-APPLE-STRUCTURED-LOCATION;VALUE=URI;X-ADDRESS=Arsha Vidya Gurukulam 651 Route 115 Saylorsburg PA 18353 United States;X-APPLE-RADIUS=500;X-TITLE=651 Route 115:geo:-75.3129654,40.8876814
END:VEVENT
BEGIN:VEVENT
DTSTART;TZID=America/New_York:20291009T051500
DTEND;TZID=America/New_York:20291009T053000
DTSTAMP:20260424T033358
CREATED:20250225T173252Z
LAST-MODIFIED:20250225T173252Z
UID:10008397-1886217300-1886218200@arshavidya.org
SUMMARY:Ganapati Homa (daily)
DESCRIPTION:In-Person Only \nLocated in the Homa Building across the road from the Dakshinamurti Temple. \nArsha Vidya Gurukulam\n651 Route 115\nSaylorsburg\, Pennsylvania
URL:https://arshavidya.org/event/ganapati-homa-daily/2029-10-09/
LOCATION:Arsha Vidya Gurukulam\, 651 Route 115\, Saylorsburg\, PA\, 18353\, United States
ATTACH;FMTTYPE=image/jpeg:https://arshavidya.org/wp-content/uploads/2018/07/lord-ganesha.jpg
GEO:40.8876814;-75.3129654
X-APPLE-STRUCTURED-LOCATION;VALUE=URI;X-ADDRESS=Arsha Vidya Gurukulam 651 Route 115 Saylorsburg PA 18353 United States;X-APPLE-RADIUS=500;X-TITLE=651 Route 115:geo:-75.3129654,40.8876814
END:VEVENT
BEGIN:VEVENT
DTSTART;TZID=America/New_York:20291009T054000
DTEND;TZID=America/New_York:20291009T070000
DTSTAMP:20260424T033358
CREATED:20250225T173826Z
LAST-MODIFIED:20250225T173826Z
UID:10010223-1886218800-1886223600@arshavidya.org
SUMMARY:Abhisheka to Lord Dakshinamurti (daily)
DESCRIPTION:In-Person and Online \nDakshinamurti Temple\nArsha Vidya Gurukulam\n651 Route 115\nSaylorsburg\, Pennsylvania \nView on YouTube
URL:https://arshavidya.org/event/abhisheka-to-lord-dakshinamurti-daily/2029-10-09/
LOCATION:Arsha Vidya Gurukulam\, 651 Route 115\, Saylorsburg\, PA\, 18353\, United States
CATEGORIES:Puja
ATTACH;FMTTYPE=image/png:https://arshavidya.org/wp-content/uploads/Dakshinamurti_2021_6.png
GEO:40.8876814;-75.3129654
X-APPLE-STRUCTURED-LOCATION;VALUE=URI;X-ADDRESS=Arsha Vidya Gurukulam 651 Route 115 Saylorsburg PA 18353 United States;X-APPLE-RADIUS=500;X-TITLE=651 Route 115:geo:-75.3129654,40.8876814
END:VEVENT
BEGIN:VEVENT
DTSTART;TZID=America/New_York:20291009T180000
DTEND;TZID=America/New_York:20291009T183000
DTSTAMP:20260424T033358
CREATED:20250225T174148Z
LAST-MODIFIED:20250826T200812Z
UID:10017901-1886263200-1886265000@arshavidya.org
SUMMARY:Evening Arati (daily)
DESCRIPTION:In-Person and Online \nDakshinamurti Temple\nArsha Vidya Gurukulam\n651 Route 115\nSaylorsburg\, Pennsylvania \nView on YouTube
URL:https://arshavidya.org/event/evening-arati-daily/2029-10-09/
LOCATION:Arsha Vidya Gurukulam\, 651 Route 115\, Saylorsburg\, PA\, 18353\, United States
ATTACH;FMTTYPE=image/jpeg:https://arshavidya.org/wp-content/uploads/Dakshinamurti_0498-web-scaled.jpg
GEO:40.8876814;-75.3129654
X-APPLE-STRUCTURED-LOCATION;VALUE=URI;X-ADDRESS=Arsha Vidya Gurukulam 651 Route 115 Saylorsburg PA 18353 United States;X-APPLE-RADIUS=500;X-TITLE=651 Route 115:geo:-75.3129654,40.8876814
END:VEVENT
BEGIN:VEVENT
DTSTART;TZID=America/New_York:20291010T051500
DTEND;TZID=America/New_York:20291010T053000
DTSTAMP:20260424T033358
CREATED:20250225T173252Z
LAST-MODIFIED:20250225T173252Z
UID:10008398-1886303700-1886304600@arshavidya.org
SUMMARY:Ganapati Homa (daily)
DESCRIPTION:In-Person Only \nLocated in the Homa Building across the road from the Dakshinamurti Temple. \nArsha Vidya Gurukulam\n651 Route 115\nSaylorsburg\, Pennsylvania
URL:https://arshavidya.org/event/ganapati-homa-daily/2029-10-10/
LOCATION:Arsha Vidya Gurukulam\, 651 Route 115\, Saylorsburg\, PA\, 18353\, United States
ATTACH;FMTTYPE=image/jpeg:https://arshavidya.org/wp-content/uploads/2018/07/lord-ganesha.jpg
GEO:40.8876814;-75.3129654
X-APPLE-STRUCTURED-LOCATION;VALUE=URI;X-ADDRESS=Arsha Vidya Gurukulam 651 Route 115 Saylorsburg PA 18353 United States;X-APPLE-RADIUS=500;X-TITLE=651 Route 115:geo:-75.3129654,40.8876814
END:VEVENT
BEGIN:VEVENT
DTSTART;TZID=America/New_York:20291010T054000
DTEND;TZID=America/New_York:20291010T070000
DTSTAMP:20260424T033358
CREATED:20250225T173826Z
LAST-MODIFIED:20250225T173826Z
UID:10010224-1886305200-1886310000@arshavidya.org
SUMMARY:Abhisheka to Lord Dakshinamurti (daily)
DESCRIPTION:In-Person and Online \nDakshinamurti Temple\nArsha Vidya Gurukulam\n651 Route 115\nSaylorsburg\, Pennsylvania \nView on YouTube
URL:https://arshavidya.org/event/abhisheka-to-lord-dakshinamurti-daily/2029-10-10/
LOCATION:Arsha Vidya Gurukulam\, 651 Route 115\, Saylorsburg\, PA\, 18353\, United States
CATEGORIES:Puja
ATTACH;FMTTYPE=image/png:https://arshavidya.org/wp-content/uploads/Dakshinamurti_2021_6.png
GEO:40.8876814;-75.3129654
X-APPLE-STRUCTURED-LOCATION;VALUE=URI;X-ADDRESS=Arsha Vidya Gurukulam 651 Route 115 Saylorsburg PA 18353 United States;X-APPLE-RADIUS=500;X-TITLE=651 Route 115:geo:-75.3129654,40.8876814
END:VEVENT
BEGIN:VEVENT
DTSTART;TZID=America/New_York:20291010T103000
DTEND;TZID=America/New_York:20291010T113000
DTSTAMP:20260424T033358
CREATED:20250525T012059Z
LAST-MODIFIED:20260422T233339Z
UID:10006641-1886322600-1886326200@arshavidya.org
SUMMARY:Mandukya Upanishad Karika with Swami Muktatmananda ONLINE ONLY
DESCRIPTION:ONLINE ONLY \nThese classes are resuming on April 29\, 2026 and thereafter ongoing every Monday/Wednesday/Friday at 10:30 am ET. \nMandukya Upanishad – Swami Nikhilananda \nMandukya Upanishad – Anandagiri Tika \nZOOM MEETING LINK \nDonation Link \n 
URL:https://arshavidya.org/event/muktatmananda-online-only/2029-10-10/
LOCATION:Online\, PA\, United States
CATEGORIES:Ongoing,Study Online
ATTACH;FMTTYPE=image/png:https://arshavidya.org/wp-content/uploads/SwM2021_Still3-1.png
END:VEVENT
BEGIN:VEVENT
DTSTART;TZID=America/New_York:20291010T180000
DTEND;TZID=America/New_York:20291010T183000
DTSTAMP:20260424T033358
CREATED:20250225T174148Z
LAST-MODIFIED:20250826T200812Z
UID:10017902-1886349600-1886351400@arshavidya.org
SUMMARY:Evening Arati (daily)
DESCRIPTION:In-Person and Online \nDakshinamurti Temple\nArsha Vidya Gurukulam\n651 Route 115\nSaylorsburg\, Pennsylvania \nView on YouTube
URL:https://arshavidya.org/event/evening-arati-daily/2029-10-10/
LOCATION:Arsha Vidya Gurukulam\, 651 Route 115\, Saylorsburg\, PA\, 18353\, United States
ATTACH;FMTTYPE=image/jpeg:https://arshavidya.org/wp-content/uploads/Dakshinamurti_0498-web-scaled.jpg
GEO:40.8876814;-75.3129654
X-APPLE-STRUCTURED-LOCATION;VALUE=URI;X-ADDRESS=Arsha Vidya Gurukulam 651 Route 115 Saylorsburg PA 18353 United States;X-APPLE-RADIUS=500;X-TITLE=651 Route 115:geo:-75.3129654,40.8876814
END:VEVENT
BEGIN:VEVENT
DTSTART;TZID=America/New_York:20291010T200000
DTEND;TZID=America/New_York:20291010T210000
DTSTAMP:20260424T033358
CREATED:20240710T194438Z
LAST-MODIFIED:20260423T011556Z
UID:10014203-1886356800-1886360400@arshavidya.org
SUMMARY:Shrimad Bhagavatam Study with Brhm. Pratyagatma Chaitanya ONLINE ONLY
DESCRIPTION:Online Only \nThis class is ongoing and takes place every Wednesday at 8:00 pm ET. \n\n\nTOPIC:\nShrimad Bhagavatam is a Mahapurana written by Sage Veda Vyasa. In these classes\, the text is studied verse by verse based on Shridhari tika. \n\n\nTEACHER:\nBrhm. Pratyagaatma Chaitanya \n\n\nTo join the Zoom meeting\, CLICK HERE \n \n\n\nZoom ID: 871 6283 5263 \, Passcode: 495411
URL:https://arshavidya.org/event/shrimad-bhagavatam-study-with-brhm-pratyagaatma-chaitanya-online-only/2029-10-10/
LOCATION:Arsha Vidya Gurukulam\, 651 Route 115\, Saylorsburg\, PA\, 18353\, United States
CATEGORIES:Recurring,Study Online
ATTACH;FMTTYPE=image/jpeg:https://arshavidya.org/wp-content/uploads/BrPratyagatma-e1751909652369.jpg
GEO:40.8876814;-75.3129654
X-APPLE-STRUCTURED-LOCATION;VALUE=URI;X-ADDRESS=Arsha Vidya Gurukulam 651 Route 115 Saylorsburg PA 18353 United States;X-APPLE-RADIUS=500;X-TITLE=651 Route 115:geo:-75.3129654,40.8876814
END:VEVENT
BEGIN:VEVENT
DTSTART;TZID=America/New_York:20291011T051500
DTEND;TZID=America/New_York:20291011T053000
DTSTAMP:20260424T033358
CREATED:20250225T173252Z
LAST-MODIFIED:20250225T173252Z
UID:10008399-1886390100-1886391000@arshavidya.org
SUMMARY:Ganapati Homa (daily)
DESCRIPTION:In-Person Only \nLocated in the Homa Building across the road from the Dakshinamurti Temple. \nArsha Vidya Gurukulam\n651 Route 115\nSaylorsburg\, Pennsylvania
URL:https://arshavidya.org/event/ganapati-homa-daily/2029-10-11/
LOCATION:Arsha Vidya Gurukulam\, 651 Route 115\, Saylorsburg\, PA\, 18353\, United States
ATTACH;FMTTYPE=image/jpeg:https://arshavidya.org/wp-content/uploads/2018/07/lord-ganesha.jpg
GEO:40.8876814;-75.3129654
X-APPLE-STRUCTURED-LOCATION;VALUE=URI;X-ADDRESS=Arsha Vidya Gurukulam 651 Route 115 Saylorsburg PA 18353 United States;X-APPLE-RADIUS=500;X-TITLE=651 Route 115:geo:-75.3129654,40.8876814
END:VEVENT
BEGIN:VEVENT
DTSTART;TZID=America/New_York:20291011T054000
DTEND;TZID=America/New_York:20291011T070000
DTSTAMP:20260424T033358
CREATED:20250225T173826Z
LAST-MODIFIED:20250225T173826Z
UID:10010225-1886391600-1886396400@arshavidya.org
SUMMARY:Abhisheka to Lord Dakshinamurti (daily)
DESCRIPTION:In-Person and Online \nDakshinamurti Temple\nArsha Vidya Gurukulam\n651 Route 115\nSaylorsburg\, Pennsylvania \nView on YouTube
URL:https://arshavidya.org/event/abhisheka-to-lord-dakshinamurti-daily/2029-10-11/
LOCATION:Arsha Vidya Gurukulam\, 651 Route 115\, Saylorsburg\, PA\, 18353\, United States
CATEGORIES:Puja
ATTACH;FMTTYPE=image/png:https://arshavidya.org/wp-content/uploads/Dakshinamurti_2021_6.png
GEO:40.8876814;-75.3129654
X-APPLE-STRUCTURED-LOCATION;VALUE=URI;X-ADDRESS=Arsha Vidya Gurukulam 651 Route 115 Saylorsburg PA 18353 United States;X-APPLE-RADIUS=500;X-TITLE=651 Route 115:geo:-75.3129654,40.8876814
END:VEVENT
BEGIN:VEVENT
DTSTART;TZID=America/New_York:20291011T180000
DTEND;TZID=America/New_York:20291011T183000
DTSTAMP:20260424T033358
CREATED:20250225T174148Z
LAST-MODIFIED:20250826T200812Z
UID:10017903-1886436000-1886437800@arshavidya.org
SUMMARY:Evening Arati (daily)
DESCRIPTION:In-Person and Online \nDakshinamurti Temple\nArsha Vidya Gurukulam\n651 Route 115\nSaylorsburg\, Pennsylvania \nView on YouTube
URL:https://arshavidya.org/event/evening-arati-daily/2029-10-11/
LOCATION:Arsha Vidya Gurukulam\, 651 Route 115\, Saylorsburg\, PA\, 18353\, United States
ATTACH;FMTTYPE=image/jpeg:https://arshavidya.org/wp-content/uploads/Dakshinamurti_0498-web-scaled.jpg
GEO:40.8876814;-75.3129654
X-APPLE-STRUCTURED-LOCATION;VALUE=URI;X-ADDRESS=Arsha Vidya Gurukulam 651 Route 115 Saylorsburg PA 18353 United States;X-APPLE-RADIUS=500;X-TITLE=651 Route 115:geo:-75.3129654,40.8876814
END:VEVENT
BEGIN:VEVENT
DTSTART;TZID=America/New_York:20291012T051500
DTEND;TZID=America/New_York:20291012T053000
DTSTAMP:20260424T033358
CREATED:20250225T173252Z
LAST-MODIFIED:20250225T173252Z
UID:10008400-1886476500-1886477400@arshavidya.org
SUMMARY:Ganapati Homa (daily)
DESCRIPTION:In-Person Only \nLocated in the Homa Building across the road from the Dakshinamurti Temple. \nArsha Vidya Gurukulam\n651 Route 115\nSaylorsburg\, Pennsylvania
URL:https://arshavidya.org/event/ganapati-homa-daily/2029-10-12/
LOCATION:Arsha Vidya Gurukulam\, 651 Route 115\, Saylorsburg\, PA\, 18353\, United States
ATTACH;FMTTYPE=image/jpeg:https://arshavidya.org/wp-content/uploads/2018/07/lord-ganesha.jpg
GEO:40.8876814;-75.3129654
X-APPLE-STRUCTURED-LOCATION;VALUE=URI;X-ADDRESS=Arsha Vidya Gurukulam 651 Route 115 Saylorsburg PA 18353 United States;X-APPLE-RADIUS=500;X-TITLE=651 Route 115:geo:-75.3129654,40.8876814
END:VEVENT
BEGIN:VEVENT
DTSTART;TZID=America/New_York:20291012T054000
DTEND;TZID=America/New_York:20291012T070000
DTSTAMP:20260424T033358
CREATED:20250225T173826Z
LAST-MODIFIED:20250225T173826Z
UID:10010226-1886478000-1886482800@arshavidya.org
SUMMARY:Abhisheka to Lord Dakshinamurti (daily)
DESCRIPTION:In-Person and Online \nDakshinamurti Temple\nArsha Vidya Gurukulam\n651 Route 115\nSaylorsburg\, Pennsylvania \nView on YouTube
URL:https://arshavidya.org/event/abhisheka-to-lord-dakshinamurti-daily/2029-10-12/
LOCATION:Arsha Vidya Gurukulam\, 651 Route 115\, Saylorsburg\, PA\, 18353\, United States
CATEGORIES:Puja
ATTACH;FMTTYPE=image/png:https://arshavidya.org/wp-content/uploads/Dakshinamurti_2021_6.png
GEO:40.8876814;-75.3129654
X-APPLE-STRUCTURED-LOCATION;VALUE=URI;X-ADDRESS=Arsha Vidya Gurukulam 651 Route 115 Saylorsburg PA 18353 United States;X-APPLE-RADIUS=500;X-TITLE=651 Route 115:geo:-75.3129654,40.8876814
END:VEVENT
BEGIN:VEVENT
DTSTART;TZID=America/New_York:20291012T103000
DTEND;TZID=America/New_York:20291012T113000
DTSTAMP:20260424T033358
CREATED:20250525T012059Z
LAST-MODIFIED:20260422T233339Z
UID:10006642-1886495400-1886499000@arshavidya.org
SUMMARY:Mandukya Upanishad Karika with Swami Muktatmananda ONLINE ONLY
DESCRIPTION:ONLINE ONLY \nThese classes are resuming on April 29\, 2026 and thereafter ongoing every Monday/Wednesday/Friday at 10:30 am ET. \nMandukya Upanishad – Swami Nikhilananda \nMandukya Upanishad – Anandagiri Tika \nZOOM MEETING LINK \nDonation Link \n 
URL:https://arshavidya.org/event/muktatmananda-online-only/2029-10-12/
LOCATION:Online\, PA\, United States
CATEGORIES:Ongoing,Study Online
ATTACH;FMTTYPE=image/png:https://arshavidya.org/wp-content/uploads/SwM2021_Still3-1.png
END:VEVENT
BEGIN:VEVENT
DTSTART;TZID=America/New_York:20291012T180000
DTEND;TZID=America/New_York:20291012T183000
DTSTAMP:20260424T033358
CREATED:20250225T174148Z
LAST-MODIFIED:20250826T200812Z
UID:10017904-1886522400-1886524200@arshavidya.org
SUMMARY:Evening Arati (daily)
DESCRIPTION:In-Person and Online \nDakshinamurti Temple\nArsha Vidya Gurukulam\n651 Route 115\nSaylorsburg\, Pennsylvania \nView on YouTube
URL:https://arshavidya.org/event/evening-arati-daily/2029-10-12/
LOCATION:Arsha Vidya Gurukulam\, 651 Route 115\, Saylorsburg\, PA\, 18353\, United States
ATTACH;FMTTYPE=image/jpeg:https://arshavidya.org/wp-content/uploads/Dakshinamurti_0498-web-scaled.jpg
GEO:40.8876814;-75.3129654
X-APPLE-STRUCTURED-LOCATION;VALUE=URI;X-ADDRESS=Arsha Vidya Gurukulam 651 Route 115 Saylorsburg PA 18353 United States;X-APPLE-RADIUS=500;X-TITLE=651 Route 115:geo:-75.3129654,40.8876814
END:VEVENT
BEGIN:VEVENT
DTSTART;TZID=America/New_York:20291013T051500
DTEND;TZID=America/New_York:20291013T053000
DTSTAMP:20260424T033358
CREATED:20250225T173252Z
LAST-MODIFIED:20250225T173252Z
UID:10008401-1886562900-1886563800@arshavidya.org
SUMMARY:Ganapati Homa (daily)
DESCRIPTION:In-Person Only \nLocated in the Homa Building across the road from the Dakshinamurti Temple. \nArsha Vidya Gurukulam\n651 Route 115\nSaylorsburg\, Pennsylvania
URL:https://arshavidya.org/event/ganapati-homa-daily/2029-10-13/
LOCATION:Arsha Vidya Gurukulam\, 651 Route 115\, Saylorsburg\, PA\, 18353\, United States
ATTACH;FMTTYPE=image/jpeg:https://arshavidya.org/wp-content/uploads/2018/07/lord-ganesha.jpg
GEO:40.8876814;-75.3129654
X-APPLE-STRUCTURED-LOCATION;VALUE=URI;X-ADDRESS=Arsha Vidya Gurukulam 651 Route 115 Saylorsburg PA 18353 United States;X-APPLE-RADIUS=500;X-TITLE=651 Route 115:geo:-75.3129654,40.8876814
END:VEVENT
BEGIN:VEVENT
DTSTART;TZID=America/New_York:20291013T054000
DTEND;TZID=America/New_York:20291013T070000
DTSTAMP:20260424T033358
CREATED:20250225T173826Z
LAST-MODIFIED:20250225T173826Z
UID:10010227-1886564400-1886569200@arshavidya.org
SUMMARY:Abhisheka to Lord Dakshinamurti (daily)
DESCRIPTION:In-Person and Online \nDakshinamurti Temple\nArsha Vidya Gurukulam\n651 Route 115\nSaylorsburg\, Pennsylvania \nView on YouTube
URL:https://arshavidya.org/event/abhisheka-to-lord-dakshinamurti-daily/2029-10-13/
LOCATION:Arsha Vidya Gurukulam\, 651 Route 115\, Saylorsburg\, PA\, 18353\, United States
CATEGORIES:Puja
ATTACH;FMTTYPE=image/png:https://arshavidya.org/wp-content/uploads/Dakshinamurti_2021_6.png
GEO:40.8876814;-75.3129654
X-APPLE-STRUCTURED-LOCATION;VALUE=URI;X-ADDRESS=Arsha Vidya Gurukulam 651 Route 115 Saylorsburg PA 18353 United States;X-APPLE-RADIUS=500;X-TITLE=651 Route 115:geo:-75.3129654,40.8876814
END:VEVENT
BEGIN:VEVENT
DTSTART;TZID=America/New_York:20291013T180000
DTEND;TZID=America/New_York:20291013T183000
DTSTAMP:20260424T033358
CREATED:20250225T174148Z
LAST-MODIFIED:20250826T200812Z
UID:10017905-1886608800-1886610600@arshavidya.org
SUMMARY:Evening Arati (daily)
DESCRIPTION:In-Person and Online \nDakshinamurti Temple\nArsha Vidya Gurukulam\n651 Route 115\nSaylorsburg\, Pennsylvania \nView on YouTube
URL:https://arshavidya.org/event/evening-arati-daily/2029-10-13/
LOCATION:Arsha Vidya Gurukulam\, 651 Route 115\, Saylorsburg\, PA\, 18353\, United States
ATTACH;FMTTYPE=image/jpeg:https://arshavidya.org/wp-content/uploads/Dakshinamurti_0498-web-scaled.jpg
GEO:40.8876814;-75.3129654
X-APPLE-STRUCTURED-LOCATION;VALUE=URI;X-ADDRESS=Arsha Vidya Gurukulam 651 Route 115 Saylorsburg PA 18353 United States;X-APPLE-RADIUS=500;X-TITLE=651 Route 115:geo:-75.3129654,40.8876814
END:VEVENT
BEGIN:VEVENT
DTSTART;TZID=America/New_York:20291014T051500
DTEND;TZID=America/New_York:20291014T053000
DTSTAMP:20260424T033358
CREATED:20250225T173252Z
LAST-MODIFIED:20250225T173252Z
UID:10008402-1886649300-1886650200@arshavidya.org
SUMMARY:Ganapati Homa (daily)
DESCRIPTION:In-Person Only \nLocated in the Homa Building across the road from the Dakshinamurti Temple. \nArsha Vidya Gurukulam\n651 Route 115\nSaylorsburg\, Pennsylvania
URL:https://arshavidya.org/event/ganapati-homa-daily/2029-10-14/
LOCATION:Arsha Vidya Gurukulam\, 651 Route 115\, Saylorsburg\, PA\, 18353\, United States
ATTACH;FMTTYPE=image/jpeg:https://arshavidya.org/wp-content/uploads/2018/07/lord-ganesha.jpg
GEO:40.8876814;-75.3129654
X-APPLE-STRUCTURED-LOCATION;VALUE=URI;X-ADDRESS=Arsha Vidya Gurukulam 651 Route 115 Saylorsburg PA 18353 United States;X-APPLE-RADIUS=500;X-TITLE=651 Route 115:geo:-75.3129654,40.8876814
END:VEVENT
BEGIN:VEVENT
DTSTART;TZID=America/New_York:20291014T054000
DTEND;TZID=America/New_York:20291014T070000
DTSTAMP:20260424T033358
CREATED:20250225T173826Z
LAST-MODIFIED:20250225T173826Z
UID:10010228-1886650800-1886655600@arshavidya.org
SUMMARY:Abhisheka to Lord Dakshinamurti (daily)
DESCRIPTION:In-Person and Online \nDakshinamurti Temple\nArsha Vidya Gurukulam\n651 Route 115\nSaylorsburg\, Pennsylvania \nView on YouTube
URL:https://arshavidya.org/event/abhisheka-to-lord-dakshinamurti-daily/2029-10-14/
LOCATION:Arsha Vidya Gurukulam\, 651 Route 115\, Saylorsburg\, PA\, 18353\, United States
CATEGORIES:Puja
ATTACH;FMTTYPE=image/png:https://arshavidya.org/wp-content/uploads/Dakshinamurti_2021_6.png
GEO:40.8876814;-75.3129654
X-APPLE-STRUCTURED-LOCATION;VALUE=URI;X-ADDRESS=Arsha Vidya Gurukulam 651 Route 115 Saylorsburg PA 18353 United States;X-APPLE-RADIUS=500;X-TITLE=651 Route 115:geo:-75.3129654,40.8876814
END:VEVENT
BEGIN:VEVENT
DTSTART;TZID=America/New_York:20291014T180000
DTEND;TZID=America/New_York:20291014T183000
DTSTAMP:20260424T033358
CREATED:20250225T174148Z
LAST-MODIFIED:20250826T200812Z
UID:10017906-1886695200-1886697000@arshavidya.org
SUMMARY:Evening Arati (daily)
DESCRIPTION:In-Person and Online \nDakshinamurti Temple\nArsha Vidya Gurukulam\n651 Route 115\nSaylorsburg\, Pennsylvania \nView on YouTube
URL:https://arshavidya.org/event/evening-arati-daily/2029-10-14/
LOCATION:Arsha Vidya Gurukulam\, 651 Route 115\, Saylorsburg\, PA\, 18353\, United States
ATTACH;FMTTYPE=image/jpeg:https://arshavidya.org/wp-content/uploads/Dakshinamurti_0498-web-scaled.jpg
GEO:40.8876814;-75.3129654
X-APPLE-STRUCTURED-LOCATION;VALUE=URI;X-ADDRESS=Arsha Vidya Gurukulam 651 Route 115 Saylorsburg PA 18353 United States;X-APPLE-RADIUS=500;X-TITLE=651 Route 115:geo:-75.3129654,40.8876814
END:VEVENT
END:VCALENDAR